{"text_format":"3","workbook":"xlsx","n_sheets":1,"sheets":["Sheet1"],"not_rendered":{"external_links":1},"read":"whole","date_system":"1900"}

{"sheet":"Sheet1","index":0,"n_rows":412,"n_cols":7,"rows_kept":412,"merged":[[0,0,0,6],[411,0,411,2]]}
["基准日：2025年10月10日                                                                                          单位：万元"]
["序号","地区","户名","债权本金（万元）","利息","保证人","抵押物"]
[{"$f":"[1]债权基本情况!A2","v":1},"南通",{"$f":"[1]债权基本情况!C2","v":"如皋新丝路茧丝绸有限公司"},{"$f":"[1]债权基本情况!D2","v":{"v":999.848806,"d":"999.85"}},{"$f":"[1]债权基本情况!E2","v":{"v":602.84843,"d":"602.85"}},"周家华、邵斌","（1）如皋新丝路茧丝绸有限公司名下位于柴湾镇柴湾村一组1幢-4幢商业房地产，建筑面积合计为1633.80㎡，土地面积2880.00㎡                                                                                                   （已成交）\n （2）如皋新丝路茧丝绸有限公司名下位于如皋市柴湾镇双龙村九组及九组1-5幢商业房地产，建筑面积合计为1529.46㎡，土地面积3271.50㎡                                                                                                                                        （3）如皋新丝路茧丝绸有限公司名下位于如皋市搬经镇加力村一组1-4幢商业房地产，建筑面积合计为1427.28㎡，土地面积1313.40㎡                                                                                                                                （已成交）\n（4）如皋新丝路茧丝绸有限公司名下位于如皋市搬经镇原夏堡乡龙桥村十七组1-7幢仓储房地产，建筑面积合计为2325.36㎡，土地面积2918.60㎡                                                                                                                                   （已成交）\n （5）如皋新丝路茧丝绸有限公司名下位于如皋市吴窑镇钱庄村二组、四组1-8幢仓储房地产，建筑面积合计为2017.07㎡，土地面积3361.90㎡                                                                                                                            （已成交）\n（6）如皋新丝路茧丝绸有限公司名下位于如皋市吴窑镇吴窑居委会6组1-6幢商业房地产，建筑面积合计为2239.86㎡，土地面积3191.50㎡                                                                                                                       （已成交） \n（7）如皋新丝路茧丝绸有限公司名下位于如皋市石庄镇原石北乡集镇区1-6幢商业房地产，建筑面积合计为1798.89㎡，土地面积2933.00㎡                                                                                                                                                                                                                                                                   （已成交）\n （8）如皋新丝路茧丝绸有限公司名下位于如皋市丁堰镇“七一”桥东1-6幢商业房地产，建筑面积合计为1172.23㎡，土地面积2152.90㎡                                                                                                                                  （已成交）\n （9）如皋新丝路茧丝绸有限公司名下位于如皋市高明镇高明村二十四组1-8幢商业房地产，建筑面积合计为1339.42㎡，土地面积1827.00㎡                                                                                                                                         （10）如皋新丝路茧丝绸有限公司名下位于如皋市袁桥镇何庄村20组1-5幢商业房地产，建筑面积合计为858.47㎡，土地面积2542.00㎡                                                                                                                                                                                                                                                                                                                                                             （11）如皋新丝路茧丝绸有限公司名下位于如皋市磨头镇新港村1-9幢商业房地产，建筑面积合计为2249.20㎡，土地面积3397.00㎡                                                                                                          （已成交）\n （12）如皋新丝路茧丝绸有限公司名下位于如皋市郭园镇薛尧居委会1-4幢商业房地产，建筑面积合计为1193.15㎡，土地面积2481.00㎡                                                                                                                                 （已成交）\n （13）如皋新丝路茧丝绸有限公司名下位于如皋市桃园镇鹊桥村6组1-2幢商业房地产，建筑面积合计为2163.20㎡，土地面积2179.60㎡                                                                                                                                         （已成交）\n （14）如皋新丝路茧丝绸有限公司名下位于如皋市如城镇老南村五组1-6幢商业房地产，建筑面积合计为893.26㎡，土地面积1893.00㎡                                                                                                          （已成交）"]
[{"$f":"[1]债权基本情况!A3","v":2},"徐州",{"$f":"[1]债权基本情况!C3","v":"徐州市国美家用电器有限公司"},{"$f":"[1]债权基本情况!D3","v":{"v":1994.303962,"d":"1994.30"}},{"$f":"[1]债权基本情况!E3","v":{"v":602.9795461897,"d":"602.98"}},"国美电器有限公司","北京鹏泽物业有限公司名下商铺，位于福建省福州市晋安区茶园街道华林路366号隆盛小区1号楼A区、B区连体1层06、07店面、2层01-14室。建筑面积合计2227.83平方米，共有宗地面积2104.71平方米，用途为商业、办公用地，类型为出让。"]
[{"$f":"[1]债权基本情况!A4","v":3},"扬州",{"$f":"[1]债权基本情况!C4","v":"明岐铝轮毂仪征有限公司"},{"$f":"[1]债权基本情况!D4","v":{"v":6499.998898,"d":"6500.00"}},{"$f":"[1]债权基本情况!E4","v":{"v":4195.918175,"d":"4195.92"}},"上海明岐铝业有限公司、上海明岐铜业有限公司、张明岐、胡艳青","1、张明岐名下位于上海浦东新区向城路15号8E室的住宅，房产建筑面积138.48㎡；\n2、张明岐名下位于上海浦东新区向城路15号8D室的住宅，房产建筑面积157.15㎡。"]
[{"$f":"[1]债权基本情况!A5","v":4},"南通",{"$f":"[1]债权基本情况!C5","v":"康博达建设科技集团有限公司"},{"$f":"[1]债权基本情况!D5","v":{"v":3140,"d":"3140.00"}},{"$f":"[1]债权基本情况!E5","v":{"v":252.092896080063,"d":"252.09"}},"顾佩菊,徐善兰,周柄高,南通三建控股有限公司,周建高、南通华硕建筑发展有限公司","债务人名下位于海门市悦来镇新城西路69号的工业用房及土地抵押担保（建筑面积21138.79平方米，土地面积27277㎡）"]
[{"$f":"[1]债权基本情况!A6","v":5},"南京",{"$f":"[1]债权基本情况!C6","v":"中雅智能科技江苏有限公司"},{"$f":"[1]债权基本情况!D6","v":{"v":1900,"d":"1900.00"}},{"$f":"[1]债权基本情况!E6","v":{"v":563.911045026263,"d":"563.91"}},"保证人:江苏中豪佳园控股集团有限公司、江苏运河文化创意园发展有限公司、王立侠、刘廉成、刘博雅、刘卫高、刘文玲"]
[{"$f":"[1]债权基本情况!A7","v":6},"南京",{"$f":"[1]债权基本情况!C7","v":"天盛控股集团有限公司"},{"$f":"[1]债权基本情况!D7","v":{"v":5000,"d":"5000.00"}},{"$f":"[1]债权基本情况!E7","v":{"v":1904.1693509375,"d":"1904.17"}},"林德叶、陈正飞.\n林波、姚巧莹。","抵押物为林德叶、陈正飞名下位于南京市秦淮区建康路259号、263号商业房地产，建筑面积1674.87m’，权利价值5000万元。"]
[{"$f":"[1]债权基本情况!A8","v":7},"苏州",{"$f":"[1]债权基本情况!C8","v":"昆山艾蓓蓓阀门有限公司"},{"$f":"[1]债权基本情况!D8","v":{"v":1800,"d":"1800.00"}},{"$f":"[1]债权基本情况!E8","v":{"v":484.562496,"d":"484.56"}},"保证人：张美兵、张生华、王学付；\n抵押人：昆山艾蓓蓓阀门有限公司","昆山艾蓓蓓阀门有限公司名下位于昆山市巴城镇正仪东亭子路299号的工业房地产抵押担保，土地面积10070.5平方米，建筑面积7141.65平方米，权利价值2003.4万元。"]
[{"$f":"[1]债权基本情况!A9","v":8},"南京",{"$f":"[1]债权基本情况!C9","v":"南京金陵自动调温床有限公司"},{"$f":"[1]债权基本情况!D9","v":{"v":2250.127168,"d":"2250.13"}},{"$f":"[1]债权基本情况!E9","v":{"v":988.83563891375,"d":"988.84"}},"保证人：南京金陵生物医疗科技产业园经营管理有限公司、徐国荣、于凤林、徐莎莎、马金虎；\n抵押人：南京金陵自动调温床有限公司","抵押物为南京金陵自动调温床有限公司名下位于南京市玄武区胜利村路2号房产及房产对应的土地，工业，建筑面积9701.74平米,权利价值合计2259万元。"]
[{"$f":"[1]债权基本情况!A10","v":9},"南京、四川",{"$f":"[1]债权基本情况!C10","v":"厦门禹洲酒店投资管理有限公司、上海煦腾房地产开发有限公司、舜鸿地产(成都)有限公司"},{"$f":"[1]债权基本情况!D10","v":{"v":40955,"d":"40955.00"}},{"$f":"[1]债权基本情况!E10","v":{"v":29572.0301388889,"d":"29572.03"}},"厦门禹洲鸿图地产开发有限公司、禹洲集团控股有限公司","1、四川成都市高新区南城都汇项目车位1238个；\n2、四川成都市高新区南城都汇项目129套商铺19121.52平米"]
[{"$f":"[1]债权基本情况!A11","v":10},"儋州",{"$f":"[1]债权基本情况!C11","v":"海南博亚兹投资有限公司"},{"$f":"[1]债权基本情况!D11","v":{"v":11350,"d":"11350.00"}},{"$f":"[1]债权基本情况!E11","v":4228.17},"保证人1：程琨化\n保证人2：重庆祥宏地产开发有限公司","1、海南省儋州市白马井60亩住宅用地（位于海花岛对面）"]
[{"$f":"[1]债权基本情况!A12","v":11},"海口",{"$f":"[1]债权基本情况!C12","v":"临高思远实业有限公司"},{"$f":"[1]债权基本情况!D12","v":{"v":74050,"d":"74050.00"}},{"$f":"[1]债权基本情况!E12","v":{"v":37620.487738163,"d":"37620.49"}},"1、海南海上丝绸之路远洋渔业有限公司，保证金额10亿元，已吊销；\n2、海南远大船业有限公司，保证金额10亿元，已破产；\n3、海南中联生物科技有限公司，保证金额10亿元，已破产；\n3、临高县渔业发展控股有限公司，保证金额10亿元，已破产；\n4、潘勇,王瑞珍,谢晓婷,郑立钢，保证金额10亿元。","海口市机场东路25号一二层沿街商业共26套商用房地产，面积合计约4741.16㎡，使用权性质商住。\n资产现状：一层部分出租，二层空置。"]
[{"$f":"[1]债权基本情况!A13","v":12},"临高",{"$f":"[1]债权基本情况!C13","v":"临高思远实业有限公司、海南思远食品有限公司"},{"$f":"[1]债权基本情况!D13","v":{"v":34000,"d":"34000.00"}},{"$f":"[1]债权基本情况!E13","v":{"v":17314,"d":"17314.00"}},"保证人1：海南海上丝绸之路远洋渔业有限公司，最高额担保，已吊销；保证人2：海南思远食品有限公司，最高额担保，已破产；保证人3：临高思远饲料有限公司，最高额担保，已破产；保证人4：临高县渔业发展控股有限公司，最高额担保，已破产；保证人5：海南庄海水产开发有限公司，最高额担保，正常经营；保证人6：海南远大船业有限公司，最高额担保，已破产；保证人7：潘勇、谢晓婷（配偶），最高额担保；保证人8：郑立钢、王瑞珍（配偶），最高额担保元","（一）抵押资产\n1、海南省临高县美台高速路口附近思远食品厂工业用地使用权，土地面积：66665平方米；\n2、海南省临高县美台高速路口附近思远食品厂厂房，建筑面18659.81平方米；\n3、海域使用权-海南省临高县美夏兰水湾养殖用海；资产数量192公顷；（使用权已到期）；\n4、网箱设备，位于海南省临高县金牌港编码为SW0001至SW1000的1000口网箱及其附属设施、美夏兰水湾编码为SW0022至SW0271的1000口网箱及其附属设施、新盈后水湾和跃进水库全部网箱及其附属设施（受自然灾害影响，有一定折损）；\n（二）保证人名下核心资产\n1、位于临高县临城镇跃进路的山水雅苑项目。该项目用地面积305.35亩，容积率2.02，具有开发价值；\n2、目前已取得54.24公顷渔业基础设施用海权证，已实际填海面积228亩，形成临高西部渔港码头；"]
[{"$f":"[1]债权基本情况!A14","v":13},"扬州",{"$f":"[1]债权基本情况!C14","v":"扬州金阳光控股集团有限公司、深圳市因成恒泰房屋有限公司（共同债务人）"},{"$f":"[1]债权基本情况!D14","v":{"v":30766,"d":"30766.00"}},{"$f":"[1]债权基本情况!E14","v":15870.64},"1、中科建设开发总公司，处于破产重整阶段；\n2、扬州金亿翔建材市场有限公司，已进入破产程序；\n3、扬州市金亿城置业有限公司，破产程序已结案。\n4、魏全林，实控人；\n5、何正芳，实控人配偶；\n6、魏嘉慧，实控人女儿；\n7、蒙延巍，实控人女儿的配偶；\n8、沈燕（债务人股东）；\n9、何正成（债务人股东）。","（一）抵押资产\n1、扬州金阳光控股集团名下位于扬州市邗江中路306号\"力宝购物广场\"（建筑面积为1193，83.59㎡；相应分摊土地使用权面积26，932.93㎡）101、102、DXS、201、301、501室第二顺位抵押，401室第三顺位抵押；资产现状：现正常运营中。\n2、扬州金亿翔建材市场有限公司名下位于仪征市真州镇永庆村冯营组、永和组、中营组“中豪国际项目四期”52491.4㎡土地使用权第二顺位抵押。资产现状：现已停工，其中A座建至4层结构，B座建至5层结构，C座建至7层结构，裙楼建至筏板至4层不等。\n（二）质押资产\n1、扬州市金亿城置业有限公司60%股权质押。\n"]
[{"$f":"[1]债权基本情况!A15","v":14},"安庆、翁源",{"$f":"[1]债权基本情况!C15","v":"安徽长江建设集团有限公司、广东盛晟投资开发有限公司"},{"$f":"[1]债权基本情况!D15","v":{"v":14483.1,"d":"14483.10"}},{"$f":"[1]债权基本情况!E15","v":22142.76},"安徽盛晟投资开发（集团）有限公司；安徽盛晟投资开发（集团）有限公司实际控制人盛志明及其配偶丁晓琴。","（一）抵押资产\n1、安徽盛晟投资开发（集团）有限责任公司名下位于安徽省安庆市人民东路48540.93平方米商铺二顺位抵押；\n2、安徽盛晟投资开发（集团）有限责任公司名下位于安徽省大观区2064.53平方米非住宅一顺位抵押；\n3、广东盛晟投资开发有限公司名下位于广东省韶关市翁源县龙仙镇建设一路13976.23平方米商铺一顺位抵押。\n（二）质押资产\n1、安徽长江建设集团有限公司49%股权质押；\n2、广东盛晟投资开发有限公司100%股权质押。"]
[{"$f":"[1]债权基本情况!A16","v":15},"安庆",{"$f":"[1]债权基本情况!C16","v":"安徽盛晟投资开发（集团）有限责任公司、安徽长江建设集团有限公司"},{"$f":"[1]债权基本情况!D16","v":32766.71},{"$f":"[1]债权基本情况!E16","v":49822.04},"安徽盛晟投资开发（集团）有限公司实际控制人盛志明及其配偶丁晓琴。","（一）抵押资产\n安徽盛晟投资开发（集团）有限责任公司名下位于安徽省安庆市人民东路48540.93平方米商铺一顺位抵押；\n（二）质押资产\n1、实控人盛志明以其持有的安徽盛晟投资开发（集团）有限责任公司51%股权、安徽长江建设集团有限公司51%股权提供质押担保；\n2、安徽盛晟投资开发（集团）有限责任公司以其持有的济南盛利置业有限公司49%股权提供质押担保；\n3、安徽盛晟投资开发（集团）有限责任公司及其实际控制人盛志明以合计持有的安庆昌晟房地产开发有限公司51%股权提供质押担保。"]
[{"$f":"[1]债权基本情况!A17","v":16},"临高",{"$f":"[1]债权基本情况!C17","v":"恒大地产集团海南有限公司、海南金萃房地产开发有限公司"},{"$f":"[1]债权基本情况!D17","v":{"v":31337.4,"d":"31337.40"}},{"$f":"[1]债权基本情况!E17","v":31718.91},"海口外滩城房地产有限公司；恒大地产集团有限公司。","（一）抵押资产\n海南金萃房地产开发有限公司名下位于海南省临高县博厚镇马袅墟马袅盐场的 1-105 栋全部在建楼房（项目名称“临高御海天下”、总建筑面积 227549.13 ㎡）及临国用（2010）第 09 号项下土地使用权（不包括抵押登记时已售楼房的相对应土地）。\n（二）质押资产\n海南金萃房地产开发有限公司100%股权质押。"]
[{"$f":"[1]债权基本情况!A18","v":17},"广州、郑州",{"$f":"[1]债权基本情况!C18","v":"广州升龙锦盛置业有限公司、上海升龙投资集团有限公司"},{"$f":"[1]债权基本情况!D18","v":26962.56},{"$f":"[1]债权基本情况!E18","v":5685.41},"南京升龙房地产开发有限公司、广州升龙又一城置业有限公司、实控人林亿","（一）债务人名下核心资产：\n广州升龙锦盛置业有限公司开发位于广州黄埔区的“汤村”城市更新项目，地处扼守广州中新知识城“南门”，项目总建筑面积269.15万平方米，其中融资区建筑面积125.88万平方米，项目计划总可售面积约111.77万平方米，未来货值充足。\n（二）抵押资产：\n1、郑州尚锦房地产开发有限公司持有的位于河南省郑州市二七区政通路“升龙国际中心”项目68号院27套共计40714.89平方米商业地产提供抵押。资产现状：部分出租。\n2、郑州泽龙置业有限公司持有的位于河南省郑州市高新技术产业开发区科学大道89号4号楼2层附114、4层附232共计712.7平方米商业地产抵押。资产现状：空置。"]
[{"$f":"[1]债权基本情况!A19","v":18},"广州、郑州",{"$f":"[1]债权基本情况!C19","v":"上海升龙投资集团有限公司、广州升龙房地产置业有限公司（共同债务人）、郑州尚锦房地产开发有限公司（共同债务人）"},{"$f":"[1]债权基本情况!D19","v":{"v":16000,"d":"16000.00"}},{"$f":"[1]债权基本情况!E19","v":{"v":2497.8,"d":"2497.80"}},"福建诚远达贸易有限公司、广州升龙创锦置业有限公司、实控人林亿","vv"]
[{"$f":"[1]债权基本情况!A20","v":19},"南京、安徽",{"$f":"[1]债权基本情况!C20","v":"马鞍山市联友矿业有限责任公司"},{"$f":"[1]债权基本情况!D20","v":5984.42},{"$f":"[1]债权基本情况!E20","v":4763.07},"鲁林强","1、鲁林强名下位于江苏省南京市鼓楼区汉中路8号金轮国际2930室、2909室，用途：办公，面积：205.14㎡\n2、鲁林强名下位于安徽省马鞍山市雨山区安民街道湖西中路商业步行街门面房16间，面积：1644.24㎡。\n鲁林强名下位于安徽省马鞍山市雨山区向山西路66号海深南大酒店，商业房地产，建筑面积1135.79㎡。"]
[{"$f":"[1]债权基本情况!A21","v":20},"苏州",{"$f":"[1]债权基本情况!C21","v":"苏州钢友物资有限公司"},{"$f":"[1]债权基本情况!D21","v":{"v":413.007445559797,"d":"413.01"}},{"$f":"[1]债权基本情况!E21","v":{"v":0,"d":"0.00"}}]
[{"$f":"[1]债权基本情况!A22","v":21},"苏州",{"$f":"[1]债权基本情况!C22","v":"苏州市天下钢铁发展有限公司"},{"$f":"[1]债权基本情况!D22","v":{"v":413.311193457007,"d":"413.31"}},{"$f":"[1]债权基本情况!E22","v":{"v":0,"d":"0.00"}}]
[{"$f":"[1]债权基本情况!A23","v":22},"淮安",{"$f":"[1]债权基本情况!C23","v":"淮安市专用汽车制造有限公司"},{"$f":"[1]债权基本情况!D23","v":{"v":773.413587003333,"d":"773.41"}},{"$f":"[1]债权基本情况!E23","v":{"v":0,"d":"0.00"}},{"$f":"[1]Sheet7!F4","v":"胡兴定"},{"$f":"[1]Sheet7!G4","v":"抵债资产：淮安市文化宫•运河明珠-文化宫部分商业及办公房地产，建筑面积2934.58平米。"}]
[{"$f":"[1]债权基本情况!A24","v":23},"淮安",{"$f":"[1]债权基本情况!C24","v":"淮安广鑫贸易有限公司"},{"$f":"[1]债权基本情况!D24","v":{"v":500,"d":"500.00"}},{"$f":"[1]债权基本情况!E24","v":{"v":756.892047740187,"d":"756.89"}},{"$f":"[1]Sheet7!F5","v":"淮安翔天物流城有限公司、淮安中强投资担保有限公司、淮安恒富钢铁有限公司、淮安瑞凯物资有限公司、淮安坤昂金属制品有限公司、黄友生、林细妹"}]
[{"$f":"[1]债权基本情况!A25","v":24},"淮安",{"$f":"[1]债权基本情况!C25","v":"淮安坤昂金属制品有限公司"},{"$f":"[1]债权基本情况!D25","v":{"v":500,"d":"500.00"}},{"$f":"[1]债权基本情况!E25","v":{"v":756.772568849937,"d":"756.77"}},{"$f":"[1]Sheet7!F6","v":"淮安翔天物流城有限公司、淮安中强投资担保有限公司、淮安恒富钢铁有限公司、淮安瑞凯物资有限公司、淮安广鑫贸易有限公司、雷玉平"}]
[{"$f":"[1]债权基本情况!A26","v":25},"淮安",{"$f":"[1]债权基本情况!C26","v":"淮安恒富钢铁有限公司"},{"$f":"[1]债权基本情况!D26","v":{"v":500,"d":"500.00"}},{"$f":"[1]债权基本情况!E26","v":{"v":756.9300126555,"d":"756.93"}},{"$f":"[1]Sheet7!F7","v":"淮安翔天物流城有限公司、淮安中强投资担保有限公司、淮安广鑫贸易有限公司、淮安瑞凯物资有限公司、淮安坤昂金属制品有限公司；谢岩平、李式连"}]
[{"$f":"[1]债权基本情况!A27","v":26},"淮安",{"$f":"[1]债权基本情况!C27","v":"淮安瑞凯物资有限公司"},{"$f":"[1]债权基本情况!D27","v":{"v":500,"d":"500.00"}},{"$f":"[1]债权基本情况!E27","v":{"v":757.011524493375,"d":"757.01"}},{"$f":"[1]Sheet7!F8","v":"淮安翔天物流城有限公司、淮安中强投资担保有限公司、淮安恒富钢铁有限公司、淮安广鑫贸易有限公司、淮安坤昂金属制品有限公司；江龙、刘晓红"}]
[{"$f":"[1]债权基本情况!A28","v":27},"淮安",{"$f":"[1]债权基本情况!C28","v":"淮安亿易达钢铁贸易有限公司"},{"$f":"[1]债权基本情况!D28","v":{"v":100,"d":"100.00"}},{"$f":"[1]债权基本情况!E28","v":{"v":152.066722758875,"d":"152.07"}},{"$f":"[1]Sheet7!F9","v":"淮安翔天物流城有限公司、淮安中强投资担保有限公司、淮安展翔钢铁有限公司、淮安巨野贸易有限公司；郭冬芝、李成秋"}]
[{"$f":"[1]债权基本情况!A29","v":28},"淮安",{"$f":"[1]债权基本情况!C29","v":"淮安巨野贸易有限公司"},{"$f":"[1]债权基本情况!D29","v":{"v":280,"d":"280.00"}},{"$f":"[1]债权基本情况!E29","v":{"v":419.6177243745,"d":"419.62"}},{"$f":"[1]Sheet7!F10","v":"淮安翔天物流城有限公司、淮安中强投资担保有限公司、淮安展翔钢铁有限公司、淮安亿易达钢铁贸易有限公司；李观强、李智斌、彭巧容"}]
[{"$f":"[1]债权基本情况!A30","v":29},"淮安",{"$f":"[1]债权基本情况!C30","v":"淮安亿思得物资有限公司"},{"$f":"[1]债权基本情况!D30","v":{"v":224.495417,"d":"224.50"}},{"$f":"[1]债权基本情况!E30","v":{"v":363.400206027625,"d":"363.40"}},{"$f":"[1]Sheet7!F11","v":"淮安翔天物流城有限公司、淮安中强投资担保有限公司、詹敬材、谢资灼、\n李智斌、彭巧容"}]
[{"$f":"[1]债权基本情况!A31","v":30},"淮安",{"$f":"[1]债权基本情况!C31","v":"淮安续储金属材料有限公司"},{"$f":"[1]债权基本情况!D31","v":{"v":500,"d":"500.00"}},{"$f":"[1]债权基本情况!E31","v":{"v":762.76543277675,"d":"762.77"}},{"$f":"[1]Sheet7!F12","v":"淮安翔天物流城有限公司、淮安中强投资担保有限公司、林印明、李巧敏"}]
[{"$f":"[1]债权基本情况!A32","v":31},"淮安",{"$f":"[1]债权基本情况!C32","v":"淮安恒荣钢铁贸易有限公司"},{"$f":"[1]债权基本情况!D32","v":499.88},{"$f":"[1]债权基本情况!E32","v":{"v":816.186035585638,"d":"816.19"}},{"$f":"[1]Sheet7!F13","v":"淮安翔天物流城有限公司、淮安中强投资担保有限公司、淮安利创金属材料有限公司、淮安鑫泰隆钢铁贸易有限公司、淮安明怡商贸有限公司；叶孙花、张永顺"}]
[{"$f":"[1]债权基本情况!A33","v":32},"淮安",{"$f":"[1]债权基本情况!C33","v":"淮安利创金属材料有限公司"},{"$f":"[1]债权基本情况!D33","v":{"v":500,"d":"500.00"}},{"$f":"[1]债权基本情况!E33","v":{"v":844.560177979933,"d":"844.56"}},{"$f":"[1]Sheet7!F14","v":"淮安翔天物流城有限公司、淮安中强投资担保有限公司、淮安恒荣钢铁贸易有限公司、淮安鑫泰隆钢铁贸易有限公司、淮安明怡商贸有限公司；何仙春、周玉"}]
[{"$f":"[1]债权基本情况!A34","v":33},"淮安",{"$f":"[1]债权基本情况!C34","v":"淮安鸿旺金属材料有限公司"},{"$f":"[1]债权基本情况!D34","v":{"v":500,"d":"500.00"}},{"$f":"[1]债权基本情况!E34","v":{"v":650.95280162125,"d":"650.95"}},{"$f":"[1]Sheet7!F15","v":"淮安翔天物流城有限公司、淮安中强投资担保有限公司、林江宝、汤进芳、\n李智斌、彭巧容"}]
[{"$f":"[1]债权基本情况!A35","v":34},"淮安",{"$f":"[1]债权基本情况!C35","v":"淮安皓翔物资有限公司"},{"$f":"[1]债权基本情况!D35","v":{"v":500,"d":"500.00"}},{"$f":"[1]债权基本情况!E35","v":{"v":622.5302846725,"d":"622.53"}},{"$f":"[1]Sheet7!F16","v":"淮安翔天物流城有限公司、淮安中强投资担保有限公司、李清松、魏奕珠、李智斌、彭巧容"}]
[{"$f":"[1]债权基本情况!A36","v":35},"淮安",{"$f":"[1]债权基本情况!C36","v":"淮安宝驰钢铁有限公司"},{"$f":"[1]债权基本情况!D36","v":{"v":500,"d":"500.00"}},{"$f":"[1]债权基本情况!E36","v":{"v":706.298135939187,"d":"706.30"}},{"$f":"[1]Sheet7!F17","v":"淮安翔天物流城有限公司、淮安中强投资担保有限公司、李寿忠、王美兰、李智斌、彭巧容"}]
[{"$f":"[1]债权基本情况!A37","v":36},"淮安",{"$f":"[1]债权基本情况!C37","v":"淮安京华钢铁有限公司"},{"$f":"[1]债权基本情况!D37","v":{"v":800,"d":"800.00"}},{"$f":"[1]债权基本情况!E37","v":{"v":999.14067574375,"d":"999.14"}},{"$f":"[1]Sheet7!F18","v":"淮安翔天物流城有限公司、淮安中强投资担保有限公司、毛李华、李莲秀、李智斌、彭巧容"}]
[{"$f":"[1]债权基本情况!A38","v":37},"淮安",{"$f":"[1]债权基本情况!C38","v":"淮安昌储物资有限公司"},{"$f":"[1]债权基本情况!D38","v":{"v":471.88951,"d":"471.89"}},{"$f":"[1]债权基本情况!E38","v":{"v":0,"d":"0.00"}},{"$f":"[1]Sheet7!F19","v":"淮安翔天物流城有限公司、淮安中强投资担保有限公司、李智文、李智斌、彭巧容"}]
[{"$f":"[1]债权基本情况!A39","v":38},"淮安",{"$f":"[1]债权基本情况!C39","v":"淮安银屏物资有限公司"},{"$f":"[1]债权基本情况!D39","v":{"v":500,"d":"500.00"}},{"$f":"[1]债权基本情况!E39","v":{"v":623.36786463375,"d":"623.37"}},{"$f":"[1]Sheet7!F20","v":"淮安翔天物流城有限公司、淮安中强投资担保有限公司、黄建波、李丽芳、李智斌、彭巧容"}]
[{"$f":"[1]债权基本情况!A40","v":39},"淮安",{"$f":"[1]债权基本情况!C40","v":"淮安伊芙钢铁有限公司"},{"$f":"[1]债权基本情况!D40","v":{"v":200,"d":"200.00"}},{"$f":"[1]债权基本情况!E40","v":{"v":330.711131150117,"d":"330.71"}},{"$f":"[1]Sheet7!F21","v":"淮安翔天物流城有限公司、淮安中强投资担保有限公司、汤信鸣、叶惠英"}]
[{"$f":"[1]债权基本情况!A41","v":40},"淮安",{"$f":"[1]债权基本情况!C41","v":"淮安吉宁物资有限公司"},{"$f":"[1]债权基本情况!D41","v":{"v":200,"d":"200.00"}},{"$f":"[1]债权基本情况!E41","v":{"v":299.8449851025,"d":"299.84"}},{"$f":"[1]Sheet7!F22","v":"淮安翔天物流城有限公司、淮安中强投资担保有限公司、汤绍传、张华琴"}]
[{"$f":"[1]债权基本情况!A42","v":41},"淮安",{"$f":"[1]债权基本情况!C42","v":"淮安鑫泰隆钢铁贸易有限公司"},{"$f":"[1]债权基本情况!D42","v":{"v":500,"d":"500.00"}},{"$f":"[1]债权基本情况!E42","v":{"v":622.60129498,"d":"622.60"}},{"$f":"[1]Sheet7!F23","v":"淮安翔天物流城有限公司、淮安中强投资担保有限公司、张昭、彭巧玲、李智斌、彭巧容"}]
[{"$f":"[1]债权基本情况!A43","v":42},"淮安",{"$f":"[1]债权基本情况!C43","v":"淮安明怡商贸有限公司"},{"$f":"[1]债权基本情况!D43","v":{"v":500,"d":"500.00"}},{"$f":"[1]债权基本情况!E43","v":{"v":622.60129498,"d":"622.60"}},{"$f":"[1]Sheet7!F24","v":"淮安翔天物流城有限公司、淮安中强投资担保有限公司、李少杭、李智斌、彭巧容"}]
[{"$f":"[1]债权基本情况!A44","v":43},"淮安",{"$f":"[1]债权基本情况!C44","v":"淮安开明金属材料有限公司"},{"$f":"[1]债权基本情况!D44","v":{"v":599.5,"d":"599.50"}},{"$f":"[1]债权基本情况!E44","v":{"v":942.454502383878,"d":"942.45"}},{"$f":"[1]Sheet7!F25","v":"淮安翔天物流城有限公司、淮安中强投资担保有限公司、淮安保励物资有限公司、淮安丰廉物资有限公司、淮安霏耕建材有限公司、李式斌"}]
[{"$f":"[1]债权基本情况!A45","v":44},"淮安",{"$f":"[1]债权基本情况!C45","v":"淮安霈耕建材有限公司"},{"$f":"[1]债权基本情况!D45","v":{"v":500,"d":"500.00"}},{"$f":"[1]债权基本情况!E45","v":{"v":752.955702564812,"d":"752.96"}},{"$f":"[1]Sheet7!F26","v":"淮安翔天物流城有限公司、淮安中强投资担保有限公司、淮安保励物资有限公司、淮安丰廉物资有限公司、淮安开明金属材料有限公司、李春华、李智斌、彭巧容"}]
[{"$f":"[1]债权基本情况!A46","v":45},"淮安",{"$f":"[1]债权基本情况!C46","v":"淮安丰廉物资有限公司"},{"$f":"[1]债权基本情况!D46","v":{"v":500,"d":"500.00"}},{"$f":"[1]债权基本情况!E46","v":{"v":627.9755855875,"d":"627.98"}},{"$f":"[1]Sheet7!F27","v":"淮安翔天物流城有限公司、淮安中强投资担保有限公司、淮安保励物资有限公司、淮安霈耕建材有限公司、淮安开明金属材料有限公司、李式标、李智斌、彭巧容"}]
[{"$f":"[1]债权基本情况!A47","v":46},"淮安",{"$f":"[1]债权基本情况!C47","v":"淮安保励物资有限公司"},{"$f":"[1]债权基本情况!D47","v":{"v":2680,"d":"2680.00"}},{"$f":"[1]债权基本情况!E47","v":{"v":3736.06902517788,"d":"3736.07"}},{"$f":"[1]Sheet7!F28","v":"淮安翔天物流城有限公司、淮安中强投资担保有限公司、淮安丰廉物资有限公司、淮安霈耕建材有限公司、淮安开明金属材料有限公司、李厚登、李智斌、彭巧容"}]
[{"$f":"[1]债权基本情况!A48","v":47},"淮安",{"$f":"[1]债权基本情况!C48","v":"淮安宝旺钢铁有限公司"},{"$f":"[1]债权基本情况!D48","v":{"v":770,"d":"770.00"}},{"$f":"[1]债权基本情况!E48","v":{"v":1142.79810340406,"d":"1142.80"}},{"$f":"[1]Sheet7!F29","v":"淮安翔天物流城有限公司、淮安中强投资担保有限公司、淮安恒凯钢铁有限公司、淮安汇宝钢铁有限公司、李观天、周明花、李智斌、彭巧容"}]
[{"$f":"[1]债权基本情况!A49","v":48},"淮安",{"$f":"[1]债权基本情况!C49","v":"淮安汇宝钢铁有限公司"},{"$f":"[1]债权基本情况!D49","v":{"v":599.5,"d":"599.50"}},{"$f":"[1]债权基本情况!E49","v":{"v":901.148097737188,"d":"901.15"}},{"$f":"[1]Sheet7!F30","v":"淮安翔天物流城有限公司、淮安中强投资担保有限公司、彭昌安、林爱嬉"}]
[{"$f":"[1]债权基本情况!A50","v":49},"淮安",{"$f":"[1]债权基本情况!C50","v":"淮安恒凯钢铁有限公司"},{"$f":"[1]债权基本情况!D50","v":{"v":900,"d":"900.00"}},{"$f":"[1]债权基本情况!E50","v":{"v":1361.5611790975,"d":"1361.56"}},{"$f":"[1]Sheet7!F31","v":"淮安翔天物流城有限公司、淮安中强投资担保有限公司、淮安宝旺钢铁有限公司、淮安汇宝钢铁有限公司、张仙寿、李智斌、彭巧容"}]
[{"$f":"[1]债权基本情况!A51","v":50},"淮安",{"$f":"[1]债权基本情况!C51","v":"淮安钻锦物资有限公司"},{"$f":"[1]债权基本情况!D51","v":{"v":200,"d":"200.00"}},{"$f":"[1]债权基本情况!E51","v":{"v":308.75597538432,"d":"308.76"}},{"$f":"[1]Sheet7!F32","v":"淮安翔天物流城有限公司、淮安中强投资担保有限公司、林汉兴、陈素云、李智斌、彭巧容"}]
[{"$f":"[1]债权基本情况!A52","v":51},"淮安",{"$f":"[1]债权基本情况!C52","v":"淮安永和物资有限公司"},{"$f":"[1]债权基本情况!D52","v":{"v":350,"d":"350.00"}},{"$f":"[1]债权基本情况!E52","v":{"v":439.3362154175,"d":"439.34"}},{"$f":"[1]Sheet7!F33","v":"淮安翔天物流城有限公司、淮安中强投资担保有限公司、林志杨、黄丽玉、李智斌、彭巧容"}]
[{"$f":"[1]债权基本情况!A53","v":52},"苏州",{"$f":"[1]债权基本情况!C53","v":"常熟天铭国际大酒店有限公司"},{"$f":"[1]债权基本情况!D53","v":{"v":33000,"d":"33000.00"}},{"$f":"[1]债权基本情况!E53","v":{"v":3992.2023003,"d":"3992.20"}},{"$f":"[1]Sheet7!F34","v":"江苏天铭集团有限公司、陈雪明、龚妹芳"}]
[{"$f":"[1]债权基本情况!A54","v":53},"淮安",{"$f":"[1]债权基本情况!C54","v":"淮安市宏盈商贸有限公司"},{"$f":"[1]债权基本情况!D54","v":{"v":2046.415094,"d":"2046.42"}},{"$f":"[1]债权基本情况!E54","v":{"v":3685.51001357546,"d":"3685.51"}},{"$f":"[1]Sheet7!F35","v":"江苏鹏胜集团有限公司、黄锐剑、黄锐敏"}]
[{"$f":"[1]债权基本情况!A55","v":54},"淮安",{"$f":"[1]债权基本情况!C55","v":"江苏鹏胜集团有限公司"},{"$f":"[1]债权基本情况!D55","v":{"v":2057.737865,"d":"2057.74"}},{"$f":"[1]债权基本情况!E55","v":{"v":3546.56149062297,"d":"3546.56"}},{"$f":"[1]Sheet7!F36","v":"周金龙、江苏鹏胜重工股份有限公司、盱眙新泗洲房地产开发有限公司"},{"$f":"[1]Sheet7!G36","v":"1、盱眙新泗洲房地产开发有限公司名下位于盱城镇淮河北路188号共计4287.16平方米14套商业房产，土地面积431平方米。2、江苏鹏胜集团有限公司名下52台机器设备。（设备 无法准确找到，收购时该设备没有估值）"}]
[{"$f":"[1]债权基本情况!A56","v":55},"淮安",{"$f":"[1]债权基本情况!C56","v":"江苏浙长电源有限公司"},{"$f":"[1]债权基本情况!D56","v":{"v":1071.692996,"d":"1071.69"}},{"$f":"[1]债权基本情况!E56","v":{"v":1999.15406694096,"d":"1999.15"}},{"$f":"[1]Sheet7!F37","v":"桑平平、孙美珍"}]
[{"$f":"[1]债权基本情况!A57","v":56},"淮安",{"$f":"[1]债权基本情况!C57","v":"江苏新祥化纤有限公司"},{"$f":"[1]债权基本情况!D57","v":{"v":943.002826,"d":"943.00"}},{"$f":"[1]债权基本情况!E57","v":{"v":1759.75527997775,"d":"1759.76"}},{"$f":"[1]Sheet7!F38","v":"江苏锦凯集团有限公司、陈锦东、杨记惠"}]
[{"$f":"[1]债权基本情况!A58","v":57},"苏州",{"$f":"[1]债权基本情况!C58","v":"张家港瑞菡船用钢进出口有限公司"},{"$f":"[1]债权基本情况!D58","v":{"v":4438.549743,"d":"4438.55"}},{"$f":"[1]债权基本情况!E58","v":{"v":2756.21188250863,"d":"2756.21"}},{"$f":"[1]Sheet7!F39","v":"江阴市西城钢铁有限公司、江苏瑞明钢材集团有限公司、施瑞英、徐明强、徐花、王一霖"}]
[{"$f":"[1]债权基本情况!A59","v":58},"苏州",{"$f":"[1]债权基本情况!C59","v":"江苏卫吉实业有限公司"},{"$f":"[1]债权基本情况!D59","v":{"v":5980.841,"d":"5980.84"}},{"$f":"[1]债权基本情况!E59","v":{"v":623.658273999999,"d":"623.66"}},{"$f":"[1]Sheet7!F40","v":"张家港市经济贸易有限公司、严林平、范伟元、沈洁、黄春霞"},{"$f":"[1]Sheet7!G40","v":"张家港市经济贸易有限公司名下张家港杨舍镇步行街55-56号商用房2942.55平方米，权利价值7000万元。"}]
[{"$f":"[1]债权基本情况!A60","v":59},"苏州",{"$f":"[1]债权基本情况!C60","v":"苏州市永发实业公司(合作)"},{"$f":"[1]债权基本情况!D60","v":{"v":188.680886,"d":"188.68"}},{"$f":"[1]债权基本情况!E60","v":{"v":2233.712577,"d":"2233.71"}},{"$f":"[1]Sheet7!F41","v":"唐秋泉、戴美香、苏州工业园区德方贸易有限公司、苏州嘉禾纸业有限公司"}]
[{"$f":"[1]债权基本情况!A61","v":60},"苏州",{"$f":"[1]债权基本情况!C61","v":"苏州富华标准件有限公司"},{"$f":"[1]债权基本情况!D61","v":{"v":787.635953,"d":"787.64"}},{"$f":"[1]债权基本情况!E61","v":{"v":1456.843513,"d":"1456.84"}},{"$f":"[1]Sheet7!F42","v":"苏州松品电子科技有限公司苏州富华标准件有限公司、储其根、顾建英"}]
[{"$f":"[1]债权基本情况!A62","v":61},"苏州",{"$f":"[1]债权基本情况!C62","v":"苏州嘉源彩印包装有限公司"},{"$f":"[1]债权基本情况!D62","v":{"v":977.531898,"d":"977.53"}},{"$f":"[1]债权基本情况!E62","v":{"v":1792.224069,"d":"1792.22"}},{"$f":"[1]Sheet7!F43","v":"董建民，苏州嘉禾纸业有限公司"}]
[{"$f":"[1]债权基本情况!A63","v":62},"苏州",{"$f":"[1]债权基本情况!C63","v":"苏州杰尔美纺织企业有限公司"},{"$f":"[1]债权基本情况!D63","v":{"v":890.304828,"d":"890.30"}},{"$f":"[1]债权基本情况!E63","v":{"v":903.949569,"d":"903.95"}},{"$f":"[1]Sheet7!F44","v":"蔡国华、方丽华、吴江市建福纺织科技有限公司、苏州市天伦纺织科技有限公司、江苏华鑫纺织发展有限公司、"}]
[{"$f":"[1]债权基本情况!A64","v":63},"苏州",{"$f":"[1]债权基本情况!C64","v":"吴江巨创纺织科技有限公司"},{"$f":"[1]债权基本情况!D64","v":{"v":386.109627,"d":"386.11"}},{"$f":"[1]债权基本情况!E64","v":{"v":423.631601,"d":"423.63"}},{"$f":"[1]Sheet7!F45","v":"吴江永祥酒精织造有限公司、苏州鼎盛担保投资有限公司、陈利江、陈月英、"}]
[{"$f":"[1]债权基本情况!A65","v":64},"苏州",{"$f":"[1]债权基本情况!C65","v":"吴江市四通纺织有限公司"},{"$f":"[1]债权基本情况!D65","v":{"v":778.556151,"d":"778.56"}},{"$f":"[1]债权基本情况!E65","v":{"v":2134.227395,"d":"2134.23"}},{"$f":"[1]Sheet7!F46","v":"吴江市联泰纺织有限公司、俞建中、张红梅"}]
[{"$f":"[1]债权基本情况!A66","v":65},"无锡",{"$f":"[1]债权基本情况!C66","v":"江阴市丰鸣宇电子有限公司"},{"$f":"[1]债权基本情况!D66","v":{"v":94.120725,"d":"94.12"}},{"$f":"[1]债权基本情况!E66","v":{"v":213.415134068388,"d":"213.42"}},{"$f":"[1]Sheet7!F47","v":"江阴市华茂化纤有限公司、江阴市升德美橡胶制品有限公司、姚惠良、韩小兰、金胜荣"}]
[{"$f":"[1]债权基本情况!A67","v":66},"南通",{"$f":"[1]债权基本情况!C67","v":"江苏伟恒建设集团有限公司"},{"$f":"[1]债权基本情况!D67","v":{"v":4788.8,"d":"4788.80"}},{"$f":"[1]债权基本情况!E67","v":{"v":8802.72642896831,"d":"8802.73"}},{"$f":"[1]Sheet7!F48","v":"徐伟伟、黄建楠"},{"$f":"[1]Sheet7!G48","v":"如皋市怡年园山庄社区服务有限公司名下综合楼(含饭店、宾馆、办公楼)；地址：江苏省如皋市如城街道怡年路以北，志颐路以西；房产建筑面积：9588.90平方米，土地面积：5570.30平方米；土地类型(用途)：批发零售用地。"}]
[{"$f":"[1]债权基本情况!A68","v":67},"镇江",{"$f":"[1]债权基本情况!C68","v":"镇江市港南电子有限公司"},{"$f":"[1]债权基本情况!D68","v":{"v":1313.906462,"d":"1313.91"}},{"$f":"[1]债权基本情况!E68","v":{"v":2445.70346527192,"d":"2445.70"}},{"$f":"[1]Sheet7!F49","v":"聂金根、王春兰、聂丽琴、徐俊"}]
[{"$f":"[1]债权基本情况!A69","v":68},"镇江",{"$f":"[1]债权基本情况!C69","v":"江苏恒昌镜业有限公司"},{"$f":"[1]债权基本情况!D69","v":{"v":498.184966,"d":"498.18"}},{"$f":"[1]债权基本情况!E69","v":{"v":873.094768158443,"d":"873.09"}},{"$f":"[1]Sheet7!F50","v":"江苏华日照明器材有限公司、江苏五洲塑件有限公司、江苏申通汽车零部件有限公司、彭一球、江文英"}]
[{"$f":"[1]债权基本情况!A70","v":69},"镇江",{"$f":"[1]债权基本情况!C70","v":"江苏金蕾电工科技有限公司"},{"$f":"[1]债权基本情况!D70","v":{"v":489,"d":"489.00"}},{"$f":"[1]债权基本情况!E70","v":{"v":873.823553175745,"d":"873.82"}},{"$f":"[1]Sheet7!F51","v":"镇江市诚信担保有限责任公司、彭蕾、张旭辉"}]
[{"$f":"[1]债权基本情况!A71","v":70},"镇江",{"$f":"[1]债权基本情况!C71","v":"镇江韦岗铁矿有限公司"},{"$f":"[1]债权基本情况!D71","v":{"v":500.57338,"d":"500.57"}},{"$f":"[1]债权基本情况!E71","v":{"v":874.8475313205,"d":"874.85"}},{"$f":"[1]Sheet7!F52","v":"翟志高、吴开兰、王永生、何桂珍、张华、俞红霞、赵兴葆、孙红梅"}]
[{"$f":"[1]债权基本情况!A72","v":71},"镇江",{"$f":"[1]债权基本情况!C72","v":"镇江市丹徒区津江粮油贸易有限公司"},{"$f":"[1]债权基本情况!D72","v":{"v":1740,"d":"1740.00"}},{"$f":"[1]债权基本情况!E72","v":{"v":3158.06807737825,"d":"3158.07"}},{"$f":"[1]Sheet7!F53","v":"田六顺、杨书琴、田佳、黄洋"},{"$f":"[1]Sheet7!G53","v":"一：田六顺、杨书琴名下商业用房；种类：房屋所有权及土地使用权；地址：镇江市运河路4号4-6层；建筑面积：862.69平方米，土地面积：126.6平方米；土地类型(用途)：商业。\n二：黄洋名下个人住宅；地址：镇江市绿竹巷15幢105室；建筑面积：62.8平方米。\n三：田六顺、杨书琴名下个人住宅；地址：镇江市西体分场1幢0504室；建筑面积：66.7平方米。\n四：田六顺、杨书琴名下商业用房；地址：镇江市运河路4号1-3层；建筑面积：830.1平方米，土地面积：136.1平方米；土地类型(用途)：商业。\n五：黄洋、田佳名下个人住宅；地址：镇江市华都名城苏锦苑43幢105室；建筑面积：122.32平方米，土地面积：30.4平方米；土地类型(用途)：住宅。\n六：镇江市丹徒区津江粮油贸易有限公司名下办公用房；地址：镇江市中山东路88号3幢107-1、107-2、107-3、107室；建筑面积：合计178.2平方米，土地面积：合计31.8平方米；土地类型(用途)：商业。"}]
[{"$f":"[1]债权基本情况!A73","v":72},"泰州",{"$f":"[1]债权基本情况!C73","v":"泰州市亿安石油贸易有限公司"},{"$f":"[1]债权基本情况!D73","v":{"v":3.24143099999987,"d":"3.24"}},{"$f":"[1]债权基本情况!E73","v":{"v":99.1227496023999,"d":"99.12"}},{"$f":"[1]Sheet7!F54","v":"江苏美林格置业有限公司、江苏嘉禾燃气设备有限公司、泰州市鑫诚石油化工有限公司、泰州市能宇源燃料有限公司、泰州市海陵区中正石油贸易有限公司、泰州市斯太尔运输有限公司、泰州市港华危险品运输有限公司、泰州汤臣食品有限公司、江苏凤城食品有限公司、泰州海陵区海泰饭店、泰州市友邦商贸有限公司、罗红卫、张丽群、李罗宝、徐海梅"}]
[{"$f":"[1]债权基本情况!A74","v":73},"苏州",{"$f":"[1]债权基本情况!C74","v":"丰立集团有限公司"},{"$f":"[1]债权基本情况!D74","v":{"v":75055.6229603889,"d":"75055.62"}},{"$f":"[1]债权基本情况!E74","v":{"v":0,"d":"0.00"}},{"$f":"[1]Sheet7!F55","v":"江苏永恒钢铁实业有限公司、江苏丰立国际贸易有限公司、张家港永恒码头有限公司、江苏星丰金属资源有限公司、江苏扬子江港务有限公司、吴惠娣"}]
[{"$f":"[1]债权基本情况!A75","v":74},"苏州",{"$f":"[1]债权基本情况!C75","v":"江苏永恒钢铁实业有限公司"},{"$f":"[1]债权基本情况!D75","v":{"v":63893.1309606463,"d":"63893.13"}},{"$f":"[1]债权基本情况!E75","v":{"v":0,"d":"0.00"}},{"$f":"[1]Sheet7!F56","v":"丰立集团有限公司、江苏丰立国际贸易有限公司、张家港永恒码头有限公司、江苏星丰金属资源有限公司、江苏扬子江港务有限公司、吴惠娣"}]
[{"$f":"[1]债权基本情况!A76","v":75},"苏州",{"$f":"[1]债权基本情况!C76","v":"江苏永恒炉料实业有限公司"},{"$f":"[1]债权基本情况!D76","v":{"v":25791.3351639648,"d":"25791.34"}},{"$f":"[1]债权基本情况!E76","v":{"v":0,"d":"0.00"}},{"$f":"[1]Sheet7!F57","v":"丰立集团有限公司、江苏星丰金属资源有限公司、江苏扬子江港务有限公司、吴惠娣"}]
[{"$f":"[1]债权基本情况!A77","v":76},"徐州",{"$f":"[1]债权基本情况!C77","v":"江苏东兴高科信息工程有限公司"},{"$f":"[1]债权基本情况!D77","v":{"v":48.2430918695919,"d":"48.24"}},{"$f":"[1]债权基本情况!E77","v":{"v":15.2438145894022,"d":"15.24"}},{"$f":"[1]Sheet7!F58","v":"徐州惠达科技有限公司、王顺、王静、杨占勇、周其"},{"$f":"[1]Sheet7!G58","v":"杨占勇名下位于徐州市泉山区西安北路66号亚华大厦502，土地面积38.4平方米，建筑面积191.9平方米。"}]
[{"$f":"[1]债权基本情况!A78","v":77},"南通",{"$f":"[1]债权基本情况!C78","v":"通州区川姜镇彩易轩布艺经营部"},{"$f":"[1]债权基本情况!D78","v":{"v":165.205628,"d":"165.21"}},{"$f":"[1]债权基本情况!E78","v":{"v":320.685032950675,"d":"320.69"}},{"$f":"[1]Sheet7!F59","v":"姜斌、冷在锋"}]
[{"$f":"[1]债权基本情况!A79","v":78},"南通",{"$f":"[1]债权基本情况!C79","v":"江苏松野数控科技有限公司"},{"$f":"[1]债权基本情况!D79","v":{"v":7.35085699999994,"d":"7.35"}},{"$f":"[1]债权基本情况!E79","v":{"v":71.7854132800233,"d":"71.79"}},{"$f":"[1]Sheet7!F60","v":"孔庆国、刘秀红"}]
[{"$f":"[1]债权基本情况!A80","v":79},"常州",{"$f":"[1]债权基本情况!C80","v":"常州鸿瑞祥隆商贸有限公司"},{"$f":"[1]债权基本情况!D80","v":{"v":1000,"d":"1000.00"}},{"$f":"[1]债权基本情况!E80","v":{"v":1937.42953586575,"d":"1937.43"}},{"$f":"[1]Sheet7!F61","v":"江苏金牛线缆集团有限公司、常州市卡特市政工程有限公司、杨斌华、许兰秀、刘建发、王小英，常州泰和发展置业有限公司"}]
[{"$f":"[1]债权基本情况!A81","v":80},"宿迁",{"$f":"[1]债权基本情况!C81","v":"江苏烨泰玻璃有限公司"},{"$f":"[1]债权基本情况!D81","v":{"v":1067.167734,"d":"1067.17"}},{"$f":"[1]债权基本情况!E81","v":{"v":2099.29386240752,"d":"2099.29"}},{"$f":"[1]Sheet7!F62","v":"江苏绿陵润发化工有限公司、沈明耀、刘军、周仰东、江苏太平洋玻璃有限公司"}]
[{"$f":"[1]债权基本情况!A82","v":81},"南通",{"$f":"[1]债权基本情况!C82","v":"华东工业设备安装股份有限公司"},{"$f":"[1]债权基本情况!D82","v":{"v":985.309861,"d":"985.31"}},{"$f":"[1]债权基本情况!E82","v":{"v":1758.08802371334,"d":"1758.09"}},{"$f":"[1]Sheet7!F63","v":"南通英雄建设集团有限公司、王国祥、金淑芬"}]
[{"$f":"[1]债权基本情况!A83","v":82},"南通",{"$f":"[1]债权基本情况!C83","v":"江苏金轮装饰集团股份有限公司"},{"$f":"[1]债权基本情况!D83","v":{"v":1488.271827,"d":"1488.27"}},{"$f":"[1]债权基本情况!E83","v":{"v":1732.728792,"d":"1732.73"}},{"$f":"[1]Sheet7!F64","v":"南通英雄建设集团有限公司"}]
[{"$f":"[1]债权基本情况!A84","v":83},"徐州",{"$f":"[1]债权基本情况!C84","v":"徐州江峰金属制品有限公司"},{"$f":"[1]债权基本情况!D84","v":{"v":131.909809,"d":"131.91"}},{"$f":"[1]债权基本情况!E84","v":{"v":0,"d":"0.00"}},{"$f":"[1]Sheet7!F65","v":"尤宝乾、尤惠芬"}]
[{"$f":"[1]债权基本情况!A85","v":84},"宿迁",{"$f":"[1]债权基本情况!C85","v":"宿迁市赛普箱包有限公司"},{"$f":"[1]债权基本情况!D85","v":{"v":4.3,"d":"4.30"}},{"$f":"[1]债权基本情况!E85","v":{"v":0,"d":"0.00"}},{"$f":"[1]Sheet7!F66","v":"冯开梁"}]
[{"$f":"[1]债权基本情况!A86","v":85},"徐州",{"$f":"[1]债权基本情况!C86","v":"江苏汉中建设集团有限公司"},{"$f":"[1]债权基本情况!D86","v":{"v":4007.587725,"d":"4007.59"}},{"$f":"[1]债权基本情况!E86","v":{"v":7686.77313497125,"d":"7686.77"}},{"$f":"[1]Sheet7!F67","v":"江苏联孚建设工程有限公司、徐州科嘉钢结构工程有限公司、吴显辉"}]
[{"$f":"[1]债权基本情况!A87","v":86},"徐州",{"$f":"[1]债权基本情况!C87","v":"徐州鼎坤商贸有限公司"},{"$f":"[1]债权基本情况!D87","v":{"v":989.999997,"d":"990.00"}},{"$f":"[1]债权基本情况!E87","v":{"v":1844.58130812201,"d":"1844.58"}},{"$f":"[1]Sheet7!F68","v":"徐州汉中福禧企业管理有限公司、吴显辉、徐州东吴置业有限公司、江苏汉中建设集团有限公司"}]
[{"$f":"[1]债权基本情况!A88","v":87},"徐州",{"$f":"[1]债权基本情况!C88","v":"徐州汉中福禧企业管理有限公司"},{"$f":"[1]债权基本情况!D88","v":{"v":996.12744,"d":"996.13"}},{"$f":"[1]债权基本情况!E88","v":{"v":1863.74928466825,"d":"1863.75"}},{"$f":"[1]Sheet7!F69","v":"徐州科嘉钢结构工程有限公司、吴显辉"}]
[{"$f":"[1]债权基本情况!A89","v":88},"苏州",{"$f":"[1]债权基本情况!C89","v":"江苏豪威富电气股份有限公司"},{"$f":"[1]债权基本情况!D89","v":{"v":5312.534812,"d":"5312.53"}},{"$f":"[1]债权基本情况!E89","v":{"v":8292.364588,"d":"8292.36"}},{"$f":"[1]Sheet7!F70","v":"常熟市豪威富钢管股份有限责任公司、江苏豪威富集团有限公司、秦惠明、倪美玉、秦宇、许静"}]
[{"$f":"[1]债权基本情况!A90","v":89},"苏州",{"$f":"[1]债权基本情况!C90","v":"吴江永祥酒精制造有限公司"},{"$f":"[1]债权基本情况!D90","v":{"v":4738.063366,"d":"4738.06"}},{"$f":"[1]债权基本情况!E90","v":{"v":1099.293795,"d":"1099.29"}},{"$f":"[1]Sheet7!F71","v":"吴江市煜祥房地产开发有限公司、邱根仙、严坤祥（由沈荣跃、严玉英、邱根仙继承遗产，故由此三人作为保证人）、吴江市金鑫农村小额贷款有限公司、苏州通鼎非融资性担保发展有限公司、苏州宇晨纤维科技有限公司、徐坤荣、吴江市富圣化纤有限公司"}]
[{"$f":"[1]债权基本情况!A91","v":90},"苏州",{"$f":"[1]债权基本情况!C91","v":"吴江恒源金属制品有限公司"},{"$f":"[1]债权基本情况!D91","v":{"v":1614.541028,"d":"1614.54"}},{"$f":"[1]债权基本情况!E91","v":{"v":2383.76188,"d":"2383.76"}},{"$f":"[1]Sheet7!F72","v":"陆丽英、陆福明、陆丽强、孔婷婷、陆金龙、施明娥、吴江市巨龙金属带箔有限责任公司"}]
[{"$f":"[1]债权基本情况!A92","v":91},"苏州",{"$f":"[1]债权基本情况!C92","v":"吴江市巨龙金属带箔有限责任公司"},{"$f":"[1]债权基本情况!D92","v":{"v":763.096736,"d":"763.10"}},{"$f":"[1]债权基本情况!E92","v":{"v":2354.626598,"d":"2354.63"}},{"$f":"[1]Sheet7!F73","v":"吴江市恒源金属制品有限公司、陆丽英、陆福明、陆金龙、施明娥、陆丽强、孔婷婷"}]
[{"$f":"[1]债权基本情况!A93","v":92},"苏州",{"$f":"[1]债权基本情况!C93","v":"苏州力邦纺织实业发展有限公司"},{"$f":"[1]债权基本情况!D93","v":{"v":384.315332,"d":"384.32"}},{"$f":"[1]债权基本情况!E93","v":{"v":221.3248956,"d":"221.32"}},{"$f":"[1]Sheet7!F74","v":"吴江胜超布业织造有限公司、俞福希、俞美燕、林顺明、余赛美、周朝清、周美玲"}]
[{"$f":"[1]债权基本情况!A94","v":93},"苏州",{"$f":"[1]债权基本情况!C94","v":"方圆化纤有限公司"},{"$f":"[1]债权基本情况!D94","v":{"v":1226.268346,"d":"1226.27"}},{"$f":"[1]债权基本情况!E94","v":{"v":1655.295921,"d":"1655.30"}},{"$f":"[1]Sheet7!F75","v":"苏州好麦尔服装有限公司、戴锦亮、俞剑影"}]
[{"$f":"[1]债权基本情况!A95","v":94},"苏州",{"$f":"[1]债权基本情况!C95","v":"吴江市万豪纺织有限公司"},{"$f":"[1]债权基本情况!D95","v":{"v":861,"d":"861.00"}},{"$f":"[1]债权基本情况!E95","v":{"v":787.391283,"d":"787.39"}},{"$f":"[1]Sheet7!F76","v":"吴江市巨诚喷织有限公司、好运来(吴江)纺织有限公司，莫卫华、杨永妹；"}]
[{"$f":"[1]债权基本情况!A96","v":95},"苏州",{"$f":"[1]债权基本情况!C96","v":"吴江市恒达布业有限公司"},{"$f":"[1]债权基本情况!D96","v":{"v":2990,"d":"2990.00"}},{"$f":"[1]债权基本情况!E96","v":{"v":532.719486,"d":"532.72"}},{"$f":"[1]Sheet7!F77","v":"吴江市巨诚喷织有限公司、云飞氨纶（苏州）有限公司、沃德盛光伏科技(苏州)有限公司，莫卫华、杨永妹"}]
[{"$f":"[1]债权基本情况!A97","v":96},"苏州",{"$f":"[1]债权基本情况!C97","v":"吴江市丽丰喷水织造厂"},{"$f":"[1]债权基本情况!D97","v":{"v":2000,"d":"2000.00"}},{"$f":"[1]债权基本情况!E97","v":{"v":448.145349,"d":"448.15"}},{"$f":"[1]Sheet7!F78","v":"吴江市巨诚喷织有限公司，莫卫华、杨永妹；"}]
[{"$f":"[1]债权基本情况!A98","v":97},"苏州",{"$f":"[1]债权基本情况!C98","v":"云飞氨纶（苏州）有限公司"},{"$f":"[1]债权基本情况!D98","v":{"v":1469,"d":"1469.00"}},{"$f":"[1]债权基本情况!E98","v":{"v":303.353184,"d":"303.35"}},{"$f":"[1]Sheet7!F79","v":"吴江市巨诚喷织有限公司，莫卫华、杨永妹；"}]
[{"$f":"[1]债权基本情况!A99","v":98},"苏州",{"$f":"[1]债权基本情况!C99","v":"吴江时代印染有限公司"},{"$f":"[1]债权基本情况!D99","v":{"v":1694.250826,"d":"1694.25"}},{"$f":"[1]债权基本情况!E99","v":{"v":79.3868609999999,"d":"79.39"}},{"$f":"[1]Sheet7!F80","v":"德科集团、德科(苏州)纺织有限公司，翁惠春、鲍卫红；"}]
[{"$f":"[1]债权基本情况!A100","v":99},"苏州",{"$f":"[1]债权基本情况!C100","v":"吴江鑫之源丝绸有限公司"},{"$f":"[1]债权基本情况!D100","v":{"v":2165,"d":"2165.00"}},{"$f":"[1]债权基本情况!E100","v":{"v":340.383171,"d":"340.38"}},{"$f":"[1]Sheet7!F81","v":"吴江市润丰织造有限公司、苏州盈和实业有限公司、苏州龙英织染有限公司、吴建林、钱惠芬；"}]
[{"$f":"[1]债权基本情况!A101","v":100},"苏州",{"$f":"[1]债权基本情况!C101","v":"苏州坤润纺织科技有限公司"},{"$f":"[1]债权基本情况!D101","v":{"v":14249.271075,"d":"14249.27"}},{"$f":"[1]债权基本情况!E101","v":{"v":0,"d":"0.00"}},{"$f":"[1]Sheet7!F82","v":"吴江市富圣化纤有限公司、吴江市天迈纺织机械科技有限公司、吴江永祥酒精制造有限公司、吴江市正晖喷织有限公司、江苏法诗菲服饰有限公司、湖州银基房地产开发有限公司、吴江市煜祥房地产开发有限公司、严坤祥、邱根仙、龚建根、徐凤妹"}]
[{"$f":"[1]债权基本情况!A102","v":101},"苏州",{"$f":"[1]债权基本情况!C102","v":"苏州工业园区东吴工贸有限公司"},{"$f":"[1]债权基本情况!D102","v":{"v":310.0591,"d":"310.06"}},{"$f":"[1]债权基本情况!E102","v":{"v":466.201773174033,"d":"466.20"}},{"$f":"[1]Sheet7!F83","v":"沈卫国、吴业新"}]
[{"$f":"[1]债权基本情况!A103","v":102},"苏州",{"$f":"[1]债权基本情况!C103","v":"苏州工业园区大地景观工程有限公司"},{"$f":"[1]债权基本情况!D103","v":{"v":2676.404766,"d":"2676.40"}},{"$f":"[1]债权基本情况!E103","v":{"v":0,"d":"0.00"}},{"$f":"[1]Sheet7!F84","v":"祝丽新、陶建生"}]
[{"$f":"[1]债权基本情况!A104","v":103},"无锡",{"$f":"[1]债权基本情况!C104","v":"江阴福斯特纺织有限公司"},{"$f":"[1]债权基本情况!D104","v":{"v":5676.806591,"d":"5676.81"}},{"$f":"[1]债权基本情况!E104","v":{"v":5861.43778348207,"d":"5861.44"}},{"$f":"[1]Sheet7!F85","v":"杨国锋、张霞、江阴市东骏纺织有限公司、江阴耐士铁金属制品有限公司                     "}]
[{"$f":"[1]债权基本情况!A105","v":104},"无锡",{"$f":"[1]债权基本情况!C105","v":"江苏莱顿宝富塑化有限公司"},{"$f":"[1]债权基本情况!D105","v":{"v":40049.433341,"d":"40049.43"}},{"$f":"[1]债权基本情况!E105","v":{"v":35077.67943712,"d":"35077.68"}},{"$f":"[1]Sheet7!F86","v":"江苏莱顿集团有限公司、宜兴市金源置业有限公司、宜兴坤坤轻纺有限公司、江苏坤风纺织品有限公司、江苏江旭铸造集团有限公司、杭盘大、杭解华"}]
[{"$f":"[1]债权基本情况!A106","v":105},"南通",{"$f":"[1]债权基本情况!C106","v":"南通盈晖石油化工有限公司"},{"$f":"[1]债权基本情况!D106","v":{"v":7169.28831,"d":"7169.29"}},{"$f":"[1]债权基本情况!E106","v":{"v":8508.933566668,"d":"8508.93"}},{"$f":"[1]Sheet7!F87","v":"南通诚晖石油化工有限公司、北京永晖投资有限公司、王晓莉"}]
[{"$f":"[1]债权基本情况!A107","v":106},"南通",{"$f":"[1]债权基本情况!C107","v":"南通首控石化有限公司"},{"$f":"[1]债权基本情况!D107","v":{"v":280,"d":"280.00"}},{"$f":"[1]债权基本情况!E107","v":{"v":785.150514363495,"d":"785.15"}},{"$f":"[1]Sheet7!F88","v":"南通诚晖石油化工有限公司"}]
[{"$f":"[1]债权基本情况!A108","v":107},"镇江",{"$f":"[1]债权基本情况!C108","v":"江苏飞达工具股份有限公司"},{"$f":"[1]债权基本情况!D108","v":{"v":6496.822435,"d":"6496.82"}},{"$f":"[1]债权基本情况!E108","v":{"v":6623.16967122667,"d":"6623.17"}},{"$f":"[1]Sheet7!F89","v":"江苏飞达板材有限公司、江苏飞达控股集团有限公司、朱国平、朱丽霞                                              "},{"$f":"[1]Sheet7!G89","v":"1、抵押物所有权人：江苏飞达板材有限公司；机器设备；最高抵押金额：人民币34000000.00元；2、押物所有权人：江苏飞达板材有限公司；机器设备；最高抵押金额：人民币29000000.00元。3、抵押物所有权人：江苏飞达板材有限公司；机器设备；抵押金额：人民币16500000.00元；江苏飞达板材有限公司设备抵押，精轧机等生产设备，位于丹阳市后巷镇厂房内。"}]
[{"$f":"[1]债权基本情况!A109","v":108},"无锡",{"$f":"[1]债权基本情况!C109","v":"无锡市万贯物资有限公司"},{"$f":"[1]债权基本情况!D109","v":{"v":2450,"d":"2450.00"}},{"$f":"[1]债权基本情况!E109","v":{"v":1151.110371,"d":"1151.11"}},{"$f":"[1]Sheet7!F90","v":"江阴市鑫品长江码头钢材城管理有限公司、龚寿坤、龚宝章"}]
[{"$f":"[1]债权基本情况!A110","v":109},"无锡",{"$f":"[1]债权基本情况!C110","v":"江苏明通机械设备有限公司"},{"$f":"[1]债权基本情况!D110","v":{"v":788.636279,"d":"788.64"}},{"$f":"[1]债权基本情况!E110","v":{"v":2746.34581652362,"d":"2746.35"}},{"$f":"[1]Sheet7!F91","v":"阿迷拉化学品宜兴有限公司、秦志元、顾建明、李东松、董桂芳"}]
[{"$f":"[1]债权基本情况!A111","v":110},"无锡",{"$f":"[1]债权基本情况!C111","v":"江苏明通电力科技有限公司"},{"$f":"[1]债权基本情况!D111","v":{"v":1468.353927,"d":"1468.35"}},{"$f":"[1]债权基本情况!E111","v":{"v":2510.3694487708,"d":"2510.37"}},{"$f":"[1]Sheet7!F92","v":"江苏明秀环境科技有限公司、顾建明、董桂芳"}]
[{"$f":"[1]债权基本情况!A112","v":111},"无锡",{"$f":"[1]债权基本情况!C112","v":"无锡皇津贸易有限公司"},{"$f":"[1]债权基本情况!D112","v":{"v":1449.801112,"d":"1449.80"}},{"$f":"[1]债权基本情况!E112","v":{"v":2334.4246320504,"d":"2334.42"}},{"$f":"[1]Sheet7!F93","v":"谢爱珍、叶仁茂、陈景英 谢锦洪、彭盛国、无锡市熠海利物资有限公司"},{"$f":"[1]Sheet7!G93","v":"锦绣商业广场5-106、5-206、5-306、8-424、8-426、8-428、147-148、144-146、8-416、155，共计973.45平方米。"}]
[{"$f":"[1]债权基本情况!A113","v":112},"无锡",{"$f":"[1]债权基本情况!C113","v":"无锡明阔钢铁有限公司"},{"$f":"[1]债权基本情况!D113","v":{"v":1420.142694,"d":"1420.14"}},{"$f":"[1]债权基本情况!E113","v":{"v":2289.052094285,"d":"2289.05"}},{"$f":"[1]Sheet7!F94","v":"江苏省中强担保有限公司、无锡广益钢材城有限公司、无锡广华投资发展有限公司、陈文扬、吴华福、郑黄宙、郑溴苹、郑禧平"}]
[{"$f":"[1]债权基本情况!A114","v":113},"无锡",{"$f":"[1]债权基本情况!C114","v":"无锡量福钢铁有限公司"},{"$f":"[1]债权基本情况!D114","v":{"v":1418.222306,"d":"1418.22"}},{"$f":"[1]债权基本情况!E114","v":{"v":2427.00587707642,"d":"2427.01"}},{"$f":"[1]Sheet7!F95","v":"江苏省中强担保有限公司、无锡广益钢材城有限公司、无锡广华投资发展有限公司、陈文扬、吴华福、周神文、徐董芬、连金声"}]
[{"$f":"[1]债权基本情况!A115","v":114},"无锡",{"$f":"[1]债权基本情况!C115","v":"无锡天广和钢铁有限公司"},{"$f":"[1]债权基本情况!D115","v":{"v":1383.824109,"d":"1383.82"}},{"$f":"[1]债权基本情况!E115","v":{"v":2399.57898669187,"d":"2399.58"}},{"$f":"[1]Sheet7!F96","v":"江苏省中强担保有限公司、无锡广益钢材城有限公司、无锡广华投资发展有限公司、陈文扬、吴华福、陈建金、尹恒"}]
[{"$f":"[1]债权基本情况!A116","v":115},"无锡",{"$f":"[1]债权基本情况!C116","v":"无锡强厚贸易有限公司"},{"$f":"[1]债权基本情况!D116","v":{"v":498.038718,"d":"498.04"}},{"$f":"[1]债权基本情况!E116","v":{"v":2692.940777652,"d":"2692.94"}},{"$f":"[1]Sheet7!F97","v":"无锡帝诺投资担保有限公司、无锡帝诺联合资产投资管理有限公司、彭小雪、林孙锁、无锡帝福钢贸有限公司"}]
[{"$f":"[1]债权基本情况!A117","v":116},"无锡",{"$f":"[1]债权基本情况!C117","v":"无锡九融贸易发展有限公司"},{"$f":"[1]债权基本情况!D117","v":{"v":431.483143,"d":"431.48"}},{"$f":"[1]债权基本情况!E117","v":{"v":1148.18109400134,"d":"1148.18"}},{"$f":"[1]Sheet7!F98","v":"刘卫进、许家蕊、无锡文基商贸有限公司、叶震"}]
[{"$f":"[1]债权基本情况!A118","v":117},"无锡",{"$f":"[1]债权基本情况!C118","v":"江阴市宏企钢铁有限公司"},{"$f":"[1]债权基本情况!D118","v":{"v":1300,"d":"1300.00"}},{"$f":"[1]债权基本情况!E118","v":{"v":2012.8860680816,"d":"2012.89"}},{"$f":"[1]Sheet7!F99","v":"彭盛国、无锡林特服贸易有限公司、无锡桑之博贸易有限公司"},{"$f":"[1]Sheet7!G99","v":"惠山区长安街道锦绣商业广场8-103、104，共计604.22平方米。"}]
[{"$f":"[1]债权基本情况!A119","v":118},"无锡",{"$f":"[1]债权基本情况!C119","v":"无锡钢德利金属材料有限公司"},{"$f":"[1]债权基本情况!D119","v":{"v":1215.049071,"d":"1215.05"}},{"$f":"[1]债权基本情况!E119","v":{"v":2184.7353279604,"d":"2184.74"}},{"$f":"[1]Sheet7!F100","v":"郑妙杉、姚春速、无锡龙之杰投资担保有限公司、无锡龙之杰钢材市场管理有限公司、江苏龙之杰钢铁交易中心有限公司、郑长地、刘秀清、郑辉、侯书雅、吴剑洪、王玮怡"}]
[{"$f":"[1]债权基本情况!A120","v":119},"无锡",{"$f":"[1]债权基本情况!C120","v":"无锡启阳工贸有限公司"},{"$f":"[1]债权基本情况!D120","v":{"v":1214.103285,"d":"1214.10"}},{"$f":"[1]债权基本情况!E120","v":{"v":2107.4476787948,"d":"2107.45"}},{"$f":"[1]Sheet7!F101","v":"郑自毅、刘位福、郑晶晶、无锡龙之杰投资担保有限公司、无锡龙之杰钢材市场管理有限公司、江苏龙之杰钢铁交易中心有限公司、郑长地、刘秀清、郑辉、侯书雅、吴剑洪、王玮怡"}]
[{"$f":"[1]债权基本情况!A121","v":120},"无锡",{"$f":"[1]债权基本情况!C121","v":"宜兴大唐机械设备有限公司"},{"$f":"[1]债权基本情况!D121","v":{"v":65.679653,"d":"65.68"}},{"$f":"[1]债权基本情况!E121","v":{"v":1125.13129114499,"d":"1125.13"}},{"$f":"[1]Sheet7!F102","v":"徐丽琴"}]
[{"$f":"[1]债权基本情况!A122","v":121},"无锡",{"$f":"[1]债权基本情况!C122","v":"江阴市永旭钢铁贸易有限公司"},{"$f":"[1]债权基本情况!D122","v":{"v":1200,"d":"1200.00"}},{"$f":"[1]债权基本情况!E122","v":{"v":1845.8943741768,"d":"1845.89"}},{"$f":"[1]Sheet7!F103","v":"周华杰、无锡茂之祥商贸有限公司、周秋丹/张裕斌、无锡绍峰贸易有限公司、周伦琴"},{"$f":"[1]Sheet7!G103","v":"惠山区长安街道锦绣商业广场1-133、110、8-105、302、304、306、307、309、311、313，共计950.07平方米。"}]
[{"$f":"[1]债权基本情况!A123","v":122},"无锡",{"$f":"[1]债权基本情况!C123","v":"宜兴市中宇电冶设备有限公司"},{"$f":"[1]债权基本情况!D123","v":{"v":259.182402,"d":"259.18"}},{"$f":"[1]债权基本情况!E123","v":{"v":1186.5968505892,"d":"1186.60"}},{"$f":"[1]Sheet7!F104","v":"江苏明秀环境科技有限公司、钱建勤"}]
[{"$f":"[1]债权基本情况!A124","v":123},"无锡",{"$f":"[1]债权基本情况!C124","v":"无锡如亨钢铁有限公司"},{"$f":"[1]债权基本情况!D124","v":{"v":1193.803569,"d":"1193.80"}},{"$f":"[1]债权基本情况!E124","v":{"v":1899.37787153728,"d":"1899.38"}},{"$f":"[1]Sheet7!F105","v":"江苏省中强担保有限公司、无锡广益钢材城有限公司、无锡广华投资发展有限公司、陈文扬、吴华福、黄石峰、梅国英"}]
[{"$f":"[1]债权基本情况!A125","v":124},"无锡",{"$f":"[1]债权基本情况!C125","v":"无锡冉行物资贸易有限公司"},{"$f":"[1]债权基本情况!D125","v":{"v":1191.117437,"d":"1191.12"}},{"$f":"[1]债权基本情况!E125","v":{"v":2019.9939187556,"d":"2019.99"}},{"$f":"[1]Sheet7!F106","v":"江苏省中强担保有限公司、无锡广益钢材城有限公司、无锡广华投资发展有限公司、陈文扬、吴华福、阮圣留、林敬金"}]
[{"$f":"[1]债权基本情况!A126","v":125},"无锡",{"$f":"[1]债权基本情况!C126","v":"无锡禄创钢铁有限公司"},{"$f":"[1]债权基本情况!D126","v":{"v":1190,"d":"1190.00"}},{"$f":"[1]债权基本情况!E126","v":{"v":2093.8336289484,"d":"2093.83"}},{"$f":"[1]Sheet7!F107","v":"江阴市鑫品长江码头钢材城管理有限公司、陈成绿、张芳珍、周鸿、刘丽菊、"}]
[{"$f":"[1]债权基本情况!A127","v":126},"无锡",{"$f":"[1]债权基本情况!C127","v":"无锡登浦钢铁贸易有限公司"},{"$f":"[1]债权基本情况!D127","v":{"v":1169.9,"d":"1169.90"}},{"$f":"[1]债权基本情况!E127","v":{"v":1774.390565762,"d":"1774.39"}},{"$f":"[1]Sheet7!F108","v":"华秋平、缪菊英、华晓艳、华建东、华建斌"},{"$f":"[1]Sheet7!G108","v":"锦绣商业广场119-122，共计599.26平方米。"}]
[{"$f":"[1]债权基本情况!A128","v":127},"无锡",{"$f":"[1]债权基本情况!C128","v":"无锡赫融钢铁贸易有限公司"},{"$f":"[1]债权基本情况!D128","v":{"v":5.511652,"d":"5.51"}},{"$f":"[1]债权基本情况!E128","v":{"v":304.9873383224,"d":"304.99"}},{"$f":"[1]Sheet7!F109","v":"中企联江苏担保有限公司、无锡金山投资管理有限公司、肖家达、魏木莲、无锡华成门窗有限公司、孙一峰、廖清，肖家洪、魏树兰"}]
[{"$f":"[1]债权基本情况!A129","v":128},"无锡",{"$f":"[1]债权基本情况!C129","v":"无锡新宜筑物资有限公司"},{"$f":"[1]债权基本情况!D129","v":{"v":1119.001768,"d":"1119.00"}},{"$f":"[1]债权基本情况!E129","v":{"v":2130.71188931091,"d":"2130.71"}},{"$f":"[1]Sheet7!F110","v":"中企联江苏担保有限公司、无锡金山投资管理有限公司、肖家达、魏木莲、无锡华成门窗有限公司、孙一峰、林惠禄，郑巧容、郑雄斌，李爱平"}]
[{"$f":"[1]债权基本情况!A130","v":129},"无锡",{"$f":"[1]债权基本情况!C130","v":"无锡尚全物资贸易有限公司"},{"$f":"[1]债权基本情况!D130","v":{"v":1112.371752,"d":"1112.37"}},{"$f":"[1]债权基本情况!E130","v":{"v":1911.941828068,"d":"1911.94"}},{"$f":"[1]Sheet7!F111","v":"刘振捷、许菊梅、刘长国、无锡龙之杰投资担保有限公司、无锡龙之杰钢材市场管理有限公司、江苏龙之杰钢铁交易中心有限公司、郑长地、刘秀清、郑辉、侯书雅、吴剑洪、王玮怡"}]
[{"$f":"[1]债权基本情况!A131","v":130},"无锡",{"$f":"[1]债权基本情况!C131","v":"江阴市丰茂钢铁贸易有限公司"},{"$f":"[1]债权基本情况!D131","v":{"v":36.918484,"d":"36.92"}},{"$f":"[1]债权基本情况!E131","v":{"v":734.390631018233,"d":"734.39"}},{"$f":"[1]Sheet7!F112","v":"刘树生、汪力、陈必松、周龙霞"}]
[{"$f":"[1]债权基本情况!A132","v":131},"无锡",{"$f":"[1]债权基本情况!C132","v":"无锡群岳钢铁有限公司"},{"$f":"[1]债权基本情况!D132","v":{"v":358.45978,"d":"358.46"}},{"$f":"[1]债权基本情况!E132","v":{"v":1274.2713666092,"d":"1274.27"}},{"$f":"[1]Sheet7!F113","v":"李机辉、李屾"}]
[{"$f":"[1]债权基本情况!A133","v":132},"无锡",{"$f":"[1]债权基本情况!C133","v":"无锡登涛贸易有限公司"},{"$f":"[1]债权基本情况!D133","v":{"v":1099.997771,"d":"1100.00"}},{"$f":"[1]债权基本情况!E133","v":{"v":2419.21983382007,"d":"2419.22"}},{"$f":"[1]Sheet7!F114","v":"无锡宝港国际物流城管理有限公司、无锡银企担保有限公司、肖国树、李蓓薇、胡杰、何建华、郑建平"}]
[{"$f":"[1]债权基本情况!A134","v":133},"无锡",{"$f":"[1]债权基本情况!C134","v":"无锡时昌物资有限公司"},{"$f":"[1]债权基本情况!D134","v":{"v":1085.616374,"d":"1085.62"}},{"$f":"[1]债权基本情况!E134","v":{"v":1892.73670390048,"d":"1892.74"}},{"$f":"[1]Sheet7!F115","v":"郑正瑞、郑小丽、肖传贵、无锡龙之杰投资担保有限公司、无锡龙之杰钢材市场管理有限公司、江苏龙之杰钢铁交易中心有限公司、郑长地、刘秀清、郑辉、侯书雅、吴剑洪、王玮怡"}]
[{"$f":"[1]债权基本情况!A135","v":134},"无锡",{"$f":"[1]债权基本情况!C135","v":"无锡泉通金属材料有限公司"},{"$f":"[1]债权基本情况!D135","v":{"v":1044.655515,"d":"1044.66"}},{"$f":"[1]债权基本情况!E135","v":{"v":1807.16609113224,"d":"1807.17"}},{"$f":"[1]Sheet7!F116","v":"李陈煊、李大务、无锡龙之杰投资担保有限公司、无锡龙之杰钢材市场管理有限公司、江苏龙之杰钢铁交易中心有限公司、郑长地、刘秀清、郑辉、侯书雅、吴剑洪、王玮怡"}]
[{"$f":"[1]债权基本情况!A136","v":135},"无锡",{"$f":"[1]债权基本情况!C136","v":"无锡东灿金属材料有限公司"},{"$f":"[1]债权基本情况!D136","v":{"v":1002.10007,"d":"1002.10"}},{"$f":"[1]债权基本情况!E136","v":{"v":1832.85832170624,"d":"1832.86"}},{"$f":"[1]Sheet7!F117","v":"李陈妹、连世杏、连荣斌、潘林燕、连荣斌、潘林燕、无锡龙之杰投资担保有限公司、无锡龙之杰钢材市场管理有限公司、江苏龙之杰钢铁交易中心有限公司、郑长地、刘秀清、郑辉、侯书雅、吴剑洪、王玮怡"}]
[{"$f":"[1]债权基本情况!A137","v":136},"无锡",{"$f":"[1]债权基本情况!C137","v":"江苏韦帕环境工程有限公司"},{"$f":"[1]债权基本情况!D137","v":{"v":1000,"d":"1000.00"}},{"$f":"[1]债权基本情况!E137","v":{"v":1569.0910714667,"d":"1569.09"}},{"$f":"[1]Sheet7!F118","v":"江苏熙友磁电科技有限公司、陈建国、鲁灵利"}]
[{"$f":"[1]债权基本情况!A138","v":137},"无锡",{"$f":"[1]债权基本情况!C138","v":"无锡恒储金属材料有限公司"},{"$f":"[1]债权基本情况!D138","v":{"v":304.94512,"d":"304.95"}},{"$f":"[1]债权基本情况!E138","v":{"v":1045.51316443358,"d":"1045.51"}},{"$f":"[1]Sheet7!F119","v":"无锡广华投资发展有限公司、郑友相、彭金清"}]
[{"$f":"[1]债权基本情况!A139","v":138},"无锡",{"$f":"[1]债权基本情况!C139","v":"无锡泓准物资贸易有限公司"},{"$f":"[1]债权基本情况!D139","v":{"v":308.1532,"d":"308.15"}},{"$f":"[1]债权基本情况!E139","v":{"v":1048.64818339382,"d":"1048.65"}},{"$f":"[1]Sheet7!F120","v":"无锡广华投资发展有限公司、彭忠信、吴德花、吴秀美"}]
[{"$f":"[1]债权基本情况!A140","v":139},"无锡",{"$f":"[1]债权基本情况!C140","v":"无锡丰杰钢铁贸易有限公司"},{"$f":"[1]债权基本情况!D140","v":{"v":1000,"d":"1000.00"}},{"$f":"[1]债权基本情况!E140","v":{"v":1683.6112734585,"d":"1683.61"}},{"$f":"[1]Sheet7!F121","v":"詹丽平、无锡李特儿商贸有限公司"}]
[{"$f":"[1]债权基本情况!A141","v":140},"无锡",{"$f":"[1]债权基本情况!C141","v":"无锡旭红钢铁有限公司"},{"$f":"[1]债权基本情况!D141","v":{"v":947.5746,"d":"947.57"}},{"$f":"[1]债权基本情况!E141","v":{"v":1673.48621458704,"d":"1673.49"}},{"$f":"[1]Sheet7!F122","v":"无锡广华投资发展有限公司、范丽、陈文卿"},{"$f":"[1]Sheet7!G122","v":"无锡市梁溪区江海东路江海东路588-21-706、707、708、709、801、802、803、804、805、806、807、808、809、810、901、902、1001，面积合计1384.41平方米。\n"}]
[{"$f":"[1]债权基本情况!A142","v":141},"无锡",{"$f":"[1]债权基本情况!C142","v":"无锡创可物资有限公司"},{"$f":"[1]债权基本情况!D142","v":{"v":939.325093,"d":"939.33"}},{"$f":"[1]债权基本情况!E142","v":{"v":1610.3327846108,"d":"1610.33"}},{"$f":"[1]Sheet7!F123","v":"林庆华、龚丽琼、无锡灿储贸易有限公司、林开红"},{"$f":"[1]Sheet7!G123","v":"锦绣商业广场139、163、141-143、157-160，共计510.15平方米。"}]
[{"$f":"[1]债权基本情况!A143","v":142},"无锡",{"$f":"[1]债权基本情况!C143","v":"无锡健壮钢铁有限公司"},{"$f":"[1]债权基本情况!D143","v":{"v":419.177906,"d":"419.18"}},{"$f":"[1]债权基本情况!E143","v":{"v":1082.390685271,"d":"1082.39"}},"无锡广华投资发展有限公司、阮谢椿、李贵洪、阮建伟","无锡市梁溪区江海东路588-21-701、702、703、704、705、903，\n共计511.37平方米。"]
[{"$f":"[1]债权基本情况!A144","v":143},"无锡",{"$f":"[1]债权基本情况!C144","v":"无锡迈程金属材料有限公司"},{"$f":"[1]债权基本情况!D144","v":{"v":253.551564,"d":"253.55"}},{"$f":"[1]债权基本情况!E144","v":{"v":667.24535175755,"d":"667.25"}},{"$f":"[1]Sheet7!F125","v":"汤赞设、李碧清、汤扬"}]
[{"$f":"[1]债权基本情况!A145","v":144},"无锡",{"$f":"[1]债权基本情况!C145","v":"无锡天冀金属材料有限公司"},{"$f":"[1]债权基本情况!D145","v":{"v":529.998923,"d":"530.00"}},{"$f":"[1]债权基本情况!E145","v":{"v":1190.67741065068,"d":"1190.68"}},{"$f":"[1]Sheet7!F126","v":"无锡广华投资发展有限公司、陈建胜、陈喜春、陈文扬"},{"$f":"[1]Sheet7!G126","v":"无锡市梁溪区江海东路588-21-710、904、905、906、907、908、909、910商业房产，共计755.82平方米。"}]
[{"$f":"[1]债权基本情况!A146","v":145},"无锡",{"$f":"[1]债权基本情况!C146","v":"无锡鸿庆钢铁有限公司"},{"$f":"[1]债权基本情况!D146","v":{"v":899.985071,"d":"899.99"}},{"$f":"[1]债权基本情况!E146","v":{"v":432.248533,"d":"432.25"}},{"$f":"[1]Sheet7!F127","v":"江苏省中强担保有限公司、无锡广益钢材城有限公司、无锡广华投资发展有限公司、陈文扬、吴华福、孙颖强、周小兰"}]
[{"$f":"[1]债权基本情况!A147","v":146},"无锡",{"$f":"[1]债权基本情况!C147","v":"无锡铸金钢铁有限公司"},{"$f":"[1]债权基本情况!D147","v":{"v":898.815606,"d":"898.82"}},{"$f":"[1]债权基本情况!E147","v":{"v":424.784127,"d":"424.78"}},{"$f":"[1]Sheet7!F128","v":"江苏省中强担保有限公司、无锡广益钢材城有限公司、无锡广华投资发展有限公司、陈文扬、吴华福、陈祥、魏丽雯、陈明"}]
[{"$f":"[1]债权基本情况!A148","v":147},"无锡",{"$f":"[1]债权基本情况!C148","v":"无锡巨海钢铁有限公司"},{"$f":"[1]债权基本情况!D148","v":{"v":896.917341,"d":"896.92"}},{"$f":"[1]债权基本情况!E148","v":{"v":425.398685,"d":"425.40"}},{"$f":"[1]Sheet7!F129","v":"江苏省中强担保有限公司、无锡广益钢材城有限公司、无锡广华投资发展有限公司、陈文扬、吴华福、周华丹、陈孙辉"}]
[{"$f":"[1]债权基本情况!A149","v":148},"无锡",{"$f":"[1]债权基本情况!C149","v":"无锡键俊萱物资有限公司"},{"$f":"[1]债权基本情况!D149","v":{"v":479.404307,"d":"479.40"}},{"$f":"[1]债权基本情况!E149","v":{"v":736.562246,"d":"736.56"}},{"$f":"[1]Sheet7!F130","v":"王俊梅、肖建州、彭盛国"}]
[{"$f":"[1]债权基本情况!A150","v":149},"无锡",{"$f":"[1]债权基本情况!C150","v":"无锡丰弘金属材料有限公司"},{"$f":"[1]债权基本情况!D150","v":{"v":842.887366,"d":"842.89"}},{"$f":"[1]债权基本情况!E150","v":{"v":1451.6322611536,"d":"1451.63"}},{"$f":"[1]Sheet7!F131","v":"郑先堂、郑江英、张金凤、无锡龙之杰投资担保有限公司、无锡龙之杰钢材市场管理有限公司、江苏龙之杰钢铁交易中心有限公司、郑长地、刘秀清、郑辉、侯书雅、吴剑洪、王玮怡"}]
[{"$f":"[1]债权基本情况!A151","v":150},"无锡",{"$f":"[1]债权基本情况!C151","v":"无锡星斗经贸有限公司"},{"$f":"[1]债权基本情况!D151","v":{"v":850,"d":"850.00"}},{"$f":"[1]债权基本情况!E151","v":{"v":1173.82019997485,"d":"1173.82"}},{"$f":"[1]Sheet7!F132","v":"林兆炳、何丽云"},{"$f":"[1]Sheet7!G132","v":"惠山区长安街道锦绣商业广场9-112、202、302、402，共计998.82平方米。"}]
[{"$f":"[1]债权基本情况!A152","v":151},"无锡",{"$f":"[1]债权基本情况!C152","v":"无锡鹭江物资有限公司"},{"$f":"[1]债权基本情况!D152","v":{"v":799.949551,"d":"799.95"}},{"$f":"[1]债权基本情况!E152","v":{"v":1518.74056359821,"d":"1518.74"}},{"$f":"[1]Sheet7!F133","v":"华晓艳、周罗雄、张绒、陈李春、华建东"},{"$f":"[1]Sheet7!G133","v":"锦绣商业广场8-419、421、423、425、427、429、431、432、433、435、437、5-316，锦绣商业广场8-418、420、422、7-112、212、312，共计1175.05平方米。"}]
[{"$f":"[1]债权基本情况!A153","v":152},"无锡",{"$f":"[1]债权基本情况!C153","v":"无锡嘉仕博物资有限公司"},{"$f":"[1]债权基本情况!D153","v":{"v":750,"d":"750.00"}},{"$f":"[1]债权基本情况!E153","v":{"v":1520.71789484342,"d":"1520.72"}},{"$f":"[1]Sheet7!F134","v":"华文凯、华秋平、华廷森"},{"$f":"[1]Sheet7!G134","v":"锦绣商业广场5-102、5-202、5-302、5-104、5-304、5-214、5-314，共计718.54平方米。"}]
[{"$f":"[1]债权基本情况!A154","v":153},"无锡",{"$f":"[1]债权基本情况!C154","v":"无锡拓辉贸易有限公司"},{"$f":"[1]债权基本情况!D154","v":{"v":737.684032,"d":"737.68"}},{"$f":"[1]债权基本情况!E154","v":{"v":300.298494,"d":"300.30"}},{"$f":"[1]Sheet7!F135","v":"中企联江苏担保有限公司、无锡金山投资管理有限公司、肖家达、魏木莲、无锡华成门窗有限公司、孙一峰、肖顺发、肖华明、魏木贵"}]
[{"$f":"[1]债权基本情况!A155","v":154},"无锡",{"$f":"[1]债权基本情况!C155","v":"无锡宏高旺钢铁贸易有限公司"},{"$f":"[1]债权基本情况!D155","v":{"v":729.917854,"d":"729.92"}},{"$f":"[1]债权基本情况!E155","v":{"v":1318.03445453375,"d":"1318.03"}},{"$f":"[1]Sheet7!F136","v":"林姗姗、孙一鸣、郭元斌、无锡龙之杰投资担保有限公司、无锡龙之杰钢材市场管理有限公司、江苏龙之杰钢铁交易中心有限公司、郑长地、刘秀清、郑辉、侯书雅、吴剑洪、王玮怡"}]
[{"$f":"[1]债权基本情况!A156","v":155},"无锡",{"$f":"[1]债权基本情况!C156","v":"无锡市宝洋物资有限公司"},{"$f":"[1]债权基本情况!D156","v":{"v":727.047812,"d":"727.05"}},{"$f":"[1]债权基本情况!E156","v":{"v":1257.23232959536,"d":"1257.23"}},{"$f":"[1]Sheet7!F137","v":"周圣雄、周圣宝、周小兰、无锡龙之杰投资担保有限公司、无锡龙之杰钢材市场管理有限公司、江苏龙之杰钢铁交易中心有限公司、郑长地、刘秀清、郑辉、侯书雅、吴剑洪、王玮怡"}]
[{"$f":"[1]债权基本情况!A157","v":156},"无锡",{"$f":"[1]债权基本情况!C157","v":"无锡盛锟物资有限公司"},{"$f":"[1]债权基本情况!D157","v":{"v":724.389385,"d":"724.39"}},{"$f":"[1]债权基本情况!E157","v":{"v":1144.47203075984,"d":"1144.47"}},{"$f":"[1]Sheet7!F138","v":"董文婷、董世骏、郑仙宝、无锡龙之杰投资担保有限公司、无锡龙之杰钢材市场管理有限公司、江苏龙之杰钢铁交易中心有限公司、郑长地、刘秀清、郑辉、侯书雅、吴剑洪、王玮怡"}]
[{"$f":"[1]债权基本情况!A158","v":157},"无锡",{"$f":"[1]债权基本情况!C158","v":"无锡圣龙金属材料有限公司"},{"$f":"[1]债权基本情况!D158","v":{"v":719.18106,"d":"719.18"}},{"$f":"[1]债权基本情况!E158","v":{"v":1253.6855423913,"d":"1253.69"}},{"$f":"[1]Sheet7!F139","v":"郑晓君、黄新群、鄢春兰、无锡龙之杰投资担保有限公司、无锡龙之杰钢材市场管理有限公司、江苏龙之杰钢铁交易中心有限公司、郑长地、刘秀清、郑辉、侯书雅、吴剑洪、王玮怡"}]
[{"$f":"[1]债权基本情况!A159","v":158},"无锡",{"$f":"[1]债权基本情况!C159","v":"无锡坤钢物资有限公司"},{"$f":"[1]债权基本情况!D159","v":{"v":717.011885,"d":"717.01"}},{"$f":"[1]债权基本情况!E159","v":{"v":1178.01368083354,"d":"1178.01"}},{"$f":"[1]Sheet7!F140","v":"陈斌、章秀珍、叶遵新、汤雅月、叶遵新、汤雅月、无锡龙之杰投资担保有限公司、无锡龙之杰钢材市场管理有限公司、江苏龙之杰钢铁交易中心有限公司、郑长地、刘秀清、郑辉、侯书雅、吴剑洪、王玮怡"}]
[{"$f":"[1]债权基本情况!A160","v":159},"无锡",{"$f":"[1]债权基本情况!C160","v":"无锡辉灿贸易有限公司"},{"$f":"[1]债权基本情况!D160","v":{"v":716.469818,"d":"716.47"}},{"$f":"[1]债权基本情况!E160","v":{"v":1248.96830484988,"d":"1248.97"}},{"$f":"[1]Sheet7!F141","v":"叶斌霞、叶娜娜、无锡龙之杰投资担保有限公司、无锡龙之杰钢材市场管理有限公司、江苏龙之杰钢铁交易中心有限公司、郑长地、刘秀清、郑辉、侯书雅、吴剑洪、王玮怡"}]
[{"$f":"[1]债权基本情况!A161","v":160},"无锡",{"$f":"[1]债权基本情况!C161","v":"无锡帅丰物资贸易有限公司"},{"$f":"[1]债权基本情况!D161","v":{"v":711.683127,"d":"711.68"}},{"$f":"[1]债权基本情况!E161","v":{"v":1201.46148231426,"d":"1201.46"}},{"$f":"[1]Sheet7!F142","v":"江苏省中强担保有限公司、无锡广益钢材城有限公司、无锡广华投资发展有限公司、陈文扬、吴华福、黄明生、潘妙云、周寿水、陈彩华"}]
[{"$f":"[1]债权基本情况!A162","v":161},"无锡",{"$f":"[1]债权基本情况!C162","v":"无锡厚圣广钢铁贸易有限公司"},{"$f":"[1]债权基本情况!D162","v":{"v":703.448215,"d":"703.45"}},{"$f":"[1]债权基本情况!E162","v":{"v":1233.33357781412,"d":"1233.33"}},{"$f":"[1]Sheet7!F143","v":"江苏省中强担保有限公司、无锡广益钢材城有限公司、无锡广华投资发展有限公司、陈文扬、吴华福、张则鸣、叶美金"}]
[{"$f":"[1]债权基本情况!A163","v":162},"无锡",{"$f":"[1]债权基本情况!C163","v":"无锡乔跃钢铁有限公司"},{"$f":"[1]债权基本情况!D163","v":{"v":200.84785,"d":"200.85"}},{"$f":"[1]债权基本情况!E163","v":{"v":519.10204756685,"d":"519.10"}},{"$f":"[1]Sheet7!F144","v":"叶德智、孙金华"}]
[{"$f":"[1]债权基本情况!A164","v":163},"无锡",{"$f":"[1]债权基本情况!C164","v":"无锡市艺华线缆有限公司"},{"$f":"[1]债权基本情况!D164","v":{"v":700,"d":"700.00"}},{"$f":"[1]债权基本情况!E164","v":{"v":1364.87514981114,"d":"1364.88"}},{"$f":"[1]Sheet7!F145","v":"江苏明通电力科技有限公司、董新华、蒋琴芳"}]
[{"$f":"[1]债权基本情况!A165","v":164},"无锡",{"$f":"[1]债权基本情况!C165","v":"无锡久耀钢铁贸易有限公司"},{"$f":"[1]债权基本情况!D165","v":{"v":674.98092,"d":"674.98"}},{"$f":"[1]债权基本情况!E165","v":{"v":1279.63307384041,"d":"1279.63"}},{"$f":"[1]Sheet7!F146","v":"中企联江苏担保有限公司、无锡金山投资管理有限公司、肖家达、魏木莲、无锡华成门窗有限公司、孙一峰、汤爱花，陈居冬"}]
[{"$f":"[1]债权基本情况!A166","v":165},"无锡",{"$f":"[1]债权基本情况!C166","v":"无锡智达恒物资有限公司"},{"$f":"[1]债权基本情况!D166","v":{"v":668.345248,"d":"668.35"}},{"$f":"[1]债权基本情况!E166","v":{"v":966.44061640055,"d":"966.44"}},{"$f":"[1]Sheet7!F147","v":"中企联江苏担保有限公司、无锡金山投资管理有限公司、肖家达、魏木莲、无锡华成门窗有限公司、孙一峰、肖先仪、郑小英"}]
[{"$f":"[1]债权基本情况!A167","v":166},"无锡",{"$f":"[1]债权基本情况!C167","v":"无锡润良钢铁贸易有限公司"},{"$f":"[1]债权基本情况!D167","v":{"v":674.980407,"d":"674.98"}},{"$f":"[1]债权基本情况!E167","v":{"v":1279.64143359797,"d":"1279.64"}},{"$f":"[1]Sheet7!F148","v":"中企联江苏担保有限公司、无锡金山投资管理有限公司、肖家达、魏木莲、无锡华成门窗有限公司、孙一峰、郑木辉，黄美清"}]
[{"$f":"[1]债权基本情况!A168","v":167},"无锡",{"$f":"[1]债权基本情况!C168","v":"无锡宝企贸易发展有限公司"},{"$f":"[1]债权基本情况!D168","v":{"v":670.408737,"d":"670.41"}},{"$f":"[1]债权基本情况!E168","v":{"v":606.033144,"d":"606.03"}},{"$f":"[1]Sheet7!F149","v":"江苏省中强担保有限公司、无锡广益钢材城有限公司、无锡广华投资发展有限公司、陈文扬、吴华福、周道钦、张丽华、张光绿"},{"$f":"[1]Sheet7!G149","v":"江海东路588-22号54套商业房产（二押），共计6652.61平方米。"}]
[{"$f":"[1]债权基本情况!A169","v":168},"无锡",{"$f":"[1]债权基本情况!C169","v":"无锡旭和钢铁贸易有限公司"},{"$f":"[1]债权基本情况!D169","v":{"v":660.540099,"d":"660.54"}},{"$f":"[1]债权基本情况!E169","v":{"v":1143.5450329535,"d":"1143.55"}},{"$f":"[1]Sheet7!F150","v":"郑文东、林珍华、无锡龙之杰投资担保有限公司、无锡龙之杰钢材市场管理有限公司、江苏龙之杰钢铁交易中心有限公司、郑长地、刘秀清、郑辉、侯书雅、吴剑洪、王玮怡"}]
[{"$f":"[1]债权基本情况!A170","v":169},"无锡",{"$f":"[1]债权基本情况!C170","v":"无锡嘉良钢铁贸易有限公司"},{"$f":"[1]债权基本情况!D170","v":{"v":594.527909,"d":"594.53"}},{"$f":"[1]债权基本情况!E170","v":{"v":1130.5993204344,"d":"1130.60"}},{"$f":"[1]Sheet7!F151","v":"阮长春、刘雅云、无锡龙之杰投资担保有限公司、无锡龙之杰钢材市场管理有限公司、江苏龙之杰钢铁交易中心有限公司、郑长地、刘秀清、郑辉、侯书雅、吴剑洪、王玮怡"}]
[{"$f":"[1]债权基本情况!A171","v":170},"无锡",{"$f":"[1]债权基本情况!C171","v":"无锡昊苏钢铁有限公司"},{"$f":"[1]债权基本情况!D171","v":{"v":650,"d":"650.00"}},{"$f":"[1]债权基本情况!E171","v":{"v":1346.03493279258,"d":"1346.03"}},{"$f":"[1]Sheet7!F152","v":"江苏省中强担保有限公司、无锡广益钢材城有限公司、无锡广华投资发展有限公司、陈文扬、吴华福、吴德全、彭贵英、刘斌、阮玉兰"}]
[{"$f":"[1]债权基本情况!A172","v":171},"无锡",{"$f":"[1]债权基本情况!C172","v":"无锡川旭钢铁有限公司"},{"$f":"[1]债权基本情况!D172","v":{"v":648.954893,"d":"648.95"}},{"$f":"[1]债权基本情况!E172","v":{"v":1343.8994560648,"d":"1343.90"}},{"$f":"[1]Sheet7!F153","v":"江苏省中强担保有限公司、无锡广益钢材城有限公司、无锡广华投资发展有限公司、陈文扬、吴华福、彭君成、彭雪英、陈志财、叶川建"}]
[{"$f":"[1]债权基本情况!A173","v":172},"无锡",{"$f":"[1]债权基本情况!C173","v":"无锡骏升钢铁贸易有限公司"},{"$f":"[1]债权基本情况!D173","v":{"v":643.104118,"d":"643.10"}},{"$f":"[1]债权基本情况!E173","v":{"v":1097.5026093892,"d":"1097.50"}},{"$f":"[1]Sheet7!F154","v":"阮文婷、丁燎源、郑桂和、无锡龙之杰投资担保有限公司、无锡龙之杰钢材市场管理有限公司、江苏龙之杰钢铁交易中心有限公司、郑长地、刘秀清、郑辉、侯书雅、吴剑洪、王玮怡"}]
[{"$f":"[1]债权基本情况!A174","v":173},"无锡",{"$f":"[1]债权基本情况!C174","v":"无锡力豪钢铁发展有限公司"},{"$f":"[1]债权基本情况!D174","v":{"v":637.353198,"d":"637.35"}},{"$f":"[1]债权基本情况!E174","v":{"v":1170.34401939219,"d":"1170.34"}},{"$f":"[1]Sheet7!F155","v":"江苏省中强担保有限公司、无锡广益钢材城有限公司、无锡广华投资发展有限公司、陈文扬、吴华福、张树月、张玉花、肖家明"}]
[{"$f":"[1]债权基本情况!A175","v":174},"无锡",{"$f":"[1]债权基本情况!C175","v":"无锡富川钢铁有限公司"},{"$f":"[1]债权基本情况!D175","v":{"v":637.058256,"d":"637.06"}},{"$f":"[1]债权基本情况!E175","v":{"v":1032.7520477078,"d":"1032.75"}},{"$f":"[1]Sheet7!F156","v":"汤贻云、郑亦民、汤丽容、无锡龙之杰投资担保有限公司、无锡龙之杰钢材市场管理有限公司、江苏龙之杰钢铁交易中心有限公司、郑长地、刘秀清、郑辉、侯书雅、吴剑洪、王玮怡"}]
[{"$f":"[1]债权基本情况!A176","v":175},"无锡",{"$f":"[1]债权基本情况!C176","v":"无锡首沪商贸有限公司"},{"$f":"[1]债权基本情况!D176","v":{"v":632.313508,"d":"632.31"}},{"$f":"[1]债权基本情况!E176","v":{"v":1090.5347442328,"d":"1090.53"}},{"$f":"[1]Sheet7!F157","v":"吴周奇、刘位兰、无锡龙之杰投资担保有限公司、无锡龙之杰钢材市场管理有限公司、江苏龙之杰钢铁交易中心有限公司、郑长地、刘秀清、郑辉、侯书雅、吴剑洪、王玮怡"}]
[{"$f":"[1]债权基本情况!A177","v":176},"无锡",{"$f":"[1]债权基本情况!C177","v":"无锡富鑫泰物资有限公司"},{"$f":"[1]债权基本情况!D177","v":{"v":600,"d":"600.00"}},{"$f":"[1]债权基本情况!E177","v":{"v":867.16913858725,"d":"867.17"}},{"$f":"[1]Sheet7!F158","v":"中企联江苏担保有限公司、无锡金山投资管理有限公司、肖家达、魏木莲、无锡华成门窗有限公司、孙一峰、魏宏锋、魏景忠，蒋花香"}]
[{"$f":"[1]债权基本情况!A178","v":177},"无锡",{"$f":"[1]债权基本情况!C178","v":"无锡志云钢铁贸易有限公司"},{"$f":"[1]债权基本情况!D178","v":{"v":599.968788,"d":"599.97"}},{"$f":"[1]债权基本情况!E178","v":{"v":867.8745007555,"d":"867.87"}},{"$f":"[1]Sheet7!F159","v":"中企联江苏担保有限公司、无锡金山投资管理有限公司、肖家达、魏木莲、无锡华成门窗有限公司、孙一峰、肖坤森，程再新、肖程龙"}]
[{"$f":"[1]债权基本情况!A179","v":178},"无锡",{"$f":"[1]债权基本情况!C179","v":"无锡万义恒钢铁有限公司"},{"$f":"[1]债权基本情况!D179","v":{"v":599.519203,"d":"599.52"}},{"$f":"[1]债权基本情况!E179","v":{"v":1196.09186928317,"d":"1196.09"}},{"$f":"[1]Sheet7!F160","v":"江苏省中强担保有限公司、无锡广益钢材城有限公司、无锡广华投资发展有限公司、陈文扬、吴华福、汪荣华、汪荣贵"}]
[{"$f":"[1]债权基本情况!A180","v":179},"无锡",{"$f":"[1]债权基本情况!C180","v":"无锡商祺钢铁贸易有限公司"},{"$f":"[1]债权基本情况!D180","v":{"v":597.39504,"d":"597.40"}},{"$f":"[1]债权基本情况!E180","v":{"v":1101.6146385782,"d":"1101.61"}},{"$f":"[1]Sheet7!F161","v":"江苏省中强担保有限公司、无锡广益钢材城有限公司、无锡广华投资发展有限公司、陈文扬、吴华福、李霞、谢春凌、李俊杰、戴凤仙"}]
[{"$f":"[1]债权基本情况!A181","v":180},"无锡",{"$f":"[1]债权基本情况!C181","v":"无锡阮氏钢铁贸易有限公司"},{"$f":"[1]债权基本情况!D181","v":{"v":583.64053,"d":"583.64"}},{"$f":"[1]债权基本情况!E181","v":{"v":986.422158999,"d":"986.42"}},{"$f":"[1]Sheet7!F162","v":"江苏省中强担保有限公司、无锡广益钢材城有限公司、无锡广华投资发展有限公司、陈文扬、吴华福、阮真康、刘芳"}]
[{"$f":"[1]债权基本情况!A182","v":181},"无锡",{"$f":"[1]债权基本情况!C182","v":"无锡市钢勋钢铁贸易有限公司"},{"$f":"[1]债权基本情况!D182","v":{"v":581.580257,"d":"581.58"}},{"$f":"[1]债权基本情况!E182","v":{"v":1067.54608251793,"d":"1067.55"}},{"$f":"[1]Sheet7!F163","v":"江苏省中强担保有限公司、无锡广益钢材城有限公司、无锡广华投资发展有限公司、陈文扬、吴华福、陈贵美、阮青彬"}]
[{"$f":"[1]债权基本情况!A183","v":182},"无锡",{"$f":"[1]债权基本情况!C183","v":"无锡物本金属材料有限公司"},{"$f":"[1]债权基本情况!D183","v":{"v":560.560092,"d":"560.56"}},{"$f":"[1]债权基本情况!E183","v":{"v":954.9275356848,"d":"954.93"}},{"$f":"[1]Sheet7!F164","v":"陈梅芬、阮茂甡、无锡龙之杰投资担保有限公司、无锡龙之杰钢材市场管理有限公司、江苏龙之杰钢铁交易中心有限公司、郑长地、刘秀清、郑辉、侯书雅、吴剑洪、王玮怡"}]
[{"$f":"[1]债权基本情况!A184","v":183},"无锡",{"$f":"[1]债权基本情况!C184","v":"无锡特建物资贸易有限公司"},{"$f":"[1]债权基本情况!D184","v":{"v":546.326603,"d":"546.33"}},{"$f":"[1]债权基本情况!E184","v":{"v":969.7114041823,"d":"969.71"}},{"$f":"[1]Sheet7!F165","v":"江苏省中强担保有限公司、无锡广益钢材城有限公司、无锡广华投资发展有限公司、陈文扬、吴华福、陈赴月、刘孙强、刘清海、潘乔娜、刘登举、刘菊贞"}]
[{"$f":"[1]债权基本情况!A185","v":184},"无锡",{"$f":"[1]债权基本情况!C185","v":"无锡励坤钢铁贸易有限公司"},{"$f":"[1]债权基本情况!D185","v":{"v":557.657813,"d":"557.66"}},{"$f":"[1]债权基本情况!E185","v":{"v":1024.54559737345,"d":"1024.55"}},{"$f":"[1]Sheet7!F166","v":"江苏省中强担保有限公司、无锡广益钢材城有限公司、无锡广华投资发展有限公司、陈文扬、吴华福、郑秀华、郑孙葵、郑其辉"}]
[{"$f":"[1]债权基本情况!A186","v":185},"无锡",{"$f":"[1]债权基本情况!C186","v":"无锡祈强金属材料有限公司"},{"$f":"[1]债权基本情况!D186","v":{"v":557.47803,"d":"557.48"}},{"$f":"[1]债权基本情况!E186","v":{"v":1023.62242767828,"d":"1023.62"}},{"$f":"[1]Sheet7!F167","v":"江苏省中强担保有限公司、无锡广益钢材城有限公司、无锡广华投资发展有限公司、陈文扬、吴华福、陈孝官、闫小妮"}]
[{"$f":"[1]债权基本情况!A187","v":186},"无锡",{"$f":"[1]债权基本情况!C187","v":"无锡鸿昌钢铁贸易有限公司"},{"$f":"[1]债权基本情况!D187","v":{"v":556.411599,"d":"556.41"}},{"$f":"[1]债权基本情况!E187","v":{"v":950.1616069224,"d":"950.16"}},{"$f":"[1]Sheet7!F168","v":"连晓霞、张积妃、郑滨、郑奶寿、无锡龙之杰投资担保有限公司、无锡龙之杰钢材市场管理有限公司、江苏龙之杰钢铁交易中心有限公司、郑长地、刘秀清、郑辉、侯书雅、吴剑洪、王玮怡"}]
[{"$f":"[1]债权基本情况!A188","v":187},"无锡",{"$f":"[1]债权基本情况!C188","v":"无锡善宇钢铁贸易有限公司"},{"$f":"[1]债权基本情况!D188","v":{"v":551.695741,"d":"551.70"}},{"$f":"[1]债权基本情况!E188","v":{"v":964.19912233334,"d":"964.20"}},{"$f":"[1]Sheet7!F169","v":"江苏省中强担保有限公司、无锡广益钢材城有限公司、无锡广华投资发展有限公司、陈文扬、吴华福、叶敏、叶秀琴、齐海艳、叶罗周"}]
[{"$f":"[1]债权基本情况!A189","v":188},"无锡",{"$f":"[1]债权基本情况!C189","v":"无锡新旭申物资有限公司"},{"$f":"[1]债权基本情况!D189","v":{"v":529.365559,"d":"529.37"}},{"$f":"[1]债权基本情况!E189","v":{"v":804.6762704744,"d":"804.68"}},{"$f":"[1]Sheet7!F170","v":"无锡帝诺投资担保有限公司、无锡帝诺联合资产投资管理有限公司、林立福、林立铭"}]
[{"$f":"[1]债权基本情况!A190","v":189},"无锡",{"$f":"[1]债权基本情况!C190","v":"无锡世都物资贸易有限公司"},{"$f":"[1]债权基本情况!D190","v":{"v":491.989223,"d":"491.99"}},{"$f":"[1]债权基本情况!E190","v":{"v":853.965884002,"d":"853.97"}},{"$f":"[1]Sheet7!F171","v":"中企联江苏担保有限公司、无锡金山投资管理有限公司、肖家达、魏木莲、无锡华成门窗有限公司、孙一峰、郑雄斌、李爱平、肖先明、肖吉蕊、肖顺发、唐满玉、谢仙水、肖爱玉、肖家华、钱荣菊、李罗建、江汶"}]
[{"$f":"[1]债权基本情况!A191","v":190},"无锡",{"$f":"[1]债权基本情况!C191","v":"江阴市舜吉金属物资有限公司"},{"$f":"[1]债权基本情况!D191","v":{"v":491.976008,"d":"491.98"}},{"$f":"[1]债权基本情况!E191","v":{"v":722.44625005645,"d":"722.45"}},{"$f":"[1]Sheet7!F172","v":"中企联江苏担保有限公司、无锡金山投资管理有限公司、肖家达、魏木莲、无锡华成门窗有限公司、孙一峰、郑雄斌、李爱平、肖先明、肖吉蕊、肖顺发、唐满玉、谢仙水、肖爱玉、肖家华、钱荣菊、李罗建、江汶"}]
[{"$f":"[1]债权基本情况!A192","v":191},"无锡",{"$f":"[1]债权基本情况!C192","v":"无锡宁跃金属材料有限公司"},{"$f":"[1]债权基本情况!D192","v":{"v":380.525614,"d":"380.53"}},{"$f":"[1]债权基本情况!E192","v":{"v":763.7516566816,"d":"763.75"}},{"$f":"[1]Sheet7!F173","v":"中企联江苏担保有限公司、无锡金山投资管理有限公司、肖家达、魏木莲、无锡华成门窗有限公司、孙一峰、郑雄斌、李爱平、肖先明、肖吉蕊、肖顺发、唐满玉、谢仙水、肖爱玉、肖家华、钱荣菊、李罗建、江汶"}]
[{"$f":"[1]债权基本情况!A193","v":192},"无锡",{"$f":"[1]债权基本情况!C193","v":"无锡兆隆物资有限公司"},{"$f":"[1]债权基本情况!D193","v":{"v":520.148426,"d":"520.15"}},{"$f":"[1]债权基本情况!E193","v":{"v":844.172301572,"d":"844.17"}},{"$f":"[1]Sheet7!F174","v":"叶云玉、陈翔兴、无锡龙之杰投资担保有限公司、无锡龙之杰钢材市场管理有限公司、江苏龙之杰钢铁交易中心有限公司、郑长地、刘秀清、郑辉、侯书雅、吴剑洪、王玮怡"}]
[{"$f":"[1]债权基本情况!A194","v":193},"无锡",{"$f":"[1]债权基本情况!C194","v":"无锡武邵钢铁发展有限公司"},{"$f":"[1]债权基本情况!D194","v":{"v":519.52008,"d":"519.52"}},{"$f":"[1]债权基本情况!E194","v":{"v":954.38735570448,"d":"954.39"}},{"$f":"[1]Sheet7!F175","v":"江苏省中强担保有限公司、无锡广益钢材城有限公司、无锡广华投资发展有限公司、陈文扬、吴华福、李淑君、叶德友"}]
[{"$f":"[1]债权基本情况!A195","v":194},"无锡",{"$f":"[1]债权基本情况!C195","v":"无锡保胜威钢铁有限公司"},{"$f":"[1]债权基本情况!D195","v":{"v":518.674769,"d":"518.67"}},{"$f":"[1]债权基本情况!E195","v":{"v":961.6152000712,"d":"961.62"}},{"$f":"[1]Sheet7!F176","v":"江苏省中强担保有限公司、无锡广益钢材城有限公司、无锡广华投资发展有限公司、陈文扬、吴华福、周陈冰、郑秀荣、周家强"}]
[{"$f":"[1]债权基本情况!A196","v":195},"无锡",{"$f":"[1]债权基本情况!C196","v":"无锡欧亚龙物资有限公司"},{"$f":"[1]债权基本情况!D196","v":{"v":517.779048,"d":"517.78"}},{"$f":"[1]债权基本情况!E196","v":{"v":951.413276371273,"d":"951.41"}},{"$f":"[1]Sheet7!F177","v":"江苏省中强担保有限公司、无锡广益钢材城有限公司、无锡广华投资发展有限公司、陈文扬、吴华福、李婷婷、陈友梁、黄秀清"}]
[{"$f":"[1]债权基本情况!A197","v":196},"无锡",{"$f":"[1]债权基本情况!C197","v":"无锡呈矿贸易有限公司"},{"$f":"[1]债权基本情况!D197","v":{"v":516.325361,"d":"516.33"}},{"$f":"[1]债权基本情况!E197","v":{"v":948.361433006597,"d":"948.36"}},{"$f":"[1]Sheet7!F178","v":"江苏省中强担保有限公司、无锡广益钢材城有限公司、无锡广华投资发展有限公司、陈文扬、吴华福、林光彬、李凤、郑新海、赖惠梅"}]
[{"$f":"[1]债权基本情况!A198","v":197},"无锡",{"$f":"[1]债权基本情况!C198","v":"无锡生润钢铁有限公司"},{"$f":"[1]债权基本情况!D198","v":{"v":499.391304,"d":"499.39"}},{"$f":"[1]债权基本情况!E198","v":{"v":956.68744233942,"d":"956.69"}},{"$f":"[1]Sheet7!F179","v":"江苏省中强担保有限公司、无锡广益钢材城有限公司、无锡广华投资发展有限公司、陈文扬、吴华福、刘贵芳、陈景辉"}]
[{"$f":"[1]债权基本情况!A199","v":198},"无锡",{"$f":"[1]债权基本情况!C199","v":"无锡龙标物资贸易有限公司"},{"$f":"[1]债权基本情况!D199","v":{"v":498.879644,"d":"498.88"}},{"$f":"[1]债权基本情况!E199","v":{"v":862.058393853667,"d":"862.06"}},{"$f":"[1]Sheet7!F180","v":"江苏省中强担保有限公司、无锡广益钢材城有限公司、无锡广华投资发展有限公司、陈文扬、吴华福、肖仙辉、陈芳"}]
[{"$f":"[1]债权基本情况!A200","v":199},"无锡",{"$f":"[1]债权基本情况!C200","v":"无锡扩昊金属材料有限公司"},{"$f":"[1]债权基本情况!D200","v":{"v":174.6863,"d":"174.69"}},{"$f":"[1]债权基本情况!E200","v":{"v":157.759297,"d":"157.76"}},{"$f":"[1]Sheet7!F181","v":"谢宁、谢建、夏燕芳"}]
[{"$f":"[1]债权基本情况!A201","v":200},"无锡",{"$f":"[1]债权基本情况!C201","v":"无锡毅岩钢铁有限公司"},{"$f":"[1]债权基本情况!D201","v":{"v":227.860965,"d":"227.86"}},{"$f":"[1]债权基本情况!E201","v":{"v":233.922434,"d":"233.92"}},{"$f":"[1]Sheet7!F182","v":"熊建兵、熊建宝、李屾"}]
[{"$f":"[1]债权基本情况!A202","v":201},"无锡",{"$f":"[1]债权基本情况!C202","v":"无锡寿隆华物资有限公司"},{"$f":"[1]债权基本情况!D202","v":{"v":489.971197,"d":"489.97"}},{"$f":"[1]债权基本情况!E202","v":{"v":875.979730057611,"d":"875.98"}},{"$f":"[1]Sheet7!F183","v":"江苏省中强担保有限公司、无锡广益钢材城有限公司、无锡广华投资发展有限公司、陈文扬、吴华福、何梅珍、陈小群、何云娇"}]
[{"$f":"[1]债权基本情况!A203","v":202},"无锡",{"$f":"[1]债权基本情况!C203","v":"无锡祥宝钢铁贸易有限公司"},{"$f":"[1]债权基本情况!D203","v":486.35},{"$f":"[1]债权基本情况!E203","v":{"v":427.820185,"d":"427.82"}},{"$f":"[1]Sheet7!F184","v":"江阴市鑫品长江码头钢材城管理有限公司、江祥宝、江锦平"}]
[{"$f":"[1]债权基本情况!A204","v":203},"无锡",{"$f":"[1]债权基本情况!C204","v":"无锡品众金属材料有限公司"},{"$f":"[1]债权基本情况!D204","v":{"v":484.154644,"d":"484.15"}},{"$f":"[1]债权基本情况!E204","v":{"v":828.880335362467,"d":"828.88"}},{"$f":"[1]Sheet7!F185","v":"吴宝才、吴宝盛、叶赛凤、陈新蕊、无锡龙之杰投资担保有限公司、无锡龙之杰钢材市场管理有限公司、江苏龙之杰钢铁交易中心有限公司、郑长地、刘秀清、郑辉、侯书雅、吴剑洪、王玮怡"}]
[{"$f":"[1]债权基本情况!A205","v":204},"无锡",{"$f":"[1]债权基本情况!C205","v":"无锡达盛昌金属材料有限公司"},{"$f":"[1]债权基本情况!D205","v":{"v":479.836611,"d":"479.84"}},{"$f":"[1]债权基本情况!E205","v":{"v":813.08571438735,"d":"813.09"}},{"$f":"[1]Sheet7!F186","v":"江苏省中强担保有限公司、无锡广益钢材城有限公司、无锡广华投资发展有限公司、陈文扬、吴华福、冯凯筠、叶智雄、郑凯军"}]
[{"$f":"[1]债权基本情况!A206","v":205},"无锡",{"$f":"[1]债权基本情况!C206","v":"无锡子韬金属材料有限公司"},{"$f":"[1]债权基本情况!D206","v":{"v":477.84285,"d":"477.84"}},{"$f":"[1]债权基本情况!E206","v":{"v":877.944262662708,"d":"877.94"}},{"$f":"[1]Sheet7!F187","v":"江苏省中强担保有限公司、无锡广益钢材城有限公司、无锡广华投资发展有限公司、陈文扬、吴华福、吴志敏、吴建忠、谭婷玉"}]
[{"$f":"[1]债权基本情况!A207","v":206},"无锡",{"$f":"[1]债权基本情况!C207","v":"无锡皓昆实业有限公司"},{"$f":"[1]债权基本情况!D207","v":{"v":137.873459,"d":"137.87"}},{"$f":"[1]债权基本情况!E207","v":{"v":214.198817,"d":"214.20"}},{"$f":"[1]Sheet7!F188","v":"李规钊、李剑成、李屾"}]
[{"$f":"[1]债权基本情况!A208","v":207},"无锡",{"$f":"[1]债权基本情况!C208","v":"无锡三华钢铁贸易有限公司"},{"$f":"[1]债权基本情况!D208","v":{"v":448.653304,"d":"448.65"}},{"$f":"[1]债权基本情况!E208","v":{"v":763.4563581964,"d":"763.46"}},{"$f":"[1]Sheet7!F189","v":"江友惠、汤春霞、无锡龙之杰投资担保有限公司、无锡龙之杰钢材市场管理有限公司、江苏龙之杰钢铁交易中心有限公司、郑长地、刘秀清、郑辉、侯书雅、吴剑洪、王玮怡"}]
[{"$f":"[1]债权基本情况!A209","v":208},"无锡",{"$f":"[1]债权基本情况!C209","v":"无锡裕贵源物资有限公司"},{"$f":"[1]债权基本情况!D209","v":{"v":448.681802,"d":"448.68"}},{"$f":"[1]债权基本情况!E209","v":{"v":762.8565783336,"d":"762.86"}},{"$f":"[1]Sheet7!F190","v":"魏小龙、陈秀平、吴世辉、无锡龙之杰投资担保有限公司、无锡龙之杰钢材市场管理有限公司、江苏龙之杰钢铁交易中心有限公司、郑长地、刘秀清、郑辉、侯书雅、吴剑洪、王玮怡"}]
[{"$f":"[1]债权基本情况!A210","v":209},"无锡",{"$f":"[1]债权基本情况!C210","v":"无锡储金贸易有限公司"},{"$f":"[1]债权基本情况!D210","v":{"v":448.65731,"d":"448.66"}},{"$f":"[1]债权基本情况!E210","v":{"v":760.2388357188,"d":"760.24"}},{"$f":"[1]Sheet7!F191","v":"叶君平、潘彩霞、无锡龙之杰投资担保有限公司、无锡龙之杰钢材市场管理有限公司、江苏龙之杰钢铁交易中心有限公司、郑长地、刘秀清、郑辉、侯书雅、吴剑洪、王玮怡"}]
[{"$f":"[1]债权基本情况!A211","v":210},"无锡",{"$f":"[1]债权基本情况!C211","v":"无锡飞剑物资有限公司"},{"$f":"[1]债权基本情况!D211","v":{"v":444.466267,"d":"444.47"}},{"$f":"[1]债权基本情况!E211","v":{"v":412.108824,"d":"412.11"}},{"$f":"[1]Sheet7!F192","v":"江苏省中强担保有限公司、无锡广益钢材城有限公司、无锡广华投资发展有限公司、陈文扬、吴华福、任芳芳、李云华"}]
[{"$f":"[1]债权基本情况!A212","v":211},"无锡",{"$f":"[1]债权基本情况!C212","v":"无锡市宜亨物资有限公司"},{"$f":"[1]债权基本情况!D212","v":{"v":427.4331,"d":"427.43"}},{"$f":"[1]债权基本情况!E212","v":{"v":657.5506401321,"d":"657.55"}},{"$f":"[1]Sheet7!F193","v":"无锡帝诺投资担保有限公司、无锡帝诺联合资产投资管理有限公司、林立福、张静娇、张静莲"}]
[{"$f":"[1]债权基本情况!A213","v":212},"无锡",{"$f":"[1]债权基本情况!C213","v":"无锡旭尚贸易有限公司"},{"$f":"[1]债权基本情况!D213","v":{"v":435,"d":"435.00"}},{"$f":"[1]债权基本情况!E213","v":{"v":663.8051701659,"d":"663.81"}},{"$f":"[1]Sheet7!F194","v":"无锡帝诺投资担保有限公司、无锡帝诺联合资产投资管理有限公司、林立福、黄彩蓉、黄经沐"}]
[{"$f":"[1]债权基本情况!A214","v":213},"无锡",{"$f":"[1]债权基本情况!C214","v":"无锡帝福钢贸有限公司"},{"$f":"[1]债权基本情况!D214","v":{"v":434.240141,"d":"434.24"}},{"$f":"[1]债权基本情况!E214","v":{"v":662.7037380199,"d":"662.70"}},{"$f":"[1]Sheet7!F195","v":"无锡帝诺投资担保有限公司、无锡帝诺联合资产投资管理有限公司、林立福、周豪、周敏"}]
[{"$f":"[1]债权基本情况!A215","v":214},"无锡",{"$f":"[1]债权基本情况!C215","v":"无锡达尔富物资有限公司"},{"$f":"[1]债权基本情况!D215","v":{"v":434.992872,"d":"434.99"}},{"$f":"[1]债权基本情况!E215","v":{"v":663.3915330885,"d":"663.39"}},{"$f":"[1]Sheet7!F196","v":"无锡帝诺投资担保有限公司、无锡帝诺联合资产投资管理有限公司、林立福、林小东、林益兰"}]
[{"$f":"[1]债权基本情况!A216","v":215},"无锡",{"$f":"[1]债权基本情况!C216","v":"无锡煌夏钢贸有限公司"},{"$f":"[1]债权基本情况!D216","v":{"v":434.952349,"d":"434.95"}},{"$f":"[1]债权基本情况!E216","v":{"v":663.182419781,"d":"663.18"}},{"$f":"[1]Sheet7!F197","v":"无锡帝诺投资担保有限公司、无锡帝诺联合资产投资管理有限公司、林立福、林日夏、林少英"}]
[{"$f":"[1]债权基本情况!A217","v":216},"无锡",{"$f":"[1]债权基本情况!C217","v":"无锡新稳展物资贸易有限公司"},{"$f":"[1]债权基本情况!D217","v":{"v":402.740888,"d":"402.74"}},{"$f":"[1]债权基本情况!E217","v":{"v":638.0491997488,"d":"638.05"}},{"$f":"[1]Sheet7!F198","v":"无锡帝诺投资担保有限公司、无锡帝诺联合资产投资管理有限公司、林立福、林立群/彭爱妃"}]
[{"$f":"[1]债权基本情况!A218","v":217},"无锡",{"$f":"[1]债权基本情况!C218","v":"无锡禹诺物资有限公司"},{"$f":"[1]债权基本情况!D218","v":{"v":434.994746,"d":"434.99"}},{"$f":"[1]债权基本情况!E218","v":{"v":385.4787,"d":"385.48"}},{"$f":"[1]Sheet7!F199","v":"无锡帝诺投资担保有限公司、无锡帝诺联合资产投资管理有限公司、林立福、叶协琰/叶协銮"}]
[{"$f":"[1]债权基本情况!A219","v":218},"无锡",{"$f":"[1]债权基本情况!C219","v":"无锡雄业物资有限公司"},{"$f":"[1]债权基本情况!D219","v":{"v":425.157508,"d":"425.16"}},{"$f":"[1]债权基本情况!E219","v":{"v":719.5044482576,"d":"719.50"}},{"$f":"[1]Sheet7!F200","v":"江苏明弈担保有限公司、无锡新京杭钢材市场经营管理有限公司、叶希贵、李文胤、叶希雄、詹兴月、李成凤、陈丽水"}]
[{"$f":"[1]债权基本情况!A220","v":219},"无锡",{"$f":"[1]债权基本情况!C220","v":"无锡实中金属材料有限公司"},{"$f":"[1]债权基本情况!D220","v":{"v":399.628158,"d":"399.63"}},{"$f":"[1]债权基本情况!E220","v":{"v":742.81651700864,"d":"742.82"}},{"$f":"[1]Sheet7!F201","v":"江苏省中强担保有限公司、无锡广益钢材城有限公司、无锡广华投资发展有限公司、陈文扬、吴华福、林龙寿、吴永祥、吴建忠"}]
[{"$f":"[1]债权基本情况!A221","v":220},"无锡",{"$f":"[1]债权基本情况!C221","v":"无锡鸿侃物资贸易有限公司"},{"$f":"[1]债权基本情况!D221","v":{"v":399.594961,"d":"399.59"}},{"$f":"[1]债权基本情况!E221","v":{"v":677.622122932,"d":"677.62"}},{"$f":"[1]Sheet7!F202","v":"江苏省中强担保有限公司、无锡广益钢材城有限公司、无锡广华投资发展有限公司、陈文扬、吴华福、张陈考、黄小明"}]
[{"$f":"[1]债权基本情况!A222","v":221},"无锡",{"$f":"[1]债权基本情况!C222","v":"无锡纳鼎坤钢铁有限公司"},{"$f":"[1]债权基本情况!D222","v":{"v":398.306806,"d":"398.31"}},{"$f":"[1]债权基本情况!E222","v":{"v":694.91001294908,"d":"694.91"}},{"$f":"[1]Sheet7!F203","v":"江苏省中强担保有限公司、无锡广益钢材城有限公司、无锡广华投资发展有限公司、陈文扬、吴华福、陈文旭、陈胜英"}]
[{"$f":"[1]债权基本情况!A223","v":222},"无锡",{"$f":"[1]债权基本情况!C223","v":"无锡华地金属材料有限公司"},{"$f":"[1]债权基本情况!D223","v":{"v":396.486808,"d":"396.49"}},{"$f":"[1]债权基本情况!E223","v":{"v":675.4418982704,"d":"675.44"}},{"$f":"[1]Sheet7!F204","v":"阮仕钊、无锡龙之杰投资担保有限公司、无锡龙之杰钢材市场管理有限公司、江苏龙之杰钢铁交易中心有限公司、郑长地、刘秀清、郑辉、侯书雅、吴剑洪、王玮怡"}]
[{"$f":"[1]债权基本情况!A224","v":223},"无锡",{"$f":"[1]债权基本情况!C224","v":"无锡翘漩物资有限公司"},{"$f":"[1]债权基本情况!D224","v":{"v":365.915727,"d":"365.92"}},{"$f":"[1]债权基本情况!E224","v":{"v":765.55021846608,"d":"765.55"}},{"$f":"[1]Sheet7!F205","v":"江苏省中强担保有限公司、无锡广益钢材城有限公司、无锡广华投资发展有限公司、陈文扬、吴华福、黄享雪、阮思铭"}]
[{"$f":"[1]债权基本情况!A225","v":224},"无锡",{"$f":"[1]债权基本情况!C225","v":"无锡奥浦金属材料有限公司"},{"$f":"[1]债权基本情况!D225","v":{"v":395.706453,"d":"395.71"}},{"$f":"[1]债权基本情况!E225","v":{"v":167.276989,"d":"167.28"}},{"$f":"[1]Sheet7!F206","v":"凌良峰、吴宏荔、无锡龙之杰投资担保有限公司、无锡龙之杰钢材市场管理有限公司、江苏龙之杰钢铁交易中心有限公司、郑长地、刘秀清、郑辉、侯书雅、吴剑洪、王玮怡"}]
[{"$f":"[1]债权基本情况!A226","v":225},"无锡",{"$f":"[1]债权基本情况!C226","v":"无锡曙泉物资贸易有限公司"},{"$f":"[1]债权基本情况!D226","v":{"v":395.702716,"d":"395.70"}},{"$f":"[1]债权基本情况!E226","v":{"v":734.28222860768,"d":"734.28"}},{"$f":"[1]Sheet7!F207","v":"江苏省中强担保有限公司、无锡广益钢材城有限公司、无锡广华投资发展有限公司、陈文扬、吴华福、彭金秀、陈孝章"}]
[{"$f":"[1]债权基本情况!A227","v":226},"无锡",{"$f":"[1]债权基本情况!C227","v":"无锡福临君商贸有限公司"},{"$f":"[1]债权基本情况!D227","v":{"v":395.694041,"d":"395.69"}},{"$f":"[1]债权基本情况!E227","v":{"v":733.83405671452,"d":"733.83"}},{"$f":"[1]Sheet7!F208","v":"江苏省中强担保有限公司、无锡广益钢材城有限公司、无锡广华投资发展有限公司、陈文扬、吴华福、陈寿国、阮孝清"}]
[{"$f":"[1]债权基本情况!A228","v":227},"无锡",{"$f":"[1]债权基本情况!C228","v":"无锡谦旺物资贸易有限公司"},{"$f":"[1]债权基本情况!D228","v":{"v":395.612732,"d":"395.61"}},{"$f":"[1]债权基本情况!E228","v":{"v":734.14296064474,"d":"734.14"}},{"$f":"[1]Sheet7!F209","v":"江苏省中强担保有限公司、无锡广益钢材城有限公司、无锡广华投资发展有限公司、陈文扬、吴华福、陈凤东、郑秀琴"}]
[{"$f":"[1]债权基本情况!A229","v":228},"无锡",{"$f":"[1]债权基本情况!C229","v":"无锡旺东物资贸易有限公司"},{"$f":"[1]债权基本情况!D229","v":{"v":395.602732,"d":"395.60"}},{"$f":"[1]债权基本情况!E229","v":{"v":734.12286469508,"d":"734.12"}},{"$f":"[1]Sheet7!F210","v":"江苏省中强担保有限公司、无锡广益钢材城有限公司、无锡广华投资发展有限公司、陈文扬、吴华福、吕大淮、郑秀玉"}]
[{"$f":"[1]债权基本情况!A230","v":229},"无锡",{"$f":"[1]债权基本情况!C230","v":"无锡江存钢铁有限公司"},{"$f":"[1]债权基本情况!D230","v":{"v":394.298211,"d":"394.30"}},{"$f":"[1]债权基本情况!E230","v":{"v":647.81169888804,"d":"647.81"}},{"$f":"[1]Sheet7!F211","v":"江苏省中强担保有限公司、无锡广益钢材城有限公司、无锡广华投资发展有限公司、陈文扬、吴华福、周华胜、陈先凤"}]
[{"$f":"[1]债权基本情况!A231","v":230},"无锡",{"$f":"[1]债权基本情况!C231","v":"无锡佳义盛物资有限公司"},{"$f":"[1]债权基本情况!D231","v":{"v":394.055274,"d":"394.06"}},{"$f":"[1]债权基本情况!E231","v":{"v":647.4125654316,"d":"647.41"}},{"$f":"[1]Sheet7!F212","v":"江苏省中强担保有限公司、无锡广益钢材城有限公司、无锡广华投资发展有限公司、陈文扬、吴华福、陈凤华、阮美荣、陈翔本、阮孙会"}]
[{"$f":"[1]债权基本情况!A232","v":231},"无锡",{"$f":"[1]债权基本情况!C232","v":"无锡怀隆物资有限公司"},{"$f":"[1]债权基本情况!D232","v":{"v":394.055461,"d":"394.06"}},{"$f":"[1]债权基本情况!E232","v":{"v":681.9867376664,"d":"681.99"}},{"$f":"[1]Sheet7!F213","v":"江苏省中强担保有限公司、无锡广益钢材城有限公司、无锡广华投资发展有限公司、陈文扬、吴华福、陈静生、郑素玉"}]
[{"$f":"[1]债权基本情况!A233","v":232},"无锡",{"$f":"[1]债权基本情况!C233","v":"无锡仁义诚物资有限公司"},{"$f":"[1]债权基本情况!D233","v":{"v":394.004693,"d":"394.00"}},{"$f":"[1]债权基本情况!E233","v":{"v":647.32946364502,"d":"647.33"}},{"$f":"[1]Sheet7!F214","v":"江苏省中强担保有限公司、无锡广益钢材城有限公司、无锡广华投资发展有限公司、陈文扬、吴华福、陈思思、阮娟"}]
[{"$f":"[1]债权基本情况!A234","v":233},"无锡",{"$f":"[1]债权基本情况!C234","v":"无锡中帅钢铁贸易有限公司"},{"$f":"[1]债权基本情况!D234","v":{"v":388.658471,"d":"388.66"}},{"$f":"[1]债权基本情况!E234","v":{"v":701.102907880167,"d":"701.10"}},{"$f":"[1]Sheet7!F215","v":"江苏省中强担保有限公司、无锡广益钢材城有限公司、无锡广华投资发展有限公司、陈文扬、吴华福、黄冬新、邱俐贞"}]
[{"$f":"[1]债权基本情况!A235","v":234},"无锡",{"$f":"[1]债权基本情况!C235","v":"无锡拓恒物资有限公司"},{"$f":"[1]债权基本情况!D235","v":{"v":359.999932,"d":"360.00"}},{"$f":"[1]债权基本情况!E235","v":{"v":549.4023032117,"d":"549.40"}},{"$f":"[1]Sheet7!F216","v":"江苏明弈担保有限公司、无锡新京杭钢材市场经营管理有限公司、叶希贵、李文胤、吴诗龙、李成凤、陈丽水"}]
[{"$f":"[1]债权基本情况!A236","v":235},"无锡",{"$f":"[1]债权基本情况!C236","v":"无锡卓豪金属材料有限公司"},{"$f":"[1]债权基本情况!D236","v":{"v":360,"d":"360.00"}},{"$f":"[1]债权基本情况!E236","v":{"v":519.2801583794,"d":"519.28"}},{"$f":"[1]Sheet7!F217","v":"江苏明弈担保有限公司、无锡新京杭钢材市场经营管理有限公司、叶希贵、李文胤、叶希腾、李成凤、陈丽水"}]
[{"$f":"[1]债权基本情况!A237","v":236},"无锡",{"$f":"[1]债权基本情况!C237","v":"无锡通万贸易有限公司"},{"$f":"[1]债权基本情况!D237","v":{"v":352.5,"d":"352.50"}},{"$f":"[1]债权基本情况!E237","v":{"v":537.956512581,"d":"537.96"}},{"$f":"[1]Sheet7!F218","v":"江苏明弈担保有限公司、无锡新京杭钢材市场经营管理有限公司、叶希贵、李文胤、张裕达、何万兰、李成凤、陈丽水"}]
[{"$f":"[1]债权基本情况!A238","v":237},"无锡",{"$f":"[1]债权基本情况!C238","v":"无锡盟展钢铁贸易有限公司"},{"$f":"[1]债权基本情况!D238","v":{"v":349.99996,"d":"350.00"}},{"$f":"[1]债权基本情况!E238","v":{"v":519.74368023275,"d":"519.74"}},{"$f":"[1]Sheet7!F219","v":"李叶超、李林强"},{"$f":"[1]Sheet7!G219","v":"惠山区长安街道锦绣商业广场7-105、205、305，共计427.97平方米。"}]
[{"$f":"[1]债权基本情况!A239","v":238},"无锡",{"$f":"[1]债权基本情况!C239","v":"无锡市祥业贸易有限公司"},{"$f":"[1]债权基本情况!D239","v":{"v":94.569556,"d":"94.57"}},{"$f":"[1]债权基本情况!E239","v":{"v":449.577846286042,"d":"449.58"}},{"$f":"[1]Sheet7!F220","v":"无锡市祥业贸易有限公司、肖书助"}]
[{"$f":"[1]债权基本情况!A240","v":239},"无锡",{"$f":"[1]债权基本情况!C240","v":"无锡亚广金属材料有限公司"},{"$f":"[1]债权基本情况!D240","v":{"v":340.778615,"d":"340.78"}},{"$f":"[1]债权基本情况!E240","v":{"v":676.888824640874,"d":"676.89"}},{"$f":"[1]Sheet7!F221","v":"江苏省中强担保有限公司、无锡广益钢材城有限公司、无锡广华投资发展有限公司、陈文扬、吴华福、杨燕、陈小巧"}]
[{"$f":"[1]债权基本情况!A241","v":240},"无锡",{"$f":"[1]债权基本情况!C241","v":"无锡展闵物资有限公司"},{"$f":"[1]债权基本情况!D241","v":{"v":339.597065,"d":"339.60"}},{"$f":"[1]债权基本情况!E241","v":{"v":587.27398051552,"d":"587.27"}},{"$f":"[1]Sheet7!F222","v":"李彩芳、陈仁彬、叶先建、无锡龙之杰投资担保有限公司、无锡龙之杰钢材市场管理有限公司、江苏龙之杰钢铁交易中心有限公司、郑长地、刘秀清、郑辉、侯书雅、吴剑洪、王玮怡"}]
[{"$f":"[1]债权基本情况!A242","v":241},"无锡",{"$f":"[1]债权基本情况!C242","v":"无锡唐宣物资有限公司"},{"$f":"[1]债权基本情况!D242","v":{"v":335.861134,"d":"335.86"}},{"$f":"[1]债权基本情况!E242","v":{"v":482.4581513263,"d":"482.46"}},{"$f":"[1]Sheet7!F223","v":"江苏明弈担保有限公司、无锡新京杭钢材市场经营管理有限公司、叶希贵、李文胤、周福成、刘恭梅、李成凤、陈丽水"}]
[{"$f":"[1]债权基本情况!A243","v":242},"无锡",{"$f":"[1]债权基本情况!C243","v":"无锡时德金属材料有限公司"},{"$f":"[1]债权基本情况!D243","v":{"v":319.502447,"d":"319.50"}},{"$f":"[1]债权基本情况!E243","v":{"v":630.93408377002,"d":"630.93"}},{"$f":"[1]Sheet7!F224","v":"江苏省中强担保有限公司、无锡广益钢材城有限公司、无锡广华投资发展有限公司、陈文扬、吴华福、叶孙良、陈煜进"}]
[{"$f":"[1]债权基本情况!A244","v":243},"无锡",{"$f":"[1]债权基本情况!C244","v":"无锡陆陆顺物资贸易有限公司"},{"$f":"[1]债权基本情况!D244","v":{"v":297.629407,"d":"297.63"}},{"$f":"[1]债权基本情况!E244","v":{"v":286.53891,"d":"286.54"}},{"$f":"[1]Sheet7!F225","v":"江苏省中强担保有限公司、无锡广益钢材城有限公司、无锡广华投资发展有限公司、陈文扬、吴华福、陈谢六、王占川"}]
[{"$f":"[1]债权基本情况!A245","v":244},"无锡",{"$f":"[1]债权基本情况!C245","v":"宜兴市雄兴贸易有限公司"},{"$f":"[1]债权基本情况!D245","v":{"v":279.855865,"d":"279.86"}},{"$f":"[1]债权基本情况!E245","v":{"v":554.03794010176,"d":"554.04"}},{"$f":"[1]Sheet7!F226","v":"江苏百树建设工程有限公司、宜兴市盛泽包装制品有限公司、叶国新、严孟大"}]
[{"$f":"[1]债权基本情况!A246","v":245},"无锡",{"$f":"[1]债权基本情况!C246","v":"无锡扩恒物资有限公司"},{"$f":"[1]债权基本情况!D246","v":{"v":279.657532,"d":"279.66"}},{"$f":"[1]债权基本情况!E246","v":{"v":484.26150470894,"d":"484.26"}},{"$f":"[1]Sheet7!F227","v":"江苏省中强担保有限公司、无锡广益钢材城有限公司、无锡广华投资发展有限公司、陈文扬、吴华福、叶新林、陈少琼"}]
[{"$f":"[1]债权基本情况!A247","v":246},"无锡",{"$f":"[1]债权基本情况!C247","v":"无锡宁众贸易有限公司"},{"$f":"[1]债权基本情况!D247","v":{"v":245.3607,"d":"245.36"}},{"$f":"[1]债权基本情况!E247","v":{"v":858.66471944864,"d":"858.66"}},{"$f":"[1]Sheet7!F228","v":"谢付春、谢富登"}]
[{"$f":"[1]债权基本情况!A248","v":247},"徐州",{"$f":"[1]债权基本情况!C248","v":"江苏长安建设集团有限公司"},{"$f":"[1]债权基本情况!D248","v":{"v":14506.572597,"d":"14506.57"}},{"$f":"[1]债权基本情况!E248","v":{"v":13544.708193,"d":"13544.71"}},{"$f":"[1]Sheet7!F229","v":"姜兆强、林杨、张伟、闫洪静、姜峰、胡苏梅、江苏徐航科技有限公司、江苏万宁房地产开发集团有限公司、徐州饭店集团有限公司；"},{"$f":"[1]Sheet7!G229","v":"徐州饭店集团有限公司名下位于徐州市淮海东路201号的商业性质房地产，房产面积共计18622.79平方米，土地面积10463.53平方米，部分抵押土地为租赁土地且已到期。"}]
[{"$f":"[1]债权基本情况!A249","v":248},"镇江",{"$f":"[1]债权基本情况!C249","v":"江苏凯旋汽车部件有限公司"},{"$f":"[1]债权基本情况!D249","v":{"v":2426.429794,"d":"2426.43"}},{"$f":"[1]债权基本情况!E249","v":{"v":1491.71485365709,"d":"1491.71"}},{"$f":"[1]Sheet7!F230","v":"丹阳市德全汽车饰件有限公司、江苏明宇金属制品有限公司、江苏波隆车业有限公司、何耀华、郭卫勤、何凯、魏丹               "}]
[{"$f":"[1]债权基本情况!A250","v":249},"镇江",{"$f":"[1]债权基本情况!C250","v":"丹阳市星达有限责任公司"},{"$f":"[1]债权基本情况!D250","v":{"v":493,"d":"493.00"}},{"$f":"[1]债权基本情况!E250","v":{"v":629.773495523992,"d":"629.77"}},{"$f":"[1]Sheet7!F231","v":"丹阳市阳光担保投资有限公司、丹阳市众达化工有限公司、丹阳市航宇机械部件有限公司、沙国芳、李娜、沙李克、吴根法、陈炳川、徐金云、陈玉芬"}]
[{"$f":"[1]债权基本情况!A251","v":250},"镇江",{"$f":"[1]债权基本情况!C251","v":"丹阳市玮麒车业有限公司"},{"$f":"[1]债权基本情况!D251","v":{"v":499.781728,"d":"499.78"}},{"$f":"[1]债权基本情况!E251","v":{"v":686.282724927397,"d":"686.28"}},{"$f":"[1]Sheet7!F232","v":"丹阳市阳光担保投资有限公司、彭芳、姚仪"}]
[{"$f":"[1]债权基本情况!A252","v":251},"镇江",{"$f":"[1]债权基本情况!C252","v":"丹阳市平达包装厂"},{"$f":"[1]债权基本情况!D252","v":{"v":1399.028872,"d":"1399.03"}},{"$f":"[1]债权基本情况!E252","v":{"v":1636.06379409213,"d":"1636.06"}},{"$f":"[1]Sheet7!F233","v":"丹阳市飞达电动工具有限公司、江苏飞达工具股份有限公司、江苏业丰纸业有限公司、朱国平"}]
[{"$f":"[1]债权基本情况!A253","v":252},"镇江",{"$f":"[1]债权基本情况!C253","v":"丹阳市圆丰五金塑料有限公司"},{"$f":"[1]债权基本情况!D253","v":{"v":497.573029,"d":"497.57"}},{"$f":"[1]债权基本情况!E253","v":{"v":676.818194100847,"d":"676.82"}},{"$f":"[1]Sheet7!F234","v":"丹阳市阳光担保投资有限公司、袁菊琴、贺小平、贺远峰"}]
[{"$f":"[1]债权基本情况!A254","v":253},"镇江",{"$f":"[1]债权基本情况!C254","v":"丹阳市锋华模业有限公司"},{"$f":"[1]债权基本情况!D254","v":{"v":999.492484,"d":"999.49"}},{"$f":"[1]债权基本情况!E254","v":{"v":1299.51477327643,"d":"1299.51"}},{"$f":"[1]Sheet7!F235","v":"丹阳市阳光担保投资有限公司、王金华、王美凤、王宇峰、史丽丽"}]
[{"$f":"[1]债权基本情况!A255","v":254},"镇江",{"$f":"[1]债权基本情况!C255","v":"丹阳市宇达汽车钣金有限公司"},{"$f":"[1]债权基本情况!D255","v":{"v":492.952944,"d":"492.95"}},{"$f":"[1]债权基本情况!E255","v":{"v":469.268596095253,"d":"469.27"}},{"$f":"[1]Sheet7!F236","v":"丹阳市阳光担保投资有限公司、张小军、姚亚香"}]
[{"$f":"[1]债权基本情况!A256","v":255},"镇江",{"$f":"[1]债权基本情况!C256","v":"江苏润阳伟业科技有限公司"},{"$f":"[1]债权基本情况!D256","v":{"v":1933.107568,"d":"1933.11"}},{"$f":"[1]债权基本情况!E256","v":{"v":1815.362174648,"d":"1815.36"}},{"$f":"[1]Sheet7!F237","v":"江苏台阳化工有限公司、丹阳市龙马机电设备有限公司、蒋蔼其、蒋鹏宇                                                       "}]
[{"$f":"[1]债权基本情况!A257","v":256},"镇江",{"$f":"[1]债权基本情况!C257","v":"丹阳铠利金汽车配件有限公司"},{"$f":"[1]债权基本情况!D257","v":{"v":997.115218,"d":"997.12"}},{"$f":"[1]债权基本情况!E257","v":{"v":1163.419345901,"d":"1163.42"}},{"$f":"[1]Sheet7!F238","v":"丹阳市阳光担保投资有限公司、张霞、姚剑"}]
[{"$f":"[1]债权基本情况!A258","v":257},"镇江",{"$f":"[1]债权基本情况!C258","v":"江苏慧龙汽车配件有限公司"},{"$f":"[1]债权基本情况!D258","v":{"v":398.185366,"d":"398.19"}},{"$f":"[1]债权基本情况!E258","v":{"v":553.733807935773,"d":"553.73"}},{"$f":"[1]Sheet7!F239","v":"丹阳市阳光担保投资有限公司、王建军、黄云、丁文英"}]
[{"$f":"[1]债权基本情况!A259","v":258},"镇江",{"$f":"[1]债权基本情况!C259","v":"丹阳市长福交通器材有限公司"},{"$f":"[1]债权基本情况!D259","v":{"v":675.375094,"d":"675.38"}},{"$f":"[1]债权基本情况!E259","v":{"v":609.080109533144,"d":"609.08"}},{"$f":"[1]Sheet7!F240","v":"丹阳市凯达摩托车配件有限公司、江苏申通汽车零部件有限公司、彭乐、顾红燕、韦冬娣、彭小和、彭琴"}]
[{"$f":"[1]债权基本情况!A260","v":259},"镇江",{"$f":"[1]债权基本情况!C260","v":"丹阳市华亨车业有限公司"},{"$f":"[1]债权基本情况!D260","v":{"v":999.999999,"d":"1000.00"}},{"$f":"[1]债权基本情况!E260","v":{"v":1293.60477139793,"d":"1293.60"}},{"$f":"[1]Sheet7!F241","v":"丹阳市阳光担保投资有限公司、孙跃华、江建群"}]
[{"$f":"[1]债权基本情况!A261","v":260},"镇江",{"$f":"[1]债权基本情况!C261","v":"丹阳市揽月车件有限公司"},{"$f":"[1]债权基本情况!D261","v":{"v":618.68635,"d":"618.69"}},{"$f":"[1]债权基本情况!E261","v":{"v":798.188632908507,"d":"798.19"}},{"$f":"[1]Sheet7!F242","v":"镇江市诚信担保有限责任公司、陆永飞、何玉芳"}]
[{"$f":"[1]债权基本情况!A262","v":261},"镇江",{"$f":"[1]债权基本情况!C262","v":"丹阳市轩昌汽配有限公司"},{"$f":"[1]债权基本情况!D262","v":{"v":334.111646,"d":"334.11"}},{"$f":"[1]债权基本情况!E262","v":{"v":282.755204172517,"d":"282.76"}},{"$f":"[1]Sheet7!F243","v":"镇江市诚信担保有限责任公司、张留俊、刘银宝"}]
[{"$f":"[1]债权基本情况!A263","v":262},"镇江",{"$f":"[1]债权基本情况!C263","v":"丹阳市美利达塑业有限公司"},{"$f":"[1]债权基本情况!D263","v":{"v":498.35788,"d":"498.36"}},{"$f":"[1]债权基本情况!E263","v":{"v":664.336467831693,"d":"664.34"}},{"$f":"[1]Sheet7!F244","v":"丹阳市阳光担保投资有限公司、彭勃、金胜华、彭俊"}]
[{"$f":"[1]债权基本情况!A264","v":263},"镇江",{"$f":"[1]债权基本情况!C264","v":"丹阳市京江汽车饰件有限公司"},{"$f":"[1]债权基本情况!D264","v":{"v":444.426133,"d":"444.43"}},{"$f":"[1]债权基本情况!E264","v":{"v":573.6064617197,"d":"573.61"}},{"$f":"[1]Sheet7!F245","v":"镇江市诚信担保有限责任公司、姚培中、徐玲芬"}]
[{"$f":"[1]债权基本情况!A265","v":264},"镇江",{"$f":"[1]债权基本情况!C265","v":"丹阳市华琪汽车内饰件厂"},{"$f":"[1]债权基本情况!D265","v":{"v":393.003123,"d":"393.00"}},{"$f":"[1]债权基本情况!E265","v":{"v":529.64260796976,"d":"529.64"}},{"$f":"[1]Sheet7!F246","v":"丹阳市阳光担保投资有限公司、陈亚芳、徐云"}]
[{"$f":"[1]债权基本情况!A266","v":265},"镇江",{"$f":"[1]债权基本情况!C266","v":"丹阳市三志车辆部件有限公司"},{"$f":"[1]债权基本情况!D266","v":{"v":497.235254,"d":"497.24"}},{"$f":"[1]债权基本情况!E266","v":{"v":657.24695954158,"d":"657.25"}},{"$f":"[1]Sheet7!F247","v":"丹阳市阳光担保投资有限公司、陈惠、陈国芬"}]
[{"$f":"[1]债权基本情况!A267","v":266},"镇江",{"$f":"[1]债权基本情况!C267","v":"江苏天和汽配有限公司"},{"$f":"[1]债权基本情况!D267","v":{"v":852.189278,"d":"852.19"}},{"$f":"[1]债权基本情况!E267","v":{"v":894.53568301115,"d":"894.54"}},{"$f":"[1]Sheet7!F248","v":"镇江市诚信担保有限责任公司、丹阳市新兴注塑制品厂、陈金彪、杨玉茹"}]
[{"$f":"[1]债权基本情况!A268","v":267},"镇江",{"$f":"[1]债权基本情况!C268","v":"丹阳市佳丰汽配有限公司"},{"$f":"[1]债权基本情况!D268","v":{"v":488.097733,"d":"488.10"}},{"$f":"[1]债权基本情况!E268","v":{"v":660.42755751512,"d":"660.43"}},{"$f":"[1]Sheet7!F249","v":"丹阳市阳光担保投资有限公司、王洪涛、郭红琴"}]
[{"$f":"[1]债权基本情况!A269","v":268},"镇江",{"$f":"[1]债权基本情况!C269","v":"丹阳市鑫棉家纺有限公司"},{"$f":"[1]债权基本情况!D269","v":{"v":485.348596,"d":"485.35"}},{"$f":"[1]债权基本情况!E269","v":{"v":607.88468531432,"d":"607.88"}},{"$f":"[1]Sheet7!F250","v":"丹阳市阳光担保投资有限公司、倪建琴、胡志明"}]
[{"$f":"[1]债权基本情况!A270","v":269},"镇江",{"$f":"[1]债权基本情况!C270","v":"江苏省辉腾化工有限公司"},{"$f":"[1]债权基本情况!D270","v":{"v":830.070161,"d":"830.07"}},{"$f":"[1]债权基本情况!E270","v":{"v":780.663718022624,"d":"780.66"}},{"$f":"[1]Sheet7!F251","v":"丹阳市阳光担保投资有限公司、丹阳市联融企业咨询有限公司、江苏长三角精细化工有限公司、史辉、朱仙妹"}]
[{"$f":"[1]债权基本情况!A271","v":270},"镇江",{"$f":"[1]债权基本情况!C271","v":"丹阳翰宸车辆部件有限公司"},{"$f":"[1]债权基本情况!D271","v":{"v":499.097767,"d":"499.10"}},{"$f":"[1]债权基本情况!E271","v":{"v":604.535128583469,"d":"604.54"}},{"$f":"[1]Sheet7!F252","v":"丹阳市阳光担保投资有限公司、陈江华、彭秀英"}]
[{"$f":"[1]债权基本情况!A272","v":271},"镇江",{"$f":"[1]债权基本情况!C272","v":"丹阳市春丹汽车配件有限公司"},{"$f":"[1]债权基本情况!D272","v":{"v":259.872432,"d":"259.87"}},{"$f":"[1]债权基本情况!E272","v":{"v":338.51228317062,"d":"338.51"}},{"$f":"[1]Sheet7!F253","v":"镇江市诚信担保有限责任公司、陆丹、王飞、陆昌平、谢春梅"}]
[{"$f":"[1]债权基本情况!A273","v":272},"镇江",{"$f":"[1]债权基本情况!C273","v":"江苏新丰电子有限公司"},{"$f":"[1]债权基本情况!D273","v":{"v":952.385484,"d":"952.39"}},{"$f":"[1]债权基本情况!E273","v":{"v":1143.487925794,"d":"1143.49"}},{"$f":"[1]Sheet7!F254","v":"丹阳天一通信有限公司、江苏耀华医疗器械科技有限公司、江苏丹绿食品股份有限公司、丹阳利华电子有限公司、陈文、袁娅、徐玉凤"}]
[{"$f":"[1]债权基本情况!A274","v":273},"镇江",{"$f":"[1]债权基本情况!C274","v":"丹阳市金富来旅游用品有限公司"},{"$f":"[1]债权基本情况!D274","v":{"v":299.741089,"d":"299.74"}},{"$f":"[1]债权基本情况!E274","v":{"v":388.00965421415,"d":"388.01"}},{"$f":"[1]Sheet7!F255","v":"丹阳市阳光担保投资有限公司、傅俊、钱法娣"}]
[{"$f":"[1]债权基本情况!A275","v":274},"镇江",{"$f":"[1]债权基本情况!C275","v":"丹阳浩远电子有限公司"},{"$f":"[1]债权基本情况!D275","v":{"v":135.855157,"d":"135.86"}},{"$f":"[1]债权基本情况!E275","v":{"v":174.31653684278,"d":"174.32"}},{"$f":"[1]Sheet7!F256","v":"丹阳市阳光担保投资有限公司、陈孝保、陈腊英"}]
[{"$f":"[1]债权基本情况!A276","v":275},"镇江",{"$f":"[1]债权基本情况!C276","v":"丹阳市浩源车业有限公司"},{"$f":"[1]债权基本情况!D276","v":{"v":485.58083,"d":"485.58"}},{"$f":"[1]债权基本情况!E276","v":{"v":643.339756450507,"d":"643.34"}},{"$f":"[1]Sheet7!F257","v":"丹阳市阳光担保投资有限公司、陈志豪、胡惠"}]
[{"$f":"[1]债权基本情况!A277","v":276},"镇江",{"$f":"[1]债权基本情况!C277","v":"丹阳新鸿霞汽配有限公司"},{"$f":"[1]债权基本情况!D277","v":{"v":442.495305,"d":"442.50"}},{"$f":"[1]债权基本情况!E277","v":{"v":593.57576834388,"d":"593.58"}},{"$f":"[1]Sheet7!F258","v":"镇江市诚信担保有限公司、丹阳市界牌镇鸿霞车灯厂、刘忠、雷惠琴"}]
[{"$f":"[1]债权基本情况!A278","v":277},"镇江",{"$f":"[1]债权基本情况!C278","v":"江苏恒宏汽车部件有限公司"},{"$f":"[1]债权基本情况!D278","v":443.22},{"$f":"[1]债权基本情况!E278","v":{"v":436.099539816697,"d":"436.10"}},{"$f":"[1]Sheet7!F259","v":"镇江市诚信担保有限责任公司、罗玉娣、邹志宏"}]
[{"$f":"[1]债权基本情况!A279","v":278},"镇江",{"$f":"[1]债权基本情况!C279","v":"丹阳市新祥宇汽配有限公司"},{"$f":"[1]债权基本情况!D279","v":{"v":443.686936,"d":"443.69"}},{"$f":"[1]债权基本情况!E279","v":{"v":360.790247025598,"d":"360.79"}},{"$f":"[1]Sheet7!F260","v":"镇江市诚信担保有限责任公司、陈志、姚利华"}]
[{"$f":"[1]债权基本情况!A280","v":279},"镇江",{"$f":"[1]债权基本情况!C280","v":"江苏众威汽车部件有限公司"},{"$f":"[1]债权基本情况!D280","v":{"v":205.548696,"d":"205.55"}},{"$f":"[1]债权基本情况!E280","v":{"v":389.983171158037,"d":"389.98"}},{"$f":"[1]Sheet7!F261","v":"丹阳市阳光担保投资有限公司、江苏锐光砼业有限公司、江苏锐光车业有限公司、张惠琴、殷胜东、徐芬、郭波、戎建华"}]
[{"$f":"[1]债权基本情况!A281","v":280},"镇江",{"$f":"[1]债权基本情况!C281","v":"丹阳欧国立车业有限公司"},{"$f":"[1]债权基本情况!D281","v":{"v":649.635369,"d":"649.64"}},{"$f":"[1]债权基本情况!E281","v":{"v":887.27341408124,"d":"887.27"}},{"$f":"[1]Sheet7!F262","v":"丹阳市阳光担保投资有限公司、姚卫群、张建国、张立、柳欢"}]
[{"$f":"[1]债权基本情况!A282","v":281},"镇江",{"$f":"[1]债权基本情况!C282","v":"丹阳耀佳机械有限公司"},{"$f":"[1]债权基本情况!D282","v":442.33},{"$f":"[1]债权基本情况!E282","v":{"v":404.754567974578,"d":"404.75"}},{"$f":"[1]Sheet7!F263","v":"镇江市诚信担保有限责任公司、姚君华、王凤珠"}]
[{"$f":"[1]债权基本情况!A283","v":282},"镇江",{"$f":"[1]债权基本情况!C283","v":"江苏奥盛电器有限公司"},{"$f":"[1]债权基本情况!D283","v":{"v":494.387313,"d":"494.39"}},{"$f":"[1]债权基本情况!E283","v":{"v":563.911364555669,"d":"563.91"}},{"$f":"[1]Sheet7!F264","v":"江苏唯益炉料有限公司、丹阳市天丰精密部件有限公司、朱金奇、张琪"}]
[{"$f":"[1]债权基本情况!A284","v":283},"镇江",{"$f":"[1]债权基本情况!C284","v":"丹阳市强马汽车附件有限公司"},{"$f":"[1]债权基本情况!D284","v":299.95},{"$f":"[1]债权基本情况!E284","v":{"v":415.873406864592,"d":"415.87"}},{"$f":"[1]Sheet7!F265","v":"丹阳市阳光担保投资有限公司、秦志强、郭红娟"}]
[{"$f":"[1]债权基本情况!A285","v":284},"镇江",{"$f":"[1]债权基本情况!C285","v":"江苏恒超汽车部件有限公司"},{"$f":"[1]债权基本情况!D285","v":{"v":269.242106,"d":"269.24"}},{"$f":"[1]债权基本情况!E285","v":{"v":362.450957516459,"d":"362.45"}},{"$f":"[1]Sheet7!F266","v":"丹阳市阳光担保投资有限公司、王洪、巢玲媛、王恒林、姚玉华"}]
[{"$f":"[1]债权基本情况!A286","v":285},"泰州",{"$f":"[1]债权基本情况!C286","v":"江苏东方重工有限公司"},{"$f":"[1]债权基本情况!D286","v":{"v":4795.318274,"d":"4795.32"}},{"$f":"[1]债权基本情况!E286","v":{"v":0,"d":"0.00"}},{"$f":"[1]Sheet7!F267","v":"江苏海神船业有限公司、江苏东方海洋装备有限公司、江苏新东方海洋工程装备有限公司、江苏大中电机股份有限公司、金鑫；"}]
[{"$f":"[1]债权基本情况!A287","v":286},"扬州","江苏兴发新能源材料有限公司",4629.23,0,"单怀宽、王小乐、汪仁来、刘秀芳、单华峰","1、单怀宽、刘秀芳名下位于宝应县名仕华庭商城门市1幢2028号2677.8㎡商业房产、名仕华庭商城门市1幢1248号1639.49㎡商业房产；单华峰名下位于宝应县名仕华庭商城门户3028号2677.8㎡住宅房产；\n2、刘晓兵名下位于宝应县名仕华庭宾馆楼101室3848.94㎡商业房产、801室374.38㎡住宅；\n3、单怀宽、刘秀芳名下位于宝应县安宜镇卫岗二期综合楼北门市106室250.89㎡商业房产、107室371.42㎡商业房产。"]
[{"$f":"[1]债权基本情况!A288","v":287},"镇江","江苏飞达工具股份有限公司（徽商）",3000,{"v":3611.3845948,"d":"3611.38"},"江苏飞达控股集团有限公司、朱国平、朱丽霞"]
[{"$f":"[1]债权基本情况!A289","v":288},"苏州",{"$f":"[1]债权基本情况!C289","v":"苏州创力建设工程有限公司"},{"$f":"[1]债权基本情况!D289","v":{"v":4289.871389875,"d":"4289.87"}},{"$f":"[1]债权基本情况!E289","v":{"v":1665.00633319523,"d":"1665.01"}},{"$f":"[1]Sheet7!F270","v":"张华明"}]
[{"$f":"[1]债权基本情况!A290","v":289},"苏州",{"$f":"[1]债权基本情况!C290","v":"苏州工业园区圣汉市政工程有限公司"},{"$f":"[1]债权基本情况!D290","v":{"v":7891.36179,"d":"7891.36"}},{"$f":"[1]债权基本情况!E290","v":{"v":6917.50109182757,"d":"6917.50"}},{"$f":"[1]Sheet7!F271","v":"唐如海、刘根金、金瑾、刘根虎、沈文英"}]
[{"$f":"[1]债权基本情况!A291","v":290},"无锡",{"$f":"[1]债权基本情况!C291","v":"宜兴市广进源商贸有限公司"},{"$f":"[1]债权基本情况!D291","v":{"v":3900,"d":"3900.00"}},{"$f":"[1]债权基本情况!E291","v":{"v":12785.8739525465,"d":"12785.87"}},{"$f":"[1]Sheet7!F272","v":"无锡市乾丰锻造有限公司"}]
[{"$f":"[1]债权基本情况!A292","v":291},"无锡",{"$f":"[1]债权基本情况!C292","v":"江阴博格机械制冷技术有限公司"},{"$f":"[1]债权基本情况!D292","v":{"v":3000,"d":"3000.00"}},{"$f":"[1]债权基本情况!E292","v":{"v":4742.12456099955,"d":"4742.12"}},{"$f":"[1]Sheet7!F273","v":"倪华耀、任秋媛"}]
[{"$f":"[1]债权基本情况!A293","v":292},"无锡",{"$f":"[1]债权基本情况!C293","v":"江苏意龙精密模具有限公司"},{"$f":"[1]债权基本情况!D293","v":{"v":3000,"d":"3000.00"}},{"$f":"[1]债权基本情况!E293","v":{"v":5965.51169845479,"d":"5965.51"}},{"$f":"[1]Sheet7!F274","v":"江阴博格机械制冷技术有限公司、江阴烨星铜业发展有限公司、任春军、倪华安"}]
[{"$f":"[1]债权基本情况!A294","v":293},"无锡",{"$f":"[1]债权基本情况!C294","v":"江苏大江石油科技有限公司"},{"$f":"[1]债权基本情况!D294","v":{"v":3000,"d":"3000.00"}},{"$f":"[1]债权基本情况!E294","v":{"v":1727.869366,"d":"1727.87"}},{"$f":"[1]Sheet7!F275","v":"钱江集团（无锡）有限公司、梅立新，钱秋英、梅彩芳"},{"$f":"[1]Sheet7!G275","v":"抵押物为机器设备，以实际情况为准"}]
[{"$f":"[1]债权基本情况!A295","v":294},"无锡",{"$f":"[1]债权基本情况!C295","v":"江阴市华源科技有限公司"},{"$f":"[1]债权基本情况!D295","v":{"v":2499.999999,"d":"2500.00"}},{"$f":"[1]债权基本情况!E295","v":{"v":963.222575,"d":"963.22"}},{"$f":"[1]Sheet7!F276","v":"江苏三鑫电子有限公司、刘产国、钱忠平、张根华"}]
[{"$f":"[1]债权基本情况!A296","v":295},"无锡",{"$f":"[1]债权基本情况!C296","v":"无锡莱今贸易有限公司"},{"$f":"[1]债权基本情况!D296","v":{"v":1487,"d":"1487.00"}},{"$f":"[1]债权基本情况!E296","v":{"v":2383.25684474385,"d":"2383.26"}},{"$f":"[1]Sheet7!F277","v":"江苏永盛光电科技有限责任公司、江苏永盛投资有限公司、无锡健实物资有限公司、无锡今莱物资有限公司、许新源、袁智华、朱永良、许菁、陈锡忠、陈允胜、李翠琴、彭献华"}]
[{"$f":"[1]债权基本情况!A297","v":296},"无锡",{"$f":"[1]债权基本情况!C297","v":"江阴市荣达经贸有限公司"},{"$f":"[1]债权基本情况!D297","v":{"v":1499.64027,"d":"1499.64"}},{"$f":"[1]债权基本情况!E297","v":{"v":2047.3886987405,"d":"2047.39"}},{"$f":"[1]Sheet7!F278","v":"江阴兴鼎石油管具有限公司、江阴市华诺新型材料有限公司、江阴锦澄钢铁有限公司、吴丁荣，张建园"}]
[{"$f":"[1]债权基本情况!A298","v":297},"无锡",{"$f":"[1]债权基本情况!C298","v":"江阴鑫源金属制品有限公司"},{"$f":"[1]债权基本情况!D298","v":{"v":1287.628404,"d":"1287.63"}},{"$f":"[1]债权基本情况!E298","v":{"v":2056.52747188032,"d":"2056.53"}},{"$f":"[1]Sheet7!F279","v":"江苏准信汽车空调系统有限公司"}]
[{"$f":"[1]债权基本情况!A299","v":298},"无锡",{"$f":"[1]债权基本情况!C299","v":"江阴市华茂精密制管有限公司"},{"$f":"[1]债权基本情况!D299","v":{"v":399.910043,"d":"399.91"}},{"$f":"[1]债权基本情况!E299","v":{"v":792.321897747779,"d":"792.32"}},{"$f":"[1]Sheet7!F280","v":"江阴市云天化纤有限公司、无锡市华通铜业有限公司、赵惠忠、缪丽珠"}]
[{"$f":"[1]债权基本情况!A300","v":299},"无锡",{"$f":"[1]债权基本情况!C300","v":"江阴恩泰金属材料有限公司"},{"$f":"[1]债权基本情况!D300","v":{"v":1797.750626,"d":"1797.75"}},{"$f":"[1]债权基本情况!E300","v":{"v":2667.58538074279,"d":"2667.59"}},{"$f":"[1]Sheet7!F281","v":"江阴市宇星金属制品有限公司、江阴市亿利达铁路器材科技有限公司、查永恩、张兰娣、王健、周春娟"}]
[{"$f":"[1]债权基本情况!A301","v":300},"无锡",{"$f":"[1]债权基本情况!C301","v":"无锡市电线厂有限公司"},{"$f":"[1]债权基本情况!D301","v":{"v":1499.829035,"d":"1499.83"}},{"$f":"[1]债权基本情况!E301","v":{"v":241.111036,"d":"241.11"}},{"$f":"[1]Sheet7!F282","v":"无锡市神驹线缆制造有限公司、马阿根"}]
[{"$f":"[1]债权基本情况!A302","v":301},"无锡",{"$f":"[1]债权基本情况!C302","v":"江苏宇杰钢机有限公司"},{"$f":"[1]债权基本情况!D302","v":2867.65},{"$f":"[1]债权基本情况!E302","v":{"v":0,"d":"0.00"}},{"$f":"[1]Sheet7!F283","v":"和信投资担保有限公司（现更名为宜兴市瑞信融资担保有限公司）、宜兴市科创科技投资担保有限公司、宜兴市海福印铁制罐有限公司、赵良方、王君芳"}]
[{"$f":"[1]债权基本情况!A303","v":302},"无锡",{"$f":"[1]债权基本情况!C303","v":"江苏隆天软件有限公司"},{"$f":"[1]债权基本情况!D303","v":{"v":667.270176,"d":"667.27"}},{"$f":"[1]债权基本情况!E303","v":{"v":463.521323,"d":"463.52"}},{"$f":"[1]Sheet7!F284","v":"友邦（江苏）聚氨酯新材料有限公司、江苏金茂幕墙有限公司、吴辰"}]
[{"$f":"[1]债权基本情况!A304","v":303},"无锡",{"$f":"[1]债权基本情况!C304","v":"江阴恒希国际贸易有限公司"},{"$f":"[1]债权基本情况!D304","v":{"v":880,"d":"880.00"}},{"$f":"[1]债权基本情况!E304","v":{"v":645.019080029728,"d":"645.02"}},{"$f":"[1]Sheet7!F285","v":"江阴市虹桥机械制造有限公司、程斌"}]
[{"$f":"[1]债权基本情况!A305","v":304},"无锡",{"$f":"[1]债权基本情况!C305","v":"江苏辰龙科技有限公司"},{"$f":"[1]债权基本情况!D305","v":{"v":371.320918,"d":"371.32"}},{"$f":"[1]债权基本情况!E305","v":{"v":0,"d":"0.00"}},{"$f":"[1]Sheet7!F286","v":"江苏天地龙实业有限公司（现更名为宜兴市如日中天贸易有限公司）、江苏中辰电缆有限公司（现更名为江苏聚辰电缆科技有限公司）、蒋加平、潘迎九"}]
[{"$f":"[1]债权基本情况!A306","v":305},"无锡",{"$f":"[1]债权基本情况!C306","v":"江苏恒源电缆有限公司"},{"$f":"[1]债权基本情况!D306","v":{"v":462.651264,"d":"462.65"}},{"$f":"[1]债权基本情况!E306","v":{"v":0,"d":"0.00"}},{"$f":"[1]Sheet7!F287","v":"朱友松、胡春红"}]
[{"$f":"[1]债权基本情况!A307","v":306},"无锡",{"$f":"[1]债权基本情况!C307","v":"江苏永禄肥料有限公司"},{"$f":"[1]债权基本情况!D307","v":{"v":3595.293869,"d":"3595.29"}},{"$f":"[1]债权基本情况!E307","v":{"v":1868.225897,"d":"1868.23"}},{"$f":"[1]Sheet7!F288","v":"江苏新天地环保科技有限公司、单晓昌、吴淑华"}]
[{"$f":"[1]债权基本情况!A308","v":307},"无锡",{"$f":"[1]债权基本情况!C308","v":"江阴锦舫金属制品有限公司"},{"$f":"[1]债权基本情况!D308","v":{"v":1065.3701052381,"d":"1065.37"}},{"$f":"[1]债权基本情况!E308","v":{"v":756.779569676895,"d":"756.78"}},{"$f":"[1]Sheet7!F289","v":"於正成、柳金秀"}]
[{"$f":"[1]债权基本情况!A309","v":308},"无锡",{"$f":"[1]债权基本情况!C309","v":"江阴市新德诚装饰材料有限公司"},{"$f":"[1]债权基本情况!D309","v":{"v":583.6427,"d":"583.64"}},{"$f":"[1]债权基本情况!E309","v":{"v":1461.92674033826,"d":"1461.93"}},{"$f":"[1]Sheet7!F290","v":"吴军"}]
[{"$f":"[1]债权基本情况!A310","v":309},"无锡",{"$f":"[1]债权基本情况!C310","v":"无锡领航动力机械有限公司"},{"$f":"[1]债权基本情况!D310","v":{"v":979.408,"d":"979.41"}},{"$f":"[1]债权基本情况!E310","v":{"v":3091.52746778836,"d":"3091.53"}},{"$f":"[1]Sheet7!F291","v":"无锡麒龙动力机械有限公司、无锡蓝天房地产开发有限公司、陶坤、钱喜微"}]
[{"$f":"[1]债权基本情况!A311","v":310},"无锡",{"$f":"[1]债权基本情况!C311","v":"宜兴民惠肉制品有限公司"},{"$f":"[1]债权基本情况!D311","v":{"v":14.7449,"d":"14.74"}},{"$f":"[1]债权基本情况!E311","v":{"v":1174.273905,"d":"1174.27"}},{"$f":"[1]Sheet7!F292","v":"宜兴市昌兴生态农业技术发展有限公司、陆怡"}]
[{"$f":"[1]债权基本情况!A312","v":311},"无锡",{"$f":"[1]债权基本情况!C312","v":"长三角物流园集团有限公司"},{"$f":"[1]债权基本情况!D312","v":4999.99},{"$f":"[1]债权基本情况!E312","v":{"v":8612.91673235505,"d":"8612.92"}},{"$f":"[1]Sheet7!F293","v":"江苏广厦旧机动车交易市场有限公司、翟小平、狄云霞"}]
[{"$f":"[1]债权基本情况!A313","v":312},"无锡",{"$f":"[1]债权基本情况!C313","v":"江苏广源轴承有限公司"},{"$f":"[1]债权基本情况!D313","v":{"v":454.4032944,"d":"454.40"}},{"$f":"[1]债权基本情况!E313","v":{"v":318.816335559149,"d":"318.82"}},{"$f":"[1]Sheet7!F294","v":"刘安广"}]
[{"$f":"[1]债权基本情况!A314","v":313},"无锡",{"$f":"[1]债权基本情况!C314","v":"江苏荣诚环境设备有限公司"},{"$f":"[1]债权基本情况!D314","v":{"v":144.182385754801,"d":"144.18"}},{"$f":"[1]债权基本情况!E314","v":{"v":89.1299733481885,"d":"89.13"}},{"$f":"[1]Sheet7!F295","v":"荣诚环境工程集团有限公司、无锡市荣诚软件开发科技有限公司、张茂洪、谢琴大、丁丽娟、张谦成、张伟荣"}]
[{"$f":"[1]债权基本情况!A315","v":314},"无锡",{"$f":"[1]债权基本情况!C315","v":"江苏双友重型机械有限公司"},{"$f":"[1]债权基本情况!D315","v":{"v":1000,"d":"1000.00"}},{"$f":"[1]债权基本情况!E315","v":{"v":783.013294077191,"d":"783.01"}},{"$f":"[1]Sheet7!F296","v":"江苏华超重工机械有限公司、吴建兴、钱洲丽、吴志军、陈艳"}]
[{"$f":"[1]债权基本情况!A316","v":315},"无锡",{"$f":"[1]债权基本情况!C316","v":"无锡东之钢业有限公司"},{"$f":"[1]债权基本情况!D316","v":{"v":151.002561042567,"d":"151.00"}},{"$f":"[1]债权基本情况!E316","v":{"v":115.793630610755,"d":"115.79"}},{"$f":"[1]Sheet7!F297","v":0}]
[{"$f":"[1]债权基本情况!A317","v":316},"无锡",{"$f":"[1]债权基本情况!C317","v":"江阴市中南塑料彩印有限公司"},{"$f":"[1]债权基本情况!D317","v":{"v":1371.81247175856,"d":"1371.81"}},{"$f":"[1]债权基本情况!E317","v":{"v":405.661192380602,"d":"405.66"}},{"$f":"[1]Sheet7!F298","v":"江阴市港汇包装有限公司、沈坚、徐玲"}]
[{"$f":"[1]债权基本情况!A318","v":317},"无锡",{"$f":"[1]债权基本情况!C318","v":"无锡金洪涛装饰工程有限公司"},{"$f":"[1]债权基本情况!D318","v":{"v":1200,"d":"1200.00"}},{"$f":"[1]债权基本情况!E318","v":{"v":1222.99283239477,"d":"1222.99"}},{"$f":"[1]Sheet7!F299","v":"黄耀清、黄建清、蔡惠珠"}]
[{"$f":"[1]债权基本情况!A319","v":318},"无锡",{"$f":"[1]债权基本情况!C319","v":"江阴暨阳仪表有限公司"},{"$f":"[1]债权基本情况!D319","v":{"v":225.372929565758,"d":"225.37"}},{"$f":"[1]债权基本情况!E319","v":{"v":256.416036598554,"d":"256.42"}},{"$f":"[1]Sheet7!F300","v":"江阴市银鹭棉业有限公司、马小平、陈章英"}]
[{"$f":"[1]债权基本情况!A320","v":319},"无锡",{"$f":"[1]债权基本情况!C320","v":"无锡三阳银辉房地产开发有限公司"},{"$f":"[1]债权基本情况!D320","v":{"v":3165.230234,"d":"3165.23"}},{"$f":"[1]债权基本情况!E320","v":{"v":0,"d":"0.00"}},{"$f":"[1]Sheet7!F301","v":"黄耀清、蔡惠珠"}]
[{"$f":"[1]债权基本情况!A321","v":320},"无锡",{"$f":"[1]债权基本情况!C321","v":"江苏合力金属结构工程有限公司"},{"$f":"[1]债权基本情况!D321","v":{"v":1293.07225751063,"d":"1293.07"}},{"$f":"[1]债权基本情况!E321","v":{"v":660.883002906825,"d":"660.88"}},{"$f":"[1]Sheet7!F302","v":"江苏朗基置业发展有限公司、何荣平、陈勤芳、何沁钊、李思娴"}]
[{"$f":"[1]债权基本情况!A322","v":321},"无锡",{"$f":"[1]债权基本情况!C322","v":"江阴东宏时装有限公司"},{"$f":"[1]债权基本情况!D322","v":{"v":819.958228,"d":"819.96"}},{"$f":"[1]债权基本情况!E322","v":{"v":2594.46464549481,"d":"2594.46"}},{"$f":"[1]Sheet7!F303","v":"蒋红军"}]
[{"$f":"[1]债权基本情况!A323","v":322},"无锡",{"$f":"[1]债权基本情况!C323","v":"无锡西姆莱斯石油专用管制造有限公司"},{"$f":"[1]债权基本情况!D323","v":{"v":20716.792095,"d":"20716.79"}},{"$f":"[1]债权基本情况!E323","v":{"v":1827.343005,"d":"1827.34"}},{"$f":"[1]Sheet7!F304","v":"朴龙华、董艳萍"},{"$f":"[1]Sheet7!G304","v":"抵债资产为债务人股权及相关对外债权，以实际情况为准"}]
[{"$f":"[1]债权基本情况!A324","v":323},"常州",{"$f":"[1]债权基本情况!C324","v":"江苏天顺控股有限公司"},{"$f":"[1]债权基本情况!D324","v":{"v":4126.407618,"d":"4126.41"}},{"$f":"[1]债权基本情况!E324","v":{"v":0,"d":"0.00"}},{"$f":"[1]Sheet7!F305","v":"常州市金尔润商贸有限公司、常州昊成房地产有限公司"}]
[{"$f":"[1]债权基本情况!A325","v":324},"常州",{"$f":"[1]债权基本情况!C325","v":"常州九环商贸有限公司"},{"$f":"[1]债权基本情况!D325","v":{"v":4999.999184,"d":"5000.00"}},{"$f":"[1]债权基本情况!E325","v":{"v":141.375816,"d":"141.38"}},{"$f":"[1]Sheet7!F306","v":"江苏天顺控股有限公司、常州昊成房地产有限公司"}]
[{"$f":"[1]债权基本情况!A326","v":325},"常州",{"$f":"[1]债权基本情况!C326","v":"常州九洲装饰工程有限公司"},{"$f":"[1]债权基本情况!D326","v":{"v":4999.999317,"d":"5000.00"}},{"$f":"[1]债权基本情况!E326","v":{"v":141.375,"d":"141.38"}},{"$f":"[1]Sheet7!F307","v":"江苏天顺控股有限公司、常州昊成房地产有限公司"}]
[{"$f":"[1]债权基本情况!A327","v":326},"常州",{"$f":"[1]债权基本情况!C327","v":"常州市格雷特干燥设备有限公司"},{"$f":"[1]债权基本情况!D327","v":{"v":4989.50138,"d":"4989.50"}},{"$f":"[1]债权基本情况!E327","v":{"v":153.872978,"d":"153.87"}},{"$f":"[1]Sheet7!F308","v":"常州昊成房地产有限公司、常州市双雄油脂有限公司"}]
[{"$f":"[1]债权基本情况!A328","v":327},"常州",{"$f":"[1]债权基本情况!C328","v":"常州市双雄油脂有限公司"},{"$f":"[1]债权基本情况!D328","v":{"v":2660.97125,"d":"2660.97"}},{"$f":"[1]债权基本情况!E328","v":{"v":0,"d":"0.00"}},{"$f":"[1]Sheet7!F309","v":"江苏天顺控股有限公司、常州昊成房地产有限公司"}]
[{"$f":"[1]债权基本情况!A329","v":328},"常州",{"$f":"[1]债权基本情况!C329","v":"常州帝欧国际贸易有限公司"},{"$f":"[1]债权基本情况!D329","v":{"v":5000,"d":"5000.00"}},{"$f":"[1]债权基本情况!E329","v":{"v":446.947352,"d":"446.95"}},{"$f":"[1]Sheet7!F310","v":"江苏天顺控股有限公司、常州昊成房地产有限公司"}]
[{"$f":"[1]债权基本情况!A330","v":329},"常州",{"$f":"[1]债权基本情况!C330","v":"常州市物协商贸有限公司"},{"$f":"[1]债权基本情况!D330","v":{"v":4034.240352,"d":"4034.24"}},{"$f":"[1]债权基本情况!E330","v":{"v":0,"d":"0.00"}},{"$f":"[1]Sheet7!F311","v":"常州昊成房地产有限公司"}]
[{"$f":"[1]债权基本情况!A331","v":330},"常州",{"$f":"[1]债权基本情况!C331","v":"常州隽顺贸易有限公司"},{"$f":"[1]债权基本情况!D331","v":{"v":810.6235,"d":"810.62"}},{"$f":"[1]债权基本情况!E331","v":{"v":14.080292,"d":"14.08"}},{"$f":"[1]Sheet7!F312","v":"常州昇恺商贸有限公司"}]
[{"$f":"[1]债权基本情况!A332","v":331},"常州",{"$f":"[1]债权基本情况!C332","v":"常州淘化商贸有限公司"},{"$f":"[1]债权基本情况!D332","v":{"v":300,"d":"300.00"}},{"$f":"[1]债权基本情况!E332","v":{"v":11.025639,"d":"11.03"}},{"$f":"[1]Sheet7!F313","v":"常州帝欧国际贸易有限公司"}]
[{"$f":"[1]债权基本情况!A333","v":332},"南京",{"$f":"[1]债权基本情况!C333","v":"中电电气（江苏）股份有限公司"},{"$f":"[1]债权基本情况!D333","v":{"v":7458.172218,"d":"7458.17"}},{"$f":"[1]债权基本情况!E333","v":{"v":5299.518093,"d":"5299.52"}},{"$f":"[1]Sheet7!F314","v":"中电电气集团有限公司、陆廷秀"}]
[{"$f":"[1]债权基本情况!A334","v":333},"南京",{"$f":"[1]债权基本情况!C334","v":"中电电气（南京）半导体材料有限公司"},{"$f":"[1]债权基本情况!D334","v":{"v":4524.682989,"d":"4524.68"}},{"$f":"[1]债权基本情况!E334","v":{"v":3063.547816,"d":"3063.55"}},{"$f":"[1]Sheet7!F315","v":"中电电气集团有限公司、陆廷秀"}]
[{"$f":"[1]债权基本情况!A335","v":334},"南京",{"$f":"[1]债权基本情况!C335","v":"中电电气（南京）特种变压器有限公司"},{"$f":"[1]债权基本情况!D335","v":{"v":4301.105061,"d":"4301.11"}},{"$f":"[1]债权基本情况!E335","v":{"v":2590.962264,"d":"2590.96"}},{"$f":"[1]Sheet7!F316","v":"中电电气集团有限公司、陆廷秀（股权都是儿子名下）"}]
[{"$f":"[1]债权基本情况!A336","v":335},"南京",{"$f":"[1]债权基本情况!C336","v":"江苏汇鸿同源进出口有限公司"},{"$f":"[1]债权基本情况!D336","v":{"v":850,"d":"850.00"}},{"$f":"[1]债权基本情况!E336","v":{"v":289.731985,"d":"289.73"}}]
[{"$f":"[1]债权基本情况!A337","v":336},"南京",{"$f":"[1]债权基本情况!C337","v":"江苏江北农副产品市场管理有限公司"},{"$f":"[1]债权基本情况!D337","v":{"v":491.81114,"d":"491.81"}},{"$f":"[1]债权基本情况!E337","v":{"v":119.532819,"d":"119.53"}},{"$f":"[1]Sheet7!F318","v":"江苏华侨房地产开发有限公司"}]
[{"$f":"[1]债权基本情况!A338","v":337},"南京",{"$f":"[1]债权基本情况!C338","v":"江苏绿色世界广告有限公司"},{"$f":"[1]债权基本情况!D338","v":{"v":82.0399,"d":"82.04"}},{"$f":"[1]债权基本情况!E338","v":{"v":106.44932,"d":"106.45"}},{"$f":"[1]Sheet7!F319","v":"颜飞"},{"$f":"[1]Sheet7!G319","v":"（1）童爱萍名下位于南京市六合区雄州镇方州花园8幢2单元401室住宅，建筑面积154.69㎡，权利价值94万。\n（2）童敏、王轶名下位于南京市六合区雄州街道棠城西路180号5幢2单元303室住宅，建筑面积113.44㎡，权利价值94万元。                                                                                                                      （3）江苏绿色世界广告有限公司用于质押的自2023年1月15日至2013年11月12日期间的应收账款。"}]
[{"$f":"[1]债权基本情况!A339","v":338},"南京",{"$f":"[1]债权基本情况!C339","v":"江苏迈斯克食品有限公司"},{"$f":"[1]债权基本情况!D339","v":{"v":1916.053445,"d":"1916.05"}},{"$f":"[1]债权基本情况!E339","v":{"v":0,"d":"0.00"}},{"$f":"[1]Sheet7!F320","v":"江苏大厚实业发展有限公司，赵立庆"}]
[{"$f":"[1]债权基本情况!A340","v":339},"南京",{"$f":"[1]债权基本情况!C340","v":"江苏中建科技实业有限公司"},{"$f":"[1]债权基本情况!D340","v":187.84},{"$f":"[1]债权基本情况!E340","v":{"v":673.901419,"d":"673.90"}},{"$f":"[1]Sheet7!F321","v":"韩武先、蒋萍、徐州金陵置业有限公司"}]
[{"$f":"[1]债权基本情况!A341","v":340},"南京",{"$f":"[1]债权基本情况!C341","v":"南京海雅建筑装饰工程有限公司"},{"$f":"[1]债权基本情况!D341","v":{"v":970.3,"d":"970.30"}},{"$f":"[1]债权基本情况!E341","v":{"v":956.036289,"d":"956.04"}},{"$f":"[1]Sheet7!F322","v":"郑开超、黄门颖、曹锦冬、葛俊芬"}]
[{"$f":"[1]债权基本情况!A342","v":341},"南京",{"$f":"[1]债权基本情况!C342","v":"南京宁恒能源开发有限公司"},{"$f":"[1]债权基本情况!D342","v":{"v":585.892356,"d":"585.89"}},{"$f":"[1]债权基本情况!E342","v":{"v":1748.3999,"d":"1748.40"}},{"$f":"[1]Sheet7!F323","v":"韩武先，蒋萍"}]
[{"$f":"[1]债权基本情况!A343","v":342},"南京",{"$f":"[1]债权基本情况!C343","v":"江苏汇中戈特尔空调有限公司"},{"$f":"[1]债权基本情况!D343","v":1264.83},{"$f":"[1]债权基本情况!E343","v":{"v":3124.081472,"d":"3124.08"}},{"$f":"[1]Sheet7!F324","v":"江苏天亿实业集团有限公司，蒋国北"},{"$f":"[1]Sheet7!G324","v":"江苏天亿实业集团有限公司 名下的位于南京市鼓楼区山西路67号106（建筑面积617.83㎡）、205室商业房地产（建筑面积1036.49㎡），权利价值合计3400万元。"}]
[{"$f":"[1]债权基本情况!A344","v":343},"南京",{"$f":"[1]债权基本情况!C344","v":"江苏天亿实业集团有限公司"},{"$f":"[1]债权基本情况!D344","v":{"v":1333.555454,"d":"1333.56"}},{"$f":"[1]债权基本情况!E344","v":{"v":2805.879875,"d":"2805.88"}},{"$f":"[1]Sheet7!F325","v":"蒋国北"}]
[{"$f":"[1]债权基本情况!A345","v":344},"南京",{"$f":"[1]债权基本情况!C345","v":"中电电气（南京）光伏有限公司"},{"$f":"[1]债权基本情况!D345","v":{"v":4999.5,"d":"4999.50"}},{"$f":"[1]债权基本情况!E345","v":{"v":1578.883186,"d":"1578.88"}},{"$f":"[1]Sheet7!F326","v":"中电电气集团有限公司、陆廷秀、施桂兰"}]
[{"$f":"[1]债权基本情况!A346","v":345},"南京",{"$f":"[1]债权基本情况!C346","v":"南京久隆建安工程有限公司"},{"$f":"[1]债权基本情况!D346","v":{"v":2998.55832,"d":"2998.56"}},{"$f":"[1]债权基本情况!E346","v":{"v":2848.53922657936,"d":"2848.54"}},{"$f":"[1]Sheet7!F327","v":"徐州久隆集团房地产开发有限公司、夏一中、王瑜"},{"$f":"[1]Sheet7!G327","v":"徐州久隆集团房地产开发有限公司名下位于徐州市鼓楼区大马路17号东方红大厦1j01（建筑面积1418.71㎡）、201（建筑面积1882.26㎡）、301（建筑面积1927.79㎡）商业房地产，权利价值合计3600万元。"}]
[{"$f":"[1]债权基本情况!A347","v":346},"泰州",{"$f":"[1]债权基本情况!C347","v":"江苏盛年机械制造有限公司"},{"$f":"[1]债权基本情况!D347","v":{"v":700,"d":"700.00"}},{"$f":"[1]债权基本情况!E347","v":{"v":658.258611,"d":"658.26"}},{"$f":"[1]Sheet7!F328","v":"李年成、穆惠华"},{"$f":"[1]Sheet7!G328","v":"江苏盛年机械制造有限公司名下位于泰州市高港区白马镇工业园区的工业房地产，土地使用权面积4918㎡，房产建筑面积1681.44㎡"}]
[{"$f":"[1]债权基本情况!A348","v":347},"泰州",{"$f":"[1]债权基本情况!C348","v":"江苏港华船业有限公司"},{"$f":"[1]债权基本情况!D348","v":1999.03},{"$f":"[1]债权基本情况!E348","v":{"v":2908.806311,"d":"2908.81"}},{"$f":"[1]Sheet7!F329","v":"李年华、曹兴洪"}]
[{"$f":"[1]债权基本情况!A349","v":348},"泰州",{"$f":"[1]债权基本情况!C349","v":"兴化市华宇新型建筑材料厂"},{"$f":"[1]债权基本情况!D349","v":{"v":199.99811,"d":"200.00"}},{"$f":"[1]债权基本情况!E349","v":{"v":396.548711,"d":"396.55"}},{"$f":"[1]Sheet7!F330","v":"泰州市宇新机械有限公司、刘华明、赵红梅"}]
[{"$f":"[1]债权基本情况!A350","v":349},"泰州",{"$f":"[1]债权基本情况!C350","v":"江苏九胜特钢制品有限公司"},{"$f":"[1]债权基本情况!D350","v":{"v":500,"d":"500.00"}},{"$f":"[1]债权基本情况!E350","v":{"v":387.996241,"d":"388.00"}},{"$f":"[1]Sheet7!F331","v":"甄永红、葛长胜"}]
[{"$f":"[1]债权基本情况!A351","v":350},"泰州",{"$f":"[1]债权基本情况!C351","v":"江苏京泰建设工程有限公司"},{"$f":"[1]债权基本情况!D351","v":{"v":1300,"d":"1300.00"}},{"$f":"[1]债权基本情况!E351","v":{"v":1067.1322513588,"d":"1067.13"}},{"$f":"[1]Sheet7!F332","v":"吉阳平、许银华"}]
[{"$f":"[1]债权基本情况!A352","v":351},"泰州",{"$f":"[1]债权基本情况!C352","v":"靖江市申特贸易有限公司"},{"$f":"[1]债权基本情况!D352","v":{"v":2100,"d":"2100.00"}},{"$f":"[1]债权基本情况!E352","v":{"v":2161.566754,"d":"2161.57"}},{"$f":"[1]Sheet7!F333","v":"江苏华宇能源集团有限公司、江苏全福农牧实业有限公司、江苏新时代控股集团有限公司、江苏腾祥金属材料有限公司、江苏港华能源有限公司、史亚平、俞仲玉、卢萍"},{"$f":"[1]Sheet7!G333","v":"溧阳丰联置业发展有限公司所有的商业房地产，位于溧城镇西大街123号516室，房产面积为3586.85㎡，土地面积为562.60㎡。"}]
[{"$f":"[1]债权基本情况!A353","v":352},"泰州",{"$f":"[1]债权基本情况!C353","v":"靖江市恒大燃料有限公司"},{"$f":"[1]债权基本情况!D353","v":{"v":911.037987,"d":"911.04"}},{"$f":"[1]债权基本情况!E353","v":{"v":1003.864998,"d":"1003.86"}},{"$f":"[1]Sheet7!F334","v":"江苏华宇能源集团有限公司、江苏腾祥金属材料有限公司、江苏新时代控股集团有限公司、江苏全福农牧实业有限公司、江苏港华能源有限公司、靖江市申特贸易有限公司、靖江市天港码头有限公司、俞仲玉、卢萍、贾金虎、苏秀凤"}]
[{"$f":"[1]债权基本情况!A354","v":353},"泰州",{"$f":"[1]债权基本情况!C354","v":"江苏腾祥金属材料有限公司"},{"$f":"[1]债权基本情况!D354","v":{"v":1979.63888,"d":"1979.64"}},{"$f":"[1]债权基本情况!E354","v":{"v":2178.479944,"d":"2178.48"}},{"$f":"[1]Sheet7!F335","v":"江苏华宇能源集团有限公司、江苏新时代控股集团有限公司、江苏全福农牧实业有限公司、江苏港华能源有限公司、靖江市恒大燃料有限公司、靖江市申特贸易有限公司、靖江市天港码头有限公司、俞仲玉、卢萍、顾海宾、徐东方"}]
[{"$f":"[1]债权基本情况!A355","v":354},"扬州",{"$f":"[1]债权基本情况!C355","v":"江苏双兔食品股份有限公司"},{"$f":"[1]债权基本情况!D355","v":{"v":1633.4,"d":"1633.40"}},{"$f":"[1]债权基本情况!E355","v":{"v":1023.542981,"d":"1023.54"}},{"$f":"[1]Sheet7!F336","v":"徐卫东、王红霞、徐添、江苏加多宝食品有限公司"}]
[{"$f":"[1]债权基本情况!A356","v":355},"扬州",{"$f":"[1]债权基本情况!C356","v":"扬州亚联钢管有限公司"},{"$f":"[1]债权基本情况!D356","v":{"v":1500,"d":"1500.00"}},{"$f":"[1]债权基本情况!E356","v":{"v":916.481272,"d":"916.48"}},{"$f":"[1]Sheet7!F337","v":"汉枫缓释肥料（江苏）有限公司、徐霞"}]
[{"$f":"[1]债权基本情况!A357","v":356},"扬州",{"$f":"[1]债权基本情况!C357","v":"扬州市苏星冶金机械有限公司"},{"$f":"[1]债权基本情况!D357","v":{"v":688.983225,"d":"688.98"}},{"$f":"[1]债权基本情况!E357","v":{"v":72.470425,"d":"72.47"}},{"$f":"[1]Sheet7!F338","v":"扬州都莎羽绒制品有限公司、扬州市天铭商贸有限公司"}]
[{"$f":"[1]债权基本情况!A358","v":357},"连云港",{"$f":"[1]债权基本情况!C358","v":"连云港市伟拓贸易有限公司"},{"$f":"[1]债权基本情况!D358","v":{"v":467.889686,"d":"467.89"}},{"$f":"[1]债权基本情况!E358","v":{"v":1593.82385804724,"d":"1593.82"}},{"$f":"[1]Sheet7!F339","v":"连云港远泰投资担保有限公司、连云港千业贸易有限公司、杨华玲、王其田"}]
[{"$f":"[1]债权基本情况!A359","v":358},"连云港",{"$f":"[1]债权基本情况!C359","v":"连云港天易计算机网络有限公司"},{"$f":"[1]债权基本情况!D359","v":{"v":147.361845424913,"d":"147.36"}},{"$f":"[1]债权基本情况!E359","v":{"v":65.9073536725455,"d":"65.91"}},{"$f":"[1]Sheet7!F340","v":"魏军、孙旸"}]
[{"$f":"[1]债权基本情况!A360","v":359},"连云港",{"$f":"[1]债权基本情况!C360","v":"连云港聚月照明电器销售有限公司 "},{"$f":"[1]债权基本情况!D360","v":{"v":529.929493,"d":"529.93"}},{"$f":"[1]债权基本情况!E360","v":{"v":811.071674453949,"d":"811.07"}},{"$f":"[1]Sheet7!F341","v":"中浦建设(集团)有限公司、江苏顺泰建筑安装工程有限公司、胥涛"}]
[{"$f":"[1]债权基本情况!A361","v":360},"连云港",{"$f":"[1]债权基本情况!C361","v":"连云港惠尔佳门窗幕墙有限公司"},{"$f":"[1]债权基本情况!D361","v":{"v":371.864261,"d":"371.86"}},{"$f":"[1]债权基本情况!E361","v":{"v":575.160396218546,"d":"575.16"}},{"$f":"[1]Sheet7!F342","v":"连云港远泰投资担保有限公司、江苏惠宇玻璃有限公司、及徐树平、黄霞、江苏荣生工程机械有限公司"}]
[{"$f":"[1]债权基本情况!A362","v":361},"连云港",{"$f":"[1]债权基本情况!C362","v":"江苏满孚矿产资源有限公司"},{"$f":"[1]债权基本情况!D362","v":{"v":7513.809996,"d":"7513.81"}},{"$f":"[1]债权基本情况!E362","v":{"v":7223.234779,"d":"7223.23"}},{"$f":"[1]Sheet7!F343","v":"俊安（天津）实业有限公司、俊安（中国）投资有限公司、山西平型关铁矿有限公司、崔栋、蔡穗新"}]
[{"$f":"[1]债权基本情况!A363","v":362},"淮安",{"$f":"[1]债权基本情况!C363","v":"金湖昊华新型塑料材料制造有限公司"},{"$f":"[1]债权基本情况!D363","v":{"v":150,"d":"150.00"}},{"$f":"[1]债权基本情况!E363","v":{"v":93.7112049338182,"d":"93.71"}},{"$f":"[1]Sheet7!F344","v":"张婷婷，吴昊、马义兰，杨永乐、江苏昊华精细化工有限公司"},{"$f":"[1]Sheet7!G344","v":"抵押物为机器设备，以现场尽调情况为准"}]
[{"$f":"[1]债权基本情况!A364","v":363},"淮安",{"$f":"[1]债权基本情况!C364","v":"江苏昊华精细化工有限公司"},{"$f":"[1]债权基本情况!D364","v":{"v":805.404633,"d":"805.40"}},{"$f":"[1]债权基本情况!E364","v":{"v":401.101794,"d":"401.10"}},{"$f":"[1]Sheet7!F345","v":"江苏祥泽实业有限公司、吴昊，张婷婷、马义兰，杨永乐"}]
[{"$f":"[1]债权基本情况!A365","v":364},"宿迁",{"$f":"[1]债权基本情况!C365","v":"泗洪县宏远木业厂"},{"$f":"[1]债权基本情况!D365","v":{"v":202.901206422664,"d":"202.90"}},{"$f":"[1]债权基本情况!E365","v":{"v":87.2893903114021,"d":"87.29"}},{"$f":"[1]Sheet7!F346","v":"戴勇，周克梅"}]
[{"$f":"[1]债权基本情况!A366","v":365},"徐州",{"$f":"[1]债权基本情况!C366","v":"徐州朝阳集团有限责任公司"},{"$f":"[1]债权基本情况!D366","v":{"v":2786.9593,"d":"2786.96"}},{"$f":"[1]债权基本情况!E366","v":{"v":3135.67234806197,"d":"3135.67"}},{"$f":"[1]Sheet7!F347","v":"花金梅"},{"$f":"[1]Sheet7!G347","v":"借款人名下复兴北路朝阳贵邦1-01、徐州市复兴北路14号（朝阳市场二期三段）-3层房产抵押，面积合计8306.58平方米。"}]
[{"$f":"[1]债权基本情况!A367","v":366},"徐州",{"$f":"[1]债权基本情况!C367","v":"徐州成海面业有限公司"},{"$f":"[1]债权基本情况!D367","v":{"v":294.4389,"d":"294.44"}},{"$f":"[1]债权基本情况!E367","v":{"v":765.451496103011,"d":"765.45"}},{"$f":"[1]Sheet7!F348","v":"代现成，徐州隆康农业科技有限公司"},{"$f":"[1]Sheet7!G348","v":"成海名下位于郑集镇代楼村322路东的机器设备抵押，以现场尽调情况为准"}]
[{"$f":"[1]债权基本情况!A368","v":367},"徐州",{"$f":"[1]债权基本情况!C368","v":"徐州市华厦商品混凝土有限公司"},{"$f":"[1]债权基本情况!D368","v":{"v":1857.601506,"d":"1857.60"}},{"$f":"[1]债权基本情况!E368","v":{"v":1257.09260775832,"d":"1257.09"}},{"$f":"[1]Sheet7!F349","v":"徐州德客乐装饰用品有限公司、江苏华厦融创置地集团有限公司、董现君"},{"$f":"[1]Sheet7!G349","v":"抵押物为3台混凝土车，以现场尽调情况为准"}]
[{"$f":"[1]债权基本情况!A369","v":368},"徐州",{"$f":"[1]债权基本情况!C369","v":"江苏国基沃华贸易有限公司"},{"$f":"[1]债权基本情况!D369","v":{"v":2000,"d":"2000.00"}},{"$f":"[1]债权基本情况!E369","v":{"v":2579.25489218458,"d":"2579.25"}},{"$f":"[1]Sheet7!F350","v":"徐州德客乐装饰用品有限公司、江苏华厦融创置地集团有限公司、董现君"}]
[{"$f":"[1]债权基本情况!A370","v":369},"徐州",{"$f":"[1]债权基本情况!C370","v":"徐州华泰电力能源有限公司"},{"$f":"[1]债权基本情况!D370","v":{"v":361.480022,"d":"361.48"}},{"$f":"[1]债权基本情况!E370","v":{"v":832.714954463524,"d":"832.71"}},{"$f":"[1]Sheet7!F351","v":"徐州海恒彩塑包装有限公司、曹文学、孙天真"}]
[{"$f":"[1]债权基本情况!A371","v":370},"徐州",{"$f":"[1]债权基本情况!C371","v":"徐州维信汽车服务有限责任公司"},{"$f":"[1]债权基本情况!D371","v":{"v":389.998512,"d":"390.00"}},{"$f":"[1]债权基本情况!E371","v":{"v":231.646284,"d":"231.65"}},{"$f":"[1]Sheet7!F352","v":"徐州新世界汽车销售有限公司、徐州星辉汽车销售服务有限公司、孟宪勤、苗玉平、徐州新世界置业有限公司"}]
[{"$f":"[1]债权基本情况!A372","v":371},"徐州",{"$f":"[1]债权基本情况!C372","v":"徐州双乾炉料有限公司"},{"$f":"[1]债权基本情况!D372","v":{"v":749.990336,"d":"749.99"}},{"$f":"[1]债权基本情况!E372","v":{"v":409.617361440124,"d":"409.62"}},{"$f":"[1]Sheet7!F353","v":"江苏增荣机械制造有限公司、权太增、厉芹"}]
[{"$f":"[1]债权基本情况!A373","v":372},"徐州",{"$f":"[1]债权基本情况!C373","v":"徐州冠庆创大机械铸造有限公司"},{"$f":"[1]债权基本情况!D373","v":{"v":1199.594747,"d":"1199.59"}},{"$f":"[1]债权基本情况!E373","v":{"v":3275.36833940309,"d":"3275.37"}},{"$f":"[1]Sheet7!F354","v":"丁芳,李涛,张美丽,王根庆"}]
[{"$f":"[1]债权基本情况!A374","v":373},"徐州",{"$f":"[1]债权基本情况!C374","v":"徐州汉龙金属材料有限公司"},{"$f":"[1]债权基本情况!D374","v":{"v":7499.822546,"d":"7499.82"}},{"$f":"[1]债权基本情况!E374","v":{"v":10980.2592322883,"d":"10980.26"}},{"$f":"[1]Sheet7!F355","v":"江苏天地龙集团有限公司,潘迎九,蒋加平，江苏赛龙置业有限公司"}]
[{"$f":"[1]债权基本情况!A375","v":374},"徐州",{"$f":"[1]债权基本情况!C375","v":"江苏省迈达重钢结构股份有限公司"},{"$f":"[1]债权基本情况!D375","v":{"v":2999.486053,"d":"2999.49"}},{"$f":"[1]债权基本情况!E375","v":{"v":1261.67748223073,"d":"1261.68"}},{"$f":"[1]Sheet7!F356","v":"江苏鑫路通物资贸易有限公司、江苏永鹏科技实业有限公司、徐州市鑫桥工程机械有限公司,张黎,高洪"}]
[{"$f":"[1]债权基本情况!A376","v":375},"徐州",{"$f":"[1]债权基本情况!C376","v":"徐州金虹锻造有限公司"},{"$f":"[1]债权基本情况!D376","v":{"v":2500,"d":"2500.00"}},{"$f":"[1]债权基本情况!E376","v":{"v":5184.11887646068,"d":"5184.12"}},{"$f":"[1]Sheet7!F357","v":"徐州金象冶金有限公司,刘钢,郭强,张俊玲,叶举,"}]
[{"$f":"[1]债权基本情况!A377","v":376},"徐州",{"$f":"[1]债权基本情况!C377","v":"江苏恒辉玻璃科技有限公司"},{"$f":"[1]债权基本情况!D377","v":{"v":1900,"d":"1900.00"}},{"$f":"[1]债权基本情况!E377","v":{"v":4353.78077401826,"d":"4353.78"}},{"$f":"[1]Sheet7!F358","v":"徐州汇通钢结构工程有限公司,陈晓峰,徐秀奇"}]
[{"$f":"[1]债权基本情况!A378","v":377},"徐州",{"$f":"[1]债权基本情况!C378","v":"徐州良羽科技有限公司"},{"$f":"[1]债权基本情况!D378","v":{"v":1479.05995,"d":"1479.06"}},{"$f":"[1]债权基本情况!E378","v":{"v":0,"d":"0.00"}},{"$f":"[1]Sheet7!F359","v":"徐州天地重型机械制造有限公司，吴强,魏宝珍"}]
[{"$f":"[1]债权基本情况!A379","v":378},"徐州",{"$f":"[1]债权基本情况!C379","v":"徐州市宝树木业有限公司"},{"$f":"[1]债权基本情况!D379","v":{"v":800,"d":"800.00"}},{"$f":"[1]债权基本情况!E379","v":{"v":404.600897998283,"d":"404.60"}},{"$f":"[1]Sheet7!F360","v":"徐州清华蒜业有限公司、邳州市宝蓝蒜业有限公司,谢青山,韩召苹"}]
[{"$f":"[1]债权基本情况!A380","v":379},"徐州",{"$f":"[1]债权基本情况!C380","v":"徐州锦润纺织有限公司"},{"$f":"[1]债权基本情况!D380","v":{"v":300,"d":"300.00"}},{"$f":"[1]债权基本情况!E380","v":{"v":424.015699,"d":"424.02"}},{"$f":"[1]Sheet7!F361","v":"沛县东阳机电设备有限公司，宋玉全,姚树侠"}]
[{"$f":"[1]债权基本情况!A381","v":380},"南通",{"$f":"[1]债权基本情况!C381","v":"南通东大商贸发展有限公司"},{"$f":"[1]债权基本情况!D381","v":{"v":4474.995616,"d":"4475.00"}},{"$f":"[1]债权基本情况!E381","v":{"v":2826.59083735552,"d":"2826.59"}},{"$f":"[1]Sheet7!F362","v":"单正馨、沈继业"},{"$f":"[1]Sheet7!G362","v":"1、南通东大商贸发展有限公司名下位于金沙镇开发区果园社区5组B、C幢房地产的商业房地产，建筑面积4839.70㎡；\n2、南通东大商贸发展有限公司名下位于金沙镇育才花苑B区的商业房地产，建筑面积714.57㎡。"}]
[{"$f":"[1]债权基本情况!A382","v":381},"南通",{"$f":"[1]债权基本情况!C382","v":"南通蛟龙重工发展有限公司"},{"$f":"[1]债权基本情况!D382","v":{"v":3000,"d":"3000.00"}},{"$f":"[1]债权基本情况!E382","v":{"v":568.981249,"d":"568.98"}},{"$f":"[1]Sheet7!F363","v":"南通中瑞重工科技有限公司、江苏蛟龙重工集团有限公司、徐国华、徐建"}]
[{"$f":"[1]债权基本情况!A383","v":382},"南通",{"$f":"[1]债权基本情况!C383","v":"亚洲新能源（中国）有限公司"},{"$f":"[1]债权基本情况!D383","v":{"v":2500,"d":"2500.00"}},{"$f":"[1]债权基本情况!E383","v":{"v":1702.419604,"d":"1702.42"}},{"$f":"[1]Sheet7!F364","v":"海科工业有限公司、亚洲新能源南通有限公司、南通蛟龙重工发展有限公司、南通中瑞重工科技有限公司、徐国华、徐建"}]
[{"$f":"[1]债权基本情况!A384","v":383},"南通",{"$f":"[1]债权基本情况!C384","v":"亚洲新能源（中国）有限公司"},{"$f":"[1]债权基本情况!D384","v":{"v":4000,"d":"4000.00"}},{"$f":"[1]债权基本情况!E384","v":{"v":2181.381202,"d":"2181.38"}},{"$f":"[1]Sheet7!F365","v":"南通蛟龙重工海洋工程有限公司、徐国华、孙金兰、徐建、赵婷婷                    "}]
[{"$f":"[1]债权基本情况!A385","v":384},"南通",{"$f":"[1]债权基本情况!C385","v":"南通蛟龙重工发展有限公司"},{"$f":"[1]债权基本情况!D385","v":{"v":3998.378295,"d":"3998.38"}},{"$f":"[1]债权基本情况!E385","v":{"v":0,"d":"0.00"}},{"$f":"[1]Sheet7!F366","v":"南通蛟龙重工海洋工程有限公司、徐国华、孙金兰、徐建、赵婷婷                    "}]
[{"$f":"[1]债权基本情况!A386","v":385},"南通",{"$f":"[1]债权基本情况!C386","v":"如东东盛包装有限公司"},{"$f":"[1]债权基本情况!D386","v":{"v":142,"d":"142.00"}},{"$f":"[1]债权基本情况!E386","v":{"v":49.212492,"d":"49.21"}},{"$f":"[1]Sheet7!F367","v":"顾珺、葛剑军"}]
[{"$f":"[1]债权基本情况!A387","v":386},"南通",{"$f":"[1]债权基本情况!C387","v":"江苏绘天建设集团有限公司"},{"$f":"[1]债权基本情况!D387","v":{"v":1399.999,"d":"1400.00"}},{"$f":"[1]债权基本情况!E387","v":{"v":1946.94229414866,"d":"1946.94"}},{"$f":"[1]Sheet7!F368","v":"郭继平、张剑萍"}]
[{"$f":"[1]债权基本情况!A388","v":387},"镇江",{"$f":"[1]债权基本情况!C388","v":"丹阳开琳家居有限公司"},{"$f":"[1]债权基本情况!D388","v":{"v":3990.773275,"d":"3990.77"}},{"$f":"[1]债权基本情况!E388","v":{"v":4938.938693,"d":"4938.94"}},{"$f":"[1]Sheet7!F369","v":"朱金国、汪励"},{"$f":"[1]Sheet7!G369","v":"债务人自有的位于丹阳市丹北镇后巷通港路南侧，钢混结构，总层数六层，南北朝向，房产面积20680.30平方米，土地面积13336.9平方米"}]
[{"$f":"[1]债权基本情况!A389","v":388},"镇江",{"$f":"[1]债权基本情况!C389","v":"江苏长丰耐火材料有限公司"},{"$f":"[1]债权基本情况!D389","v":{"v":4932.10642,"d":"4932.11"}},{"$f":"[1]债权基本情况!E389","v":{"v":7674.42031311099,"d":"7674.42"}},{"$f":"[1]Sheet7!F370","v":"中冶东方江苏重工有限公司"},{"$f":"[1]Sheet7!G370","v":"江苏丹工实业总公司名下位于丹阳市后巷镇镇西路工业房地产，厂房面积24579.46㎡，土地面积80217.90㎡"}]
[{"$f":"[1]债权基本情况!A390","v":389},"镇江",{"$f":"[1]债权基本情况!C390","v":"江苏诚信空调设备有限公司"},{"$f":"[1]债权基本情况!D390","v":{"v":3096,"d":"3096.00"}},{"$f":"[1]债权基本情况!E390","v":{"v":6565.49488478079,"d":"6565.49"}},{"$f":"[1]Sheet7!F371","v":"凌国平、王卫红"},{"$f":"[1]Sheet7!G371","v":"抵押物为位于镇江市中山东路18号京凌大厦的1层及8至20层部分房地产，其中1层为商业性质，房产建筑面积1020.92平方米；8至20层为住宅性质，房产建筑面积3948.79平方米。该处资产房产抵押权人为诚信空调，土地抵押权人为凌国平。"}]
[{"$f":"[1]债权基本情况!A391","v":390},"镇江",{"$f":"[1]债权基本情况!C391","v":"镇江威亚达合金制品有限公司"},{"$f":"[1]债权基本情况!D391","v":{"v":248.178557,"d":"248.18"}},{"$f":"[1]债权基本情况!E391","v":{"v":36.4993,"d":"36.50"}},null,{"$f":"[1]Sheet7!G372","v":"第三方抵押人为张立富，抵押物位于扬中市八桥镇富民路的商业用房，面积是554.8平方米，土地面积是221.3平方米，已被裁定抵债"}]
[{"$f":"[1]债权基本情况!A392","v":391},"镇江",{"$f":"[1]债权基本情况!C392","v":"镇江润宸电器有限公司"},{"$f":"[1]债权基本情况!D392","v":{"v":1999.999737,"d":"2000.00"}},{"$f":"[1]债权基本情况!E392","v":{"v":3683.191415,"d":"3683.19"}},null,{"$f":"[1]Sheet7!G373","v":"1、抵押人为第三方的刘恩荣，抵押物位于扬中市三茅镇翠竹北路100号（100号、101号），商业，建筑面积为100.66平方米；\n2、抵押物为第三方的毛月琴，抵押物位于位于扬中市三茅镇江洲西路152-117，152-118，商业，建筑面积是100.66平方米；\n3、抵押物为第三方的刘宸，抵押物位于位于扬中市新坝镇长虹北路63号104室，商业，建筑面积是237.99平方米；\n4、抵押物为第三方的江苏东方华厦房地产开发有限公司所拥有的商铺，抵押物位于位于扬中市三茅街道东城秀锦2A69-2A82、2C04-2C16、2C17、2C18、2C90、2D04、2B01-2B19、2C19-2C22号，商业，建筑面积为899.05平方米"}]
[{"$f":"[1]债权基本情况!A393","v":392},"镇江",{"$f":"[1]债权基本情况!C393","v":"镇江太和商业有限公司"},{"$f":"[1]债权基本情况!D393","v":{"v":2899,"d":"2899.00"}},{"$f":"[1]债权基本情况!E393","v":{"v":4301.026568,"d":"4301.03"}},{"$f":"[1]Sheet7!F374","v":"姚晖、丁祥荣"},{"$f":"[1]Sheet7!G374","v":"抵押人为第三方的镇江和祥商业管理有限公司，抵押物位于镇江中山东路333号401室，商业，建筑面积是4677.13平方米，土地面积是864.6平方米"}]
[{"$f":"[1]债权基本情况!A394","v":393},"镇江",{"$f":"[1]债权基本情况!C394","v":"丹阳市苏中实业有限公司"},{"$f":"[1]债权基本情况!D394","v":{"v":7989.716091,"d":"7989.72"}},{"$f":"[1]债权基本情况!E394","v":{"v":8064.68097753261,"d":"8064.68"}},{"$f":"[1]Sheet7!F375","v":"潘山大、陈秋梅"},{"$f":"[1]Sheet7!G375","v":"1、江苏大山房地产开发公司位于泗洪县泗州大街南侧人民路西侧商用房一层，房产面积：4364.62平方米、土地面积1290.87平方米，为G幢一层；\n2、江苏大山房地产开发公司位于泗洪县泗州大街南侧（第一街），房产面积：440.59平方米、土地面积130.3平方米，为C幢内部商铺"}]
[{"$f":"[1]债权基本情况!A395","v":394},"镇江",{"$f":"[1]债权基本情况!C395","v":"镇江大成重工机械有限公司"},{"$f":"[1]债权基本情况!D395","v":{"v":1400,"d":"1400.00"}},{"$f":"[1]债权基本情况!E395","v":{"v":1685.32257342826,"d":"1685.32"}},{"$f":"[1]Sheet7!F376","v":"谢文彬、于雷"},{"$f":"[1]Sheet7!G376","v":"1、镇江市中山西路108号1幢第1层商业房地产，房产面积839.28平方米，土地面积245.8平方米；\n2、镇江市中山西路108号附楼第4至6层商业房地产，房产面积922.17平方米，土地面积270.1平方米。\n房产面积合计1761.45平方米，土地面积515.9平方米。"}]
[{"$f":"[1]债权基本情况!A396","v":395},"镇江",{"$f":"[1]债权基本情况!C396","v":"江苏加邦电力设备有限公司"},{"$f":"[1]债权基本情况!D396","v":{"v":2000,"d":"2000.00"}},{"$f":"[1]债权基本情况!E396","v":{"v":2305.813339,"d":"2305.81"}},{"$f":"[1]Sheet7!F377","v":"江苏聚龙电力设备有限公司、徐诚、陈亚兰"},{"$f":"[1]Sheet7!G377","v":"1、何纪亮名下位于扬中市三茅街道鸣翠山庄49幢101室商业房地产（建筑面积312.36㎡）。                                                                                  2、何纪亮名下位于扬中市三茅街道鸣翠山庄49幢102室商业房地产（建筑面积275.14㎡）                                                                                                                3、何纪亮名下位于扬中市三茅街道鸣翠山庄52幢101室商业房地产（建筑面积389.31㎡）                                                                                           3处房地产已被裁定抵债"}]
[{"$f":"[1]债权基本情况!A397","v":396},"镇江",{"$f":"[1]债权基本情况!C397","v":"镇江市天韵贸易有限公司"},{"$f":"[1]债权基本情况!D397","v":{"v":1460,"d":"1460.00"}},{"$f":"[1]债权基本情况!E397","v":{"v":1380.571507,"d":"1380.57"}},{"$f":"[1]Sheet7!F378","v":"田星、姚润娴"}]
[{"$f":"[1]债权基本情况!A398","v":397},"镇江",{"$f":"[1]债权基本情况!C398","v":"江苏永兴电力设备有限公司"},{"$f":"[1]债权基本情况!D398","v":{"v":1499.848691,"d":"1499.85"}},{"$f":"[1]债权基本情况!E398","v":{"v":314.175335,"d":"314.18"}},{"$f":"[1]Sheet7!F379","v":"江苏智盛电工设备有限公司、张红俊、曹红卫"}]
[{"$f":"[1]债权基本情况!A399","v":398},"镇江",{"$f":"[1]债权基本情况!C399","v":"丹阳市凯达摩托车配件有限公司"},{"$f":"[1]债权基本情况!D399","v":{"v":1998.483016,"d":"1998.48"}},{"$f":"[1]债权基本情况!E399","v":{"v":1705.60805871237,"d":"1705.61"}},{"$f":"[1]Sheet7!F380","v":"江苏金长江环保汽摩消声器有限公司、彭卫华"}]
[{"$f":"[1]债权基本情况!A400","v":399},"镇江",{"$f":"[1]债权基本情况!C400","v":"江苏丰裕工具有限公司"},{"$f":"[1]债权基本情况!D400","v":{"v":5000,"d":"5000.00"}},{"$f":"[1]债权基本情况!E400","v":{"v":5340.26197905333,"d":"5340.26"}},{"$f":"[1]Sheet7!F381","v":"江苏天工集团有限公司、贾文郁、陈玉梅"}]
[{"$f":"[1]债权基本情况!A401","v":400},"镇江",{"$f":"[1]债权基本情况!C401","v":"江苏华德工程建设有限公司"},{"$f":"[1]债权基本情况!D401","v":{"v":2433.279619,"d":"2433.28"}},{"$f":"[1]债权基本情况!E401","v":{"v":1881.756902,"d":"1881.76"}},{"$f":"[1]Sheet7!F382","v":"丹阳南城城市交通建设投资有限公司"}]
[{"$f":"[1]债权基本情况!A402","v":401},"镇江",{"$f":"[1]债权基本情况!C402","v":"江苏华美制衣有限公司"},{"$f":"[1]债权基本情况!D402","v":{"v":2380,"d":"2380.00"}},{"$f":"[1]债权基本情况!E402","v":{"v":260.522909,"d":"260.52"}},{"$f":"[1]Sheet7!F383","v":"陈国俊、袁冬英"}]
[{"$f":"[1]债权基本情况!A403","v":402},"镇江",{"$f":"[1]债权基本情况!C403","v":"江苏新瑞汽车有限公司"},{"$f":"[1]债权基本情况!D403","v":{"v":5000,"d":"5000.00"}},{"$f":"[1]债权基本情况!E403","v":{"v":2433.71749546728,"d":"2433.72"}},{"$f":"[1]Sheet7!F384","v":"江苏聚力材料科技有限公司（曾用名：江苏天工集团有限公司）、王礼根、朱今瀚、魏屹"}]
[{"$f":"[1]债权基本情况!A404","v":403},"镇江",{"$f":"[1]债权基本情况!C404","v":"镇江正和塑胶有限公司"},{"$f":"[1]债权基本情况!D404","v":{"v":2000,"d":"2000.00"}},{"$f":"[1]债权基本情况!E404","v":{"v":742.229527,"d":"742.23"}},{"$f":"[1]Sheet7!F385","v":"镇江市电站辅机厂有限公司、江苏生美工业技术集团有限公司、赵庆生、唐纪美、赵慧、朱斌"}]
[{"$f":"[1]债权基本情况!A405","v":404},"镇江",{"$f":"[1]债权基本情况!C405","v":"江苏欣隆羽绒有限公司"},{"$f":"[1]债权基本情况!D405","v":{"v":3999.981964,"d":"3999.98"}},{"$f":"[1]债权基本情况!E405","v":{"v":3185.30074966742,"d":"3185.30"}},{"$f":"[1]Sheet7!F386","v":"江苏通达再生资源有限公司、江苏万泰科技股份有限公司、谈爱松、花巧云"}]
[{"$f":"[1]债权基本情况!A406","v":405},"镇江",{"$f":"[1]债权基本情况!C406","v":"丹阳市巨贸康健器材有限公司"},{"$f":"[1]债权基本情况!D406","v":{"v":3990.525021,"d":"3990.53"}},{"$f":"[1]债权基本情况!E406","v":{"v":2345.096834,"d":"2345.10"}},{"$f":"[1]Sheet7!F387","v":"江苏众鑫交通器材有限公司、姚文彬、徐建英"}]
[{"$f":"[1]债权基本情况!A407","v":406},"镇江",{"$f":"[1]债权基本情况!C407","v":"丹阳瑞利汽车部件有限公司"},{"$f":"[1]债权基本情况!D407","v":{"v":1999.902396,"d":"1999.90"}},{"$f":"[1]债权基本情况!E407","v":{"v":1760.25393447976,"d":"1760.25"}},{"$f":"[1]Sheet7!F388","v":"江苏赛驰新能源车业有限公司、谢卫萍、孙立新"}]
[{"$f":"[1]债权基本情况!A408","v":407},"镇江",{"$f":"[1]债权基本情况!C408","v":"丹阳市正大油脂有限公司"},{"$f":"[1]债权基本情况!D408","v":{"v":1991.875362,"d":"1991.88"}},{"$f":"[1]债权基本情况!E408","v":{"v":1203.605771,"d":"1203.61"}},{"$f":"[1]Sheet7!F389","v":"丹阳四达化工有限公司、张文伟、黄正梅"}]
[{"$f":"[1]债权基本情况!A409","v":408},"镇江",{"$f":"[1]债权基本情况!C409","v":"丹阳兴联热电有限公司"},{"$f":"[1]债权基本情况!D409","v":{"v":1800,"d":"1800.00"}},{"$f":"[1]债权基本情况!E409","v":{"v":1409.91397013126,"d":"1409.91"}},{"$f":"[1]Sheet7!F390","v":"江苏天坤集团有限公司、凌云、汤国仙"}]
[{"$f":"[1]债权基本情况!A410","v":409},"镇江",{"$f":"[1]债权基本情况!C410","v":"江苏波隆车业有限公司"},{"$f":"[1]债权基本情况!D410","v":{"v":10530,"d":"10530.00"}},{"$f":"[1]债权基本情况!E410","v":{"v":1840.951016,"d":"1840.95"}},{"$f":"[1]Sheet7!F391","v":"江苏凯旋汽车部件有限公司，何耀华及其配偶"}]
["合计",null,null,{"$f":"SUM(D3:D411)","v":{"v":1128284.65157888,"d":"1128284.65"}},{"$f":"SUM(E3:E411)","v":{"v":814739.961311783,"d":"814739.96"}}]